BEGIN:VCALENDAR
VERSION:2.0
PRODID:-//AVIS Regionale Emilia-Romagna - ECPv6.15.13//NONSGML v1.0//EN
CALSCALE:GREGORIAN
METHOD:PUBLISH
X-ORIGINAL-URL:https://avisemiliaromagna.it
X-WR-CALDESC:Eventi per AVIS Regionale Emilia-Romagna
REFRESH-INTERVAL;VALUE=DURATION:PT1H
X-Robots-Tag:noindex
X-PUBLISHED-TTL:PT1H
BEGIN:VTIMEZONE
TZID:Europe/Rome
BEGIN:DAYLIGHT
TZOFFSETFROM:+0100
TZOFFSETTO:+0200
TZNAME:CEST
DTSTART:20200329T010000
END:DAYLIGHT
BEGIN:STANDARD
TZOFFSETFROM:+0200
TZOFFSETTO:+0100
TZNAME:CET
DTSTART:20201025T010000
END:STANDARD
BEGIN:DAYLIGHT
TZOFFSETFROM:+0100
TZOFFSETTO:+0200
TZNAME:CEST
DTSTART:20210328T010000
END:DAYLIGHT
BEGIN:STANDARD
TZOFFSETFROM:+0200
TZOFFSETTO:+0100
TZNAME:CET
DTSTART:20211031T010000
END:STANDARD
BEGIN:DAYLIGHT
TZOFFSETFROM:+0100
TZOFFSETTO:+0200
TZNAME:CEST
DTSTART:20220327T010000
END:DAYLIGHT
BEGIN:STANDARD
TZOFFSETFROM:+0200
TZOFFSETTO:+0100
TZNAME:CET
DTSTART:20221030T010000
END:STANDARD
END:VTIMEZONE
BEGIN:VEVENT
DTSTART;TZID=Europe/Rome:20210710T190000
DTEND;TZID=Europe/Rome:20210711T233000
DTSTAMP:20260420T015422
CREATED:20210707T180141Z
LAST-MODIFIED:20230117T162703Z
UID:24584-1625943600-1626046200@avisemiliaromagna.it
SUMMARY:5° Memorial “Semplicemente… Pelè”
DESCRIPTION:Baiso: ricordando un amico (Emilio Lanzi)\, aiutiamone altri\nIl 5° Memorial “Semplicemente Pelé” quest’anno non lascia…ma raddoppia. Saranno infatti due le serate in cui si svolgeranno i concerti di beneficenza sotto le stelle del Parco di via Carano (zona campi tennis) di Baiso ovvero sabato 10 e domenica 11 luglio.\nOvviamente le stelle saranno anche sul palco\, pronte a regalarvi allegria e buona musica dal vivo. \n  \nIl programma: \nSABATO 10 LUGLIO\ndalle ore 19.00 stand con birra\, gnocco fritto e salumi \ndalle ore 21.00 musica Live con:\nThe Cock fly\nBastard sons of cover\nI Cugini Verri Good \nDOMENICA 11 LUGLIO\ndalle ore 16.00 stand con birra\, gnocco fritto e salumi \nalle ore 18.00 musica live con:\nMorena Vellani & Friends \nAlle ore 21.00 verrà trasmessa la partita di calcio dell’Italia\, finale degli Europei di calcio \nIngresso gratuito agli spettacoli musicali \nDurante le serate sarà possibile fare un’offerta libera che verrà interamente devoluta per l’acquisto di un sollevatore elettrico per disabili da donare alla Casa di Riposo Giovanni XXIII di Baiso e l’acquisto di attrezzature per il Centro Trasfusionale dell’Ospedale di Scandiano \nper info: 3484083744 \nIn collaborazione con Avis Comunale di Baiso ODV \nLa locandina dell’evento
URL:https://avisemiliaromagna.it/evento/5-memorial-semplicemente-pele/
CATEGORIES:Eventi provinciali e comunali
END:VEVENT
BEGIN:VEVENT
DTSTART;TZID=Europe/Rome:20210715T180000
DTEND;TZID=Europe/Rome:20210715T230000
DTSTAMP:20260420T015422
CREATED:20210708T180145Z
LAST-MODIFIED:20230117T162703Z
UID:24615-1626372000-1626390000@avisemiliaromagna.it
SUMMARY:Reggiolo\, 2ª edizione della Camminata in Rosa
DESCRIPTION:Giovedì 15 luglio nuovo appuntamento con la camminata benefica di 6\,5 km\nVi aspettiamo numerosi giovedì 15 luglio alla seconda edizione di Rosa per Tutti\, camminata di beneficenza il cui ricavato andrà al reparto oncologico dell’ospedale di Guastalla. \nRitrovo ore 19.30 in piazza Martiri a Reggiolo (iscrizioni a partire dalle ore 18.00) \nA seguire musica dal vivo e gnocco fritto dell’associazione AVIS di Reggiolo \nTutti i dettagli nella locandina
URL:https://avisemiliaromagna.it/evento/reggiolo-2a-edizione-della-camminata-in-rosa/
CATEGORIES:Eventi provinciali e comunali
END:VEVENT
BEGIN:VEVENT
DTSTART;TZID=Europe/Rome:20210717T190000
DTEND;TZID=Europe/Rome:20210725T230000
DTSTAMP:20260420T015422
CREATED:20210712T180305Z
LAST-MODIFIED:20230117T162702Z
UID:24665-1626548400-1627254000@avisemiliaromagna.it
SUMMARY:A luglio ripartiamo insieme 2.0!!
DESCRIPTION:Inaugurazione della nuova tensostruttura Avis-Aido presso la Sala delle feste a Ponte Luna\nA luglio 5 appuntamenti culianri inaugureranno la nuova tensostruttura di Avis e Aido presso la Sala delle feste a Ponte Luna\, in via della Chiusa 2/3 a Rubiera \nLe date: Sabato 17 – Domenica 18 – Venerdì 23 – Sabato 24 – Domenica 25 luglio: \nCena a a partire dalle ore 20 – Asporto dalle 19 alle 19.30 \nMenù alla carta: \nCarne\nAntipasto tradizionale\nTortelli verdi al burro\nTortelli di zucca al burro\nSpiedone di carta con patatine\nPesce\nCozze alla tarantina\nInsalata di mare\nRisotto alla pescatora\nSpaghetti alle vongole\nFritto misto con patatine \nPrenotazione obbligatoria fino ad esaurimento posti (anche per asporto) \nPer informazini e prenotazioni: Catozzi Marina 339 8902744 (chiamare dopo le 14.30) \nIn collaborazione con Avis Comunale di Rubiera ODV \nLa locandina degli eventi \n 
URL:https://avisemiliaromagna.it/evento/a-luglio-ripartiamo-insieme-2-0/
CATEGORIES:Eventi provinciali e comunali
END:VEVENT
BEGIN:VEVENT
DTSTART;TZID=Europe/Rome:20210722T200000
DTEND;TZID=Europe/Rome:20210722T200000
DTSTAMP:20260420T015422
CREATED:20210707T131803Z
LAST-MODIFIED:20230117T162702Z
UID:24580-1626984000-1626984000@avisemiliaromagna.it
SUMMARY:Avis Casalecchio di Reno | Festa del Gelato Artigianale
DESCRIPTION: \nGiovedì 22 Luglio\, in occasione della festa del Gelato Artigianale (20- 25 Luglio 2021)\, l’Avis Comunale di Casalecchio di Reno vi aspetta nella propria sede.\nSiete tutti invitati a partecipare\, a partire dalle ore 20:00\, nel cortile della sede Avis in via Porrettana 254 (ex Municipio) a Casalecchio di Reno; crescentine con affettati e formaggi\, gelato offerto dalla Gelateria Tortiamo\, frutta fresca offerta da Ortofrutta Giada. Asporto dalle ore 18:30.\nE’ obbligatoria la prenotazione: 3389203717
URL:https://avisemiliaromagna.it/evento/avis-casalecchio-di-reno-festa-del-gelato-artigianale/
CATEGORIES:Eventi provinciali e comunali
END:VEVENT
BEGIN:VEVENT
DTSTART;TZID=Europe/Rome:20210724T183000
DTEND;TZID=Europe/Rome:20210724T230000
DTSTAMP:20260420T015422
CREATED:20210708T180146Z
LAST-MODIFIED:20230117T162702Z
UID:24618-1627151400-1627167600@avisemiliaromagna.it
SUMMARY:40° AnniversAvis Boretto
DESCRIPTION:L’evento dell’estate è targato Avis Boretto!\nIn occasione del 40° anniversario della sezione è stata organizzata una serata per tornare a festeggiare insieme a voi! \nVi aspettiamo il 24 LUGLIO dalle 18.30 alle 23 presso l’Area del Museo del Po per un fantastico Apericena. \nA farci compagnia durante la serata ci saranno “La strana coppia e Dj Cuccurullo” di Radio Bruno. \nVi chiediamo di PRENOTARE il vostro tavolo contattandoci al numero 339 6816782 (WhatsApp o chiamate) oppure sulle nostre pagine Instagram e Facebook ENTRO il 20 LUGLIO. \nLa partecipazione è aperta a tutti fino ad esaurimento posti. \nDurante la serata diverse associazioni di volontariato borettese parteciperanno con diverse attività.\nI Lettori Volontari narreranno e animeranno una simpatica storia con la fantasia che li contraddistingue: “Il raffreddore di Amos Perbacco” dalle 18.30 alle 19.00..per tutte le età: da 0 a 99+\nIl Cineclub C.Zambelli presenterà “PIXAR sotto le stelle”\, 8 meravigliosi cortometraggi firmati Disney-Pixar dalle 21.30.. incanto garantito! \nN.B. APERICENA OFFERTO per i donatori di Avis Boretto! \nLa pagina facebook di Avis Comunale di Boretto ODV \nLa locandina dell’evento
URL:https://avisemiliaromagna.it/evento/40-anniversavis-boretto/
CATEGORIES:Eventi provinciali e comunali
END:VEVENT
BEGIN:VEVENT
DTSTART;TZID=Europe/Rome:20210724T183000
DTEND;TZID=Europe/Rome:20210725T233000
DTSTAMP:20260420T015422
CREATED:20210719T181741Z
LAST-MODIFIED:20230117T162701Z
UID:24806-1627151400-1627255800@avisemiliaromagna.it
SUMMARY:Avis Bibbiano\, Festa del Donatore!
DESCRIPTION:Il prossimo fine settimana\, sabato 24 e domenica 25 luglio\, l’Avis Comunale di Bibbiano ODV vi aspetta alla Festa del Donatore 2021! \nTanta musica ed ottima cucina! \nDalle 18.30 alle 20 aperitivo sul prato! \n \n\nprenotazione consigliata WhatApp 3463594506\nCon la partecipazione nella giornata di domenica delle atlete di ginnastica e pattinaggio della Polisportiva BibbianeseCena dalle ore 19.00\nMenù alla carta con tortelli verdi e di zucca\, arrosto\, hamburger\, prosciutto e melone\, torta di riso e tanto altroVi aspettiamo numerosi!Parco La Manara\, via San Giovanni Bosco\, 10 – BibbianoInfo: info@avisbibbiano.itLe locandine degli eventi: musica e ristoro
URL:https://avisemiliaromagna.it/evento/avis-bibbiano-festa-del-donatore/
CATEGORIES:Eventi provinciali e comunali
END:VEVENT
BEGIN:VEVENT
DTSTART;TZID=Europe/Rome:20210724T193000
DTEND;TZID=Europe/Rome:20210724T233000
DTSTAMP:20260420T015422
CREATED:20210716T180432Z
LAST-MODIFIED:20230117T162701Z
UID:24758-1627155000-1627169400@avisemiliaromagna.it
SUMMARY:Calerno in Griglia
DESCRIPTION:Sabato 24 Luglio dalle ore 19.30 le associazioni del Parco Vernazza\, tra cui Avis Calerno\, vi aspettano per “CALERNO IN GRIGLIA”\n\nPiatto unico con grigliata mista\, patatine fritte e dolcetto\n\n€ 20 bevande escluse\n\nA causa delle restrizioni COVID ’19 la capienza massima sarà di 120 persone.\n\nPRENOTAZIONE OBBLIGATORIA entro Giovedì 20/07\nFrancesca 333-4437046\nLella 339-7690337\nParco Vernazza – Via Andrea Rivasi\, 42049 Sant’Ilario d’Enza\n\nPagina facebook dell’evento
URL:https://avisemiliaromagna.it/evento/calerno-in-griglia/
CATEGORIES:Eventi provinciali e comunali
END:VEVENT
BEGIN:VEVENT
DTSTART;TZID=Europe/Rome:20210730T193000
DTEND;TZID=Europe/Rome:20210801T233000
DTSTAMP:20260420T015422
CREATED:20210708T180148Z
LAST-MODIFIED:20230117T162701Z
UID:24620-1627673400-1627860600@avisemiliaromagna.it
SUMMARY:Reggiolo\, torna la Festa sull’Aia
DESCRIPTION:Torna il tradizionale appuntamento estivo al Parco dei Salici: tre serate tra stand gastronomici e tanta buona musica\nDopo lo stop forzato dell’anno scorso\, torna al Parco Salici (zona sportiva) il tradizionale appuntamento con la Festa sull’Aia\, organizzata da Avis di Reggiolo.\nDa venerdì 30 luglio fino a domenica 1 agosto\, negli stand gastronomici si potranno gustare tortelli\, spaghetti\, maccheroni\, spalla cotta\, grigliate\, gnocco fritto\, prosciutto\, dolci e… fritto misto e spiedini di pesce! Funzionante anche il servizio bar. \nLe serate saranno allietate da tanta buona musica:\nvenerdì 30: Matteo Corghi Music\nsabato 31: Simon Dj\ndomenica 1: Gallo & Simone con animazione by Gigi dj \nTrattori d’epoca nel parco\nIn caso di maltempo la festa proseguirà il 2 agosto \nE’ gradita la prenotazione: 3534146510 – 3396607617 – 3392436584 – 3392805382 \nLa locandina dell’evento
URL:https://avisemiliaromagna.it/evento/reggiolo-torna-la-festa-sullaia/
CATEGORIES:Eventi provinciali e comunali
END:VEVENT
END:VCALENDAR