BEGIN:VCALENDAR
VERSION:2.0
PRODID:-//AVIS Regionale Emilia-Romagna - ECPv6.15.13//NONSGML v1.0//EN
CALSCALE:GREGORIAN
METHOD:PUBLISH
X-WR-CALNAME:AVIS Regionale Emilia-Romagna
X-ORIGINAL-URL:https://avisemiliaromagna.it
X-WR-CALDESC:Eventi per AVIS Regionale Emilia-Romagna
REFRESH-INTERVAL;VALUE=DURATION:PT1H
X-Robots-Tag:noindex
X-PUBLISHED-TTL:PT1H
BEGIN:VTIMEZONE
TZID:Europe/Rome
BEGIN:DAYLIGHT
TZOFFSETFROM:+0100
TZOFFSETTO:+0200
TZNAME:CEST
DTSTART:20190331T010000
END:DAYLIGHT
BEGIN:STANDARD
TZOFFSETFROM:+0200
TZOFFSETTO:+0100
TZNAME:CET
DTSTART:20191027T010000
END:STANDARD
BEGIN:DAYLIGHT
TZOFFSETFROM:+0100
TZOFFSETTO:+0200
TZNAME:CEST
DTSTART:20200329T010000
END:DAYLIGHT
BEGIN:STANDARD
TZOFFSETFROM:+0200
TZOFFSETTO:+0100
TZNAME:CET
DTSTART:20201025T010000
END:STANDARD
BEGIN:DAYLIGHT
TZOFFSETFROM:+0100
TZOFFSETTO:+0200
TZNAME:CEST
DTSTART:20210328T010000
END:DAYLIGHT
BEGIN:STANDARD
TZOFFSETFROM:+0200
TZOFFSETTO:+0100
TZNAME:CET
DTSTART:20211031T010000
END:STANDARD
END:VTIMEZONE
BEGIN:VEVENT
DTSTART;TZID=Europe/Rome:20200617T203000
DTEND;TZID=Europe/Rome:20200617T203000
DTSTAMP:20260420T070651
CREATED:20200604T102605Z
LAST-MODIFIED:20230117T162840Z
UID:19519-1592425800-1592425800@avisemiliaromagna.it
SUMMARY:RINVIATA – Assemblea 2020 Mordano
DESCRIPTION:L’Avis di  Mordano invita tutti i suoi soci a partecipare all’Assemblea che si terrà Mercoledì 17 Giugno 2020 in I° convocazione alle ore 20.00 e in II° convocazione* alle ore 20.30\, presso la sala del Centro Polifunzionale in via della Repubblica a Mordano.\nORDINE DEL GIORNO:\n1) Presentazione\, discussione e approvazione della relazione sull’attività svolta e del bilancio consuntivo 2019\, nonché delle linee di indirizzo per il futuro;\n2) Presentazione e ratifica del preventivo finanziario 2020;\n3) Nomina dei delegati all’Assemblea Provinciale;\n4) Nomina della Commissione Verifica Poteri per il quadriennio 2021/2024.\n*La seconda convocazione sarà valida con qualunque numero di presenti. \nSaranno d’obbligo mascherine e distanziamento sociale. \nNel corso dell’iniziativa si terranno anche le Premiazioni dei Soci Benemeriti. \n 
URL:https://avisemiliaromagna.it/evento/rinviata-assemblea-2020-mordano/
CATEGORIES:Eventi provinciali e comunali
END:VEVENT
BEGIN:VEVENT
DTSTART;TZID=Europe/Rome:20200616T200000
DTEND;TZID=Europe/Rome:20200616T200000
DTSTAMP:20260420T070651
CREATED:20200604T102604Z
LAST-MODIFIED:20230117T162841Z
UID:19517-1592337600-1592337600@avisemiliaromagna.it
SUMMARY:RINVIATA – Assemblea 2020 Loiano
DESCRIPTION:L’Avis di Loiano invita tutti i suoi soci a partecipare all’Assemblea che si terrà Martedì 16 Giugno 2020 in I° convocazione alle ore 19\,30 e in II° convocazione* alle ore 20\,00\, tramite la piattaforma Zoom. \nORDINE DEL GIORNO:\n1) Presentazione\, discussione e approvazione della relazione sull’attività svolta e del bilancio consuntivo 2019\, nonché delle linee di indirizzo per il futuro;\n2) Presentazione e ratifica del preventivo finanziario 2020;\n3) Nomina dei delegati all’Assemblea Provinciale;\n4) Nomina della Commissione Verifica Poteri per il quadriennio 2021/2024.\n*La seconda convocazione sarà valida con qualunque numero di presenti.  \nI soci riceveranno privatamente i dettagli operativi per partecipare. 
URL:https://avisemiliaromagna.it/evento/rinviata-assemblea-2020-loiano/
CATEGORIES:Eventi provinciali e comunali
END:VEVENT
BEGIN:VEVENT
DTSTART;TZID=Europe/Rome:20200614T090000
DTEND;TZID=Europe/Rome:20200614T180000
DTSTAMP:20260420T070651
CREATED:20200610T104114Z
LAST-MODIFIED:20230117T162841Z
UID:19597-1592125200-1592157600@avisemiliaromagna.it
SUMMARY:Avis San Lazzaro festeggia il WBDD2020
DESCRIPTION:L’Avis Comunale di San Lazzaro di Savena festeggia la Giornata Mondiale del Donatore di Sangue (WBDD2020) nella sua sede in via Bellaria\, 7 a San Lazzaro dalle 9 alle 13 e dalle 15 alle 18 con open bar\, gadget e volantini. \nSono invitati tutti i donatori e i cittadini interessati a conoscere la donazione e l’attività decennale di Avis San Lazzaro! \nDiffondi la voce dell’iniziativa\, diffondi la voce sull’importanza di donare sangue. Perché se in molti donano sangue\, il sangue c’è per tutti.\n*Nel corso dell’iniziativa verranno rispettate tutte le misure di sicurezza necessarie.  
URL:https://avisemiliaromagna.it/evento/avis-san-lazzaro-festeggia-il-wbdd2020/
CATEGORIES:Eventi provinciali e comunali
END:VEVENT
BEGIN:VEVENT
DTSTART;TZID=Europe/Rome:20200614T000000
DTEND;TZID=Europe/Rome:20200614T233000
DTSTAMP:20260420T070651
CREATED:20200609T085602Z
LAST-MODIFIED:20230117T162842Z
UID:19574-1592092800-1592177400@avisemiliaromagna.it
SUMMARY:Colora con Avis la Giornata Mondiale del Donatore di Sangue
DESCRIPTION:AVIS comunale di Bagnolo in Piano ODV ha organizzato per Domenica 14 Giugno\, in occasione della Giornata Mondiale del Donatore di Sangue\, una semplice quanto bellissima iniziativa collettiva a cui tutti siamo invitati a partecipare… quale miglior modo per sentirsi tutti più vicini? \n\nDecora anche tu il tuo balcone\, la tua finestra\, il tuo terrazzo con i colori del PLASMA (giallo) e del SANGUE (rosso) con qualsiasi oggetto che li ricordi e poi scatta una foto e tagga l’AVIS comunale di riferimento.\nCosì facendo potrai unirti virtualemente all’AVIS e sostenere il suo messaggio attraverso il tema scelto per celebrare quest’edizione della Giornata Mondiale: \n“Give blood and make the world a healthier place” (in italiano\, “Dona il sangue e rendi il mondo un posto più sano”) \n\nUN GRAZIE DI CUORE A TUTTI I DONATORI:\nSiete arrivati senza esitare quando vi abbiamo chiamato\, durante l’emergenza Coronavirus.\nAvete donato sangue e plasma perché sapete che ce n’è sempre bisogno.\nLo fate ogni volta\, in qualunque circostanza\, per salvare la vita a migliaia persone.\nOggi vogliamo dirvi grazie per la vostra generosità.\nPer non averci lasciati soli nei momenti difficili e per non lasciarci soli domani. \nLa locandina dell’evento
URL:https://avisemiliaromagna.it/evento/colora-con-avis-la-giornata-mondiale-del-donatore-di-sangue/
CATEGORIES:Eventi provinciali e comunali
END:VEVENT
BEGIN:VEVENT
DTSTART;TZID=Europe/Rome:20200510T100000
DTEND;TZID=Europe/Rome:20200510T140000
DTSTAMP:20260420T070651
CREATED:20200413T140449Z
LAST-MODIFIED:20200510T092617Z
UID:18824-1589104800-1589119200@avisemiliaromagna.it
SUMMARY:RINVIATO Open Day Avis 2020
DESCRIPTION:Torna anche quest’anno l’Open Day Avis\, una domenica alla Casa dei Donatori di Sangue tra spettacoli\, hobby e premiazioni. L’appuntamento è Domenica 10 Maggio ore 10\,00-14\,00. \nL’iniziativa è nata per dare valore alle Premiazioni di Donatori e Donatrici Benemeriti e allo stesso tempo per coinvolgere tutta la cittadinanza in attività ricreative proprio all’interno della sede Avis della Casa dei Donatori di Sangue.\nQuesta infatti oltre ad essere Centro Raccolta di Sangue e Plasma\, rappresenta anche un importante centro di aggregazione e condivisione di interessi per tutti i donatori e i volontari della Provincia di Bologna.\nIl programma dell’evento è in fase di definizione. Presto ulteriori aggiornamenti…Restate connessi! 😉
URL:https://avisemiliaromagna.it/evento/rinviato-open-day-avis-2020/
CATEGORIES:Eventi provinciali e comunali
END:VEVENT
BEGIN:VEVENT
DTSTART;TZID=Europe/Rome:20200422T210000
DTEND;TZID=Europe/Rome:20200422T210000
DTSTAMP:20260420T070651
CREATED:20200413T150531Z
LAST-MODIFIED:20200422T085603Z
UID:18834-1587589200-1587589200@avisemiliaromagna.it
SUMMARY:Carpi\, Caro Lucio ti scrivo…
DESCRIPTION:L’evento “Caro Lucio ti scrivo… ” inizialmente programmato per il 4 marzo è rinviato a Mercoledì 22 Aprile.  . Info e prevendita presso Avis Carpi 059650303 oppure al n. 3404147739. \n \n 
URL:https://avisemiliaromagna.it/evento/carpi-caro-lucio-ti-scrivo/
CATEGORIES:Eventi provinciali e comunali
END:VEVENT
BEGIN:VEVENT
DTSTART;TZID=Europe/Rome:20200416T173400
DTEND;TZID=Europe/Rome:20200419T183400
DTSTAMP:20260420T070651
CREATED:20200413T110947Z
LAST-MODIFIED:20200419T072626Z
UID:18800-1587058440-1587321240@avisemiliaromagna.it
SUMMARY:Amsterdam e i Tulipani – Avis Comunali Bellaria I.M. e Verucchio
DESCRIPTION:Le Avis Comunali di Bellaria Igea Marina e Verucchio\norganizzano per i giorni dal 16 al 19 aprile una gita alla visita di Amsterdam e Paesi Bassi.Per i dettagli si veda il programma:\nAVIS amsterdam volantino_Avis Bellaria e Verucchio
URL:https://avisemiliaromagna.it/evento/amsterdam-e-i-tulipani-avis-comunali-bellaria-i-m-e-verucchio/
CATEGORIES:Eventi provinciali e comunali
END:VEVENT
END:VCALENDAR