BEGIN:VCALENDAR
VERSION:2.0
PRODID:-//AVIS Regionale Emilia-Romagna - ECPv6.15.13//NONSGML v1.0//EN
CALSCALE:GREGORIAN
METHOD:PUBLISH
X-WR-CALNAME:AVIS Regionale Emilia-Romagna
X-ORIGINAL-URL:https://avisemiliaromagna.it
X-WR-CALDESC:Eventi per AVIS Regionale Emilia-Romagna
REFRESH-INTERVAL;VALUE=DURATION:PT1H
X-Robots-Tag:noindex
X-PUBLISHED-TTL:PT1H
BEGIN:VTIMEZONE
TZID:Europe/Rome
BEGIN:DAYLIGHT
TZOFFSETFROM:+0100
TZOFFSETTO:+0200
TZNAME:CEST
DTSTART:20210328T010000
END:DAYLIGHT
BEGIN:STANDARD
TZOFFSETFROM:+0200
TZOFFSETTO:+0100
TZNAME:CET
DTSTART:20211031T010000
END:STANDARD
BEGIN:DAYLIGHT
TZOFFSETFROM:+0100
TZOFFSETTO:+0200
TZNAME:CEST
DTSTART:20220327T010000
END:DAYLIGHT
BEGIN:STANDARD
TZOFFSETFROM:+0200
TZOFFSETTO:+0100
TZNAME:CET
DTSTART:20221030T010000
END:STANDARD
BEGIN:DAYLIGHT
TZOFFSETFROM:+0100
TZOFFSETTO:+0200
TZNAME:CEST
DTSTART:20230326T010000
END:DAYLIGHT
BEGIN:STANDARD
TZOFFSETFROM:+0200
TZOFFSETTO:+0100
TZNAME:CET
DTSTART:20231029T010000
END:STANDARD
BEGIN:DAYLIGHT
TZOFFSETFROM:+0100
TZOFFSETTO:+0200
TZNAME:CEST
DTSTART:20240331T010000
END:DAYLIGHT
BEGIN:STANDARD
TZOFFSETFROM:+0200
TZOFFSETTO:+0100
TZNAME:CET
DTSTART:20241027T010000
END:STANDARD
BEGIN:DAYLIGHT
TZOFFSETFROM:+0100
TZOFFSETTO:+0200
TZNAME:CEST
DTSTART:20250330T010000
END:DAYLIGHT
BEGIN:STANDARD
TZOFFSETFROM:+0200
TZOFFSETTO:+0100
TZNAME:CET
DTSTART:20251026T010000
END:STANDARD
BEGIN:DAYLIGHT
TZOFFSETFROM:+0100
TZOFFSETTO:+0200
TZNAME:CEST
DTSTART:20260329T010000
END:DAYLIGHT
BEGIN:STANDARD
TZOFFSETFROM:+0200
TZOFFSETTO:+0100
TZNAME:CET
DTSTART:20261025T010000
END:STANDARD
BEGIN:DAYLIGHT
TZOFFSETFROM:+0100
TZOFFSETTO:+0200
TZNAME:CEST
DTSTART:20270328T010000
END:DAYLIGHT
BEGIN:STANDARD
TZOFFSETFROM:+0200
TZOFFSETTO:+0100
TZNAME:CET
DTSTART:20271031T010000
END:STANDARD
END:VTIMEZONE
BEGIN:VTIMEZONE
TZID:Africa/Abidjan
BEGIN:STANDARD
TZOFFSETFROM:+0000
TZOFFSETTO:+0000
TZNAME:GMT
DTSTART:20230101T000000
END:STANDARD
END:VTIMEZONE
BEGIN:VTIMEZONE
TZID:UTC
BEGIN:STANDARD
TZOFFSETFROM:+0000
TZOFFSETTO:+0000
TZNAME:UTC
DTSTART:20250101T000000
END:STANDARD
END:VTIMEZONE
BEGIN:VEVENT
DTSTART;TZID=Europe/Rome:20221120T150000
DTEND;TZID=Europe/Rome:20221120T150000
DTSTAMP:20260425T130537
CREATED:20221027T211734Z
LAST-MODIFIED:20230117T151638Z
UID:32015-1668956400-1668956400@avisemiliaromagna.it
SUMMARY:Avis Budrio | Festa con l’Avis e Premiazioni 2022
DESCRIPTION:Domenica 20 novembre 2022\, l’ Avis Comunale di Budrio\, con il patrocinio dell’Amministrazione comunale\, organizza le Premiazioni dei Soci benemeriti* che hanno maturato il riconoscimento negli anni passati.  Le premiazioni inizieranno dalle ore 15:30 presso la Sala Polivalente Circolo ARCI “M.Canova” in Via Zenzalino Nord\, 7 a Budrio.\nProgramma:\nore 15:00 Accoglienza.\nore 15:30\, con l’intervento delle Autorità\, consegna dei riconoscimenti associativi e degli attestati dell’Amministrazione Comunale ai soci benemeriti. \nA seguire\, un rinfresco per i saluti.\nIn questa occasione\, ai Soci Premiati verranno consegnati diploma e benemerenza maturati in base al numero di donazioni e agli anni di iscrizione ad Avis.\n*I soci premiati riceveranno comunicazione dedicata.
URL:https://avisemiliaromagna.it/evento/avis-budrio-festa-con-lavis-e-premiazioni-2022/
CATEGORIES:Eventi provinciali e comunali
END:VEVENT
BEGIN:VEVENT
DTSTART;TZID=Europe/Rome:20221126T210000
DTEND;TZID=Europe/Rome:20221126T230000
DTSTAMP:20260425T130537
CREATED:20221021T211721Z
LAST-MODIFIED:20230117T151637Z
UID:31914-1669496400-1669503600@avisemiliaromagna.it
SUMMARY:44ª RASSEGNA DIALETTALE AVIS 2022
DESCRIPTION:Sabato 26 novembre 2022 – ore 21\nCUMPAGNEIA DE BONUMOR di GRANAROLO FAENTINO\n“UNA CURA SPECIELA”\ndi Guido Lucchini\n \n \n \nABBONAMENTI\nPresso la segreteria dell’AVIS COMUNALE IMOLA\, p.le Giovanni dalle Bande Nere 11\, Imola (interno Ospedale Vecchio – Pad. 6 -Palazzina del Centro Raccolta Sangue al primo piano). Tel. 0542 32158 (ore 8:30-12:30 feriali).\nRICONFERMARE L’ABBONAMENTO\nda lunedì 26 settembre a sabato 1° ottobre 2022 per il rinnovo degli abbonamenti dell’ultima edizione\, con diritto alla riconferma.\n \nCAMBIARE DI POSTO\nda lunedì 3 ottobre a venerdì 7 ottobre 2022 per cambiare di posto\, le esigenze degli abbonati verranno soddisfatte secondo le disponibilità rimaste\, senza diritto alcuno sul posto occupato nella trascorsa stagione.\n \nNUOVI ABBONAMENTI\nda sabato 8 ottobre a sabato 15 ottobre 2022 per la vendita di nuovi abbonamenti in base alle disponibilità dei posti rimasti.\n \nPREZZI\nAbbonamenti (platea e galleria)                soci Avis   €  24\,00    non soci    €  30\,00\nBiglietti per serata (platea e galleria)      ingresso unico   €    8\,00       \n \nBIGLIETTI per SINGOLA SERATA  (con assegnazione posti)\n \nSolo nei giorni di spettacolo:\n Presso la sede Avis Comunale Imola\, dalle ore 8.30 alle ore 12.30;\nPresso il Teatro Comunale dell’Osservanza dalle ore 20.00 alle ore 21.00.\nNon si accettano prenotazioni telefoniche.\n \nSconto ragazzi fino a 17 anni\, come prezzo soci Avis.\nPer usufruire dello sconto soci occorre presentare la tessera Avis.
URL:https://avisemiliaromagna.it/evento/44a-rassegna-dialettale-avis-2022-2/
CATEGORIES:Eventi provinciali e comunali
END:VEVENT
BEGIN:VEVENT
DTSTART;TZID=Europe/Rome:20230115T100000
DTEND;TZID=Europe/Rome:20230115T120000
DTSTAMP:20260425T130537
CREATED:20230109T081535Z
LAST-MODIFIED:20230112T163617Z
UID:34360-1673776800-1673784000@avisemiliaromagna.it
SUMMARY:Befanone 2023 Avis Sala Bolognese
DESCRIPTION: Come ogni anno l’Avis Comunale di Sala Bolognese organizza l’iniziativa del Befanone Avis rivolta ai figli dei soci. I soci che hanno figli nati nel periodo compreso tra il 1° gennaio 2014 e il 31 dicembre 2019 possono iscriverli per ricevere il dono della Befana.Le iscrizioni andranno fatte entro il 6 gennaio 2023\, telefonando al Presidente di Sala Bolognese Mondo Formigoni al numero 3473362131 o inviando una mail a mondo.formigoni@libero.it.L’appuntamento è Domenica 15 gennaio 2023 dalle ore 10\,00 alle ore 12\,00 presso l’atrio della Casa della Cultura\,  piazza Marconi 5 – Padulle (dietro al Municipio).
URL:https://avisemiliaromagna.it/evento/befanone-2023-avis-sala-bolognese/
LOCATION:Atrio Casa della Cultura @ Piazza Guglielmo Marconi\, 5\, 40010 Padulle BO\, Italia
CATEGORIES:Bologna
END:VEVENT
BEGIN:VEVENT
DTSTART;TZID=Europe/Rome:20230121T040000
DTEND;TZID=Europe/Rome:20230122T160000
DTSTAMP:20260425T130537
CREATED:20230109T081535Z
LAST-MODIFIED:20230112T163617Z
UID:34361-1674273600-1674403200@avisemiliaromagna.it
SUMMARY:FOLGARIA
DESCRIPTION:PER INFORMAZIONI E PRENOTAZIONI:AVIS COMUNALE IMOLA\, P.LE GIOVANNI DALLE BANDE NERE 11\,TEL. 054232158    (FERIALI 8:30-12:30).E-MAIL:  giovani.imola@avis.itIl saldo dovrà essere effettuato\, in contanti\, presso gli uffici dell’Avis Comunale Imola (Padiglione 6 dell’Ospedale Vecchio di Imola) dal lunedì al sabato dalle 8:30 alle 12:30ENTRO IL 27 NOVEMBRE 2022. Il volantino:WEEK END SULLA NEVE FOLGARIA
URL:https://avisemiliaromagna.it/evento/folgaria/
CATEGORIES:Bologna
END:VEVENT
BEGIN:VEVENT
DTSTART;TZID=Africa/Abidjan:20240412T203000
DTEND;TZID=Africa/Abidjan:20240412T220000
DTSTAMP:20260425T130537
CREATED:20240326T044811Z
LAST-MODIFIED:20240410T044810Z
UID:40257-1712953800-1712959200@avisemiliaromagna.it
SUMMARY:“DO-na-RE per AVIS”
DESCRIPTION:Uno spettacolo comico\, ma anche informativo\, per parlare di donazione di sangue. Scritto da Andrea Midena e Gabriele Zanon\, viene portato in scena dai comici trentini Franco e Gabriele\, che insieme formano il duo “Toni Marci”. Promuove Avis Cesena. Ingresso gratuito.
URL:https://avisemiliaromagna.it/evento/do-na-re-per-avis/
LOCATION:Cine Teatro Victor @ Via S. Vittore\, 1680\, 47522 San Vittore FC\, Italia
CATEGORIES:Cesena
END:VEVENT
BEGIN:VEVENT
DTSTART;TZID=Europe/Rome:20260214T100000
DTEND;TZID=Europe/Rome:20260214T180000
DTSTAMP:20260425T130537
CREATED:20260210T141905Z
LAST-MODIFIED:20260214T141810Z
UID:47626-1771063200-1771092000@avisemiliaromagna.it
SUMMARY:Inaugurazione AVIS GO!
DESCRIPTION:Inaugurazione Avis Go\, la nuova unità mobile di Avis Provinciale <a href="http://Ravenna.br/14" target="_blank" title="Ravenna.14″>Ravenna.14 febbraio 2026\, Piazza Kennedy\, <a href="http://Ravenna.br/" target="_blank" title="Ravenna.“>Ravenna.
URL:https://avisemiliaromagna.it/evento/inaugurazione-avis-go/
CATEGORIES:Ravenna
END:VEVENT
BEGIN:VEVENT
DTSTART;TZID=Europe/Rome:20260308T083000
DTEND;TZID=Europe/Rome:20260308T120000
DTSTAMP:20260425T130537
CREATED:20260303T124807Z
LAST-MODIFIED:20260308T004811Z
UID:48356-1772958600-1772971200@avisemiliaromagna.it
SUMMARY:Camminata della Mimosa per la Salute
DESCRIPTION: CAMMINATA LUDICO MOTORIA 6\,5 KmPROGRAMMA Ore 08:30 Ritrovo al Campo Sportivo di Porotto (FE) le iscrizioni si chiuderanno alle ore 09:50Ore 10:00 Partenza delle CamminataPREMIAZIONI I primi 250 iscritti riceveranno prodotti alimentari CoopSaranno premiati i primi 3 gruppi podistici più numerosi e le scuole del territorio che parteciperanno con i loro studentiTutte le donne riceveranno un mazzolino di mimosa offerta dall’<a href="http://UDI.br/E’" target="_blank" title="UDI.E’”>UDI.E’ possibile anche prenotare il pranzo solidale\, entro martedì 3 marzo\, telefonando a Silvano Mori 349.5333984\, Paola Garutti 377.9920046\, Rita Martelli 328.578209 al costo di € 28 a <a href="http://persona.br/ br/ br/br/" target="_blank" title="persona.   \n“>persona.  
URL:https://avisemiliaromagna.it/evento/camminata-della-mimosa-per-la-salute/
CATEGORIES:Ferrara
END:VEVENT
BEGIN:VEVENT
DTSTART;TZID=Europe/Rome:20260320T190000
DTEND;TZID=Europe/Rome:20260320T200000
DTSTAMP:20260425T130537
CREATED:20260312T144817Z
LAST-MODIFIED:20260320T144803Z
UID:49251-1774033200-1774036800@avisemiliaromagna.it
SUMMARY:A.V.I.S. di Bellaria-Igea – 2° Corso di Autodifesa
DESCRIPTION:
URL:https://avisemiliaromagna.it/evento/a-v-i-s-di-bellaria-igea-2-corso-di-autodifesa/
CATEGORIES:Rimini
ATTACH;FMTTYPE=image/jpeg:https://avisemiliaromagna.it/wp-content/uploads/2026/03/49251_image_2026-corso-autodifesa.jpg
ORGANIZER;CN="Avis Mirandola":MAILTO:mirandola@avismodena_it
END:VEVENT
BEGIN:VEVENT
DTSTART;TZID=Europe/Rome:20260328T140000
DTEND;TZID=Europe/Rome:20260328T170000
DTSTAMP:20260425T130537
CREATED:20260109T131806Z
LAST-MODIFIED:20260328T134806Z
UID:46634-1774706400-1774717200@avisemiliaromagna.it
SUMMARY:71° ASSEMBLEA DEI SOCI AVIS PROVINCIALE DI PIACENZA
DESCRIPTION:Sabato 28 marzo p.v. presso la Sala Convegni dell’Unione Commercianti di Piacenza\, dalle 14\,00 alle 17\,00\, si terrà la 71ª Assemblea Provinciale dei Soci AVIS\, un appuntamento importante per ritrovarci\, condividere il cammino fatto e guardare insieme al futuro della nostra associazione.Sarà un momento di confronto\, partecipazione e crescita\, in cui i rappresentanti delle Avis Comunali del territorio piacentino potranno sentirsi parte attiva della grande famiglia di <a href="http://AVIS.br/La" target="_blank" title="AVIS.La”>AVIS.La presenza è fondamentale: perché AVIS è fatta di persone\, valori e impegno che\, insieme\, fanno davvero la <a href="http://differenza.br/" target="_blank" title="differenza.“>differenza.
URL:https://avisemiliaromagna.it/evento/71-assemblea-dei-soci-avis-provinciale-di-piacenza/
CATEGORIES:Piacenza
ATTACH;FMTTYPE=image/jpeg:https://avisemiliaromagna.it/wp-content/uploads/2026/01/46634_image_MANIFESTO-ASSEMBLEA.jpg
ORGANIZER;CN="Avis Soliera":MAILTO:soliera@avismodena_it
END:VEVENT
BEGIN:VEVENT
DTSTART;TZID=Europe/Rome:20260425T103000
DTEND;TZID=Europe/Rome:20260425T103000
DTSTAMP:20260425T130537
CREATED:20260401T001809Z
LAST-MODIFIED:20260425T001804Z
UID:50169-1777113000-1777113000@avisemiliaromagna.it
SUMMARY:Avis Crevalcore | Premiazione dei Soci
DESCRIPTION:All’interno dei festeggiamenti dell’ Anniversario della Liberazione\, l’Avis Comunale di Crevalcore organizza le Premiazioni dei Soci Benemeriti*. L’appuntamento è sabato 25 Aprile. A introdurre l’iniziativa\, i saluti del Presidente Giorgio <a href="http://Guidetti.br/*I" target="_blank" title="Guidetti.*I”>Guidetti.*I soci premiati riceveranno comunicazione <a href="http://dedicata.br/" target="_blank" title="dedicata.“>dedicata.
URL:https://avisemiliaromagna.it/evento/avis-crevalcore-premiazione-dei-soci/
LOCATION:40014 Crevalcore BO
CATEGORIES:Bologna
ORGANIZER;CN="Avis Soliera":MAILTO:soliera@avismodena_it
END:VEVENT
BEGIN:VEVENT
DTSTART;TZID=Europe/Rome:20260430T190000
DTEND;TZID=Europe/Rome:20260430T220000
DTSTAMP:20260425T130537
CREATED:20260423T001806Z
LAST-MODIFIED:20260425T001804Z
UID:50363-1777575600-1777586400@avisemiliaromagna.it
SUMMARY:Avis e Scuole in Concerto
DESCRIPTION:L’Avis Comunale di Bologna\, torna anche quest’anno con l’evento “AVIS e Scuola in concerto”. L’iniziativa si terrà Giovedì 30 aprile 2026 alle ore 19\,00 presso il Teatro “Celebrazioni”\, in via Saragozza 234 a <a href="http://Bologna.br/Il" target="_blank" title="Bologna.Il”>Bologna.Il concerto\, con ingresso gratuito ad offerta libera\, si inserisce all’interno dell’attività Avis di promozione del dono del sangue volontario e gratuito rivolta alle scuole secondarie di I° e II° grado e nasce dalla consapevolezza che l’incontro con la musica provoca un intenso interesse tra i <a href="http://ragazzi.br/Per" target="_blank" title="ragazzi.Per”>ragazzi.Per la realizzazione del concerto sono stati coinvolti gli allievi del corso di musica delle scuole di Bologna e provincia. Si esibiranno i ragazzi dell’ IC 16 Guido Reni (Bologna)\, IC Centro di Casalecchio di Reno e la scuola di musica della banda Bignardi di <a href="http://Monzuno. br/Qui" target="_blank" title="Monzuno. Qui”>Monzuno. Qui il programma del concerto: Programma Avis e Scuole in Concerto .Sarà questa un’occasione per stare insieme e per dare valore all’attività dei ragazzi\, nella speranza di poter sensibilizzare ragazzi e genitori tra il pubblico sull’importanza del dono del sangue e del plasma\, a servizio di tutti quei pazienti che ogni giorno ne hanno <a href="http://bisogno.br/" target="_blank" title="bisogno.“>bisogno.
URL:https://avisemiliaromagna.it/evento/avis-e-scuole-in-concerto/
LOCATION:Teatro Celebrazioni @ Via Saragozza\, 234\, 40135 Bologna BO\, Italia
CATEGORIES:Bologna
ATTACH;FMTTYPE=image/jpeg:https://avisemiliaromagna.it/wp-content/uploads/2026/04/50363_image_locandina-2026-avis-e-scuole-LOGHI.jpg
ORGANIZER;CN="Avis Soliera":MAILTO:soliera@avismodena_it
END:VEVENT
BEGIN:VEVENT
DTSTART;TZID=Europe/Rome:20260510T163000
DTEND;TZID=Europe/Rome:20260510T203000
DTSTAMP:20260425T130537
CREATED:20260310T164804Z
LAST-MODIFIED:20260425T044810Z
UID:48861-1778430600-1778445000@avisemiliaromagna.it
SUMMARY:75° Avis Mirandola - Appuntamenti celebrativi
DESCRIPTION:75 anni di impegno\, partecipazione e solidarietà. La sezione di Avis Mirandola celebra nel 2026 un traguardo importante con un programma di iniziative culturali aperte alla cittadinanza\, in calendario dal 23 Marzo al 10 Maggio\, pensate per raccontare il valore del dono e promuovere una riflessione più ampia sui temi del volontariato e della responsabilità sociale.
URL:https://avisemiliaromagna.it/evento/75-avis-mirandola-appuntamenti-celebrativi-5/
LOCATION:Palazzo Vischi\, Piazza Matteotti 2\, Mirandola\, Modena\, 41037\, Italy
CATEGORIES:Modena
ATTACH;FMTTYPE=image/jpeg:https://avisemiliaromagna.it/wp-content/uploads/2026/03/48855_image_locanduina-cinque-appuntamenti-75mo.jpg
ORGANIZER;CN="Avis Mirandola":MAILTO:mirandola@avismodena_it
END:VEVENT
BEGIN:VEVENT
DTSTART;TZID=Europe/Rome:20260522T100000
DTEND;TZID=Europe/Rome:20260524T180000
DTSTAMP:20260425T130537
CREATED:20260210T121807Z
LAST-MODIFIED:20260425T001804Z
UID:47617-1779444000-1779645600@avisemiliaromagna.it
SUMMARY:Avis alla StraBologna 2026
DESCRIPTION:Avis Comunale Bologna rinnova la partnership con StraBologna e sarà presente in Piazza Maggiore con un punto informativo e i propri volontari durante tutta la tre giorni della festa. Appuntamento con la camminata/corsa domenica 24 maggio 2026.StraBologna è molto più di un evento sportivo: è una grande festa cittadina che porta in piazza migliaia di persone\, famiglie\, gruppi di amici e sportivi di ogni età. Anche quest’anno Avis Comunale Bologna partecipa con entusiasmo\, perché crediamo che promuovere movimento\, benessere e sani stili di vita significhi creare le condizioni migliori per una comunità più sana e solidale — e per ricordare che donare sangue e plasma è un gesto semplice\, concreto\, <a href="http://fondamentale.br/AVIS" target="_blank" title="fondamentale.AVIS”>fondamentale.AVIS in piazza: vieni a trovarci!Durante le tre giornate di StraBologna\, i volontari Avis saranno presenti con un punto informativo in Piazza Maggiore: passa a salutarci\, a fare due chiacchiere e scoprire tutto quello che c’è da sapere su donazione\, idoneità\, percorsi per diventare donatore/donatrice e sulle attività AVIS sul <a href="http://territorio.br/Ti" target="_blank" title="territorio.Ti”>territorio.Ti aspettiamo in piazza per condividere un messaggio che corre insieme alla città: se molti donano\, il sangue c’è per <a href="http://tutti.br/StraBologna" target="_blank" title="tutti.StraBologna”>tutti.StraBologna 2026: quando si corre/camminaIl momento clou sarà domenica 24 maggio 2026\, con partenza alle ore 10:30. Nel frattempo\, la festa comincia già da venerdì e sabato in Piazza Maggiore\, con stand\, attività e animazione insieme ai partner dell’<a href="http://evento.br/Per" target="_blank" title="evento.Per”>evento.Per tutti gli aggiornamenti (iscrizioni\, info utili e programma)\, puoi consultare il sito ufficiale di <a href="http://StraBologna.br/Ti" target="_blank" title="StraBologna.Ti”>StraBologna.Ti aspettiamo in Piazza Maggiore: corri\, cammina\, divertiti… e corri a donare!
URL:https://avisemiliaromagna.it/evento/avis-alla-strabologna-2026/
CATEGORIES:Bologna
ATTACH;FMTTYPE=image/jpeg:https://avisemiliaromagna.it/wp-content/uploads/2026/02/47617_image_immagine-evidenza-strabologna-avis.jpg
ORGANIZER;CN="Avis Soliera":MAILTO:soliera@avismodena_it
END:VEVENT
BEGIN:VEVENT
DTSTART;VALUE=DATE:20260523
DTEND;VALUE=DATE:20260524
DTSTAMP:20260425T130537
CREATED:20260420T164806Z
LAST-MODIFIED:20260425T044810Z
UID:50351-1779494400-1779580799@avisemiliaromagna.it
SUMMARY:Gita al lago d'Iseo e Cantina Franciacorta
DESCRIPTION:Hai impegni il 23 maggio? Perchè Avis Comunale di Fanano ti porta in gita sul Lago d’Iseo e in Franciacorta!Visita in cantina\, degustazione\, pranzo e pomeriggio sul <a href="http://lago.br/Ci" target="_blank" title="lago.Ci”>lago.Ci sono ancora alcuni posti disponibili per chi vuole unirsi!Per info e prenotazioni:Chiara – 335 1420499 Una bella occasione per passare una giornata insieme tra buon cibo\, panorami stupendi\, risate e buona compagnia!
URL:https://avisemiliaromagna.it/evento/gita-al-lago-diseo-e-cantina-franciacorta/
CATEGORIES:Modena
ATTACH;FMTTYPE=image/jpeg:https://avisemiliaromagna.it/wp-content/uploads/2026/04/50351_image_Immagine-2026-04-20-100345.jpg
ORGANIZER;CN="Avis Soliera":MAILTO:soliera@avismodena_it
END:VEVENT
BEGIN:VEVENT
DTSTART;TZID=Europe/Rome:20260608T063000
DTEND;TZID=Europe/Rome:20260610T193000
DTSTAMP:20260425T130537
CREATED:20260317T121806Z
LAST-MODIFIED:20260425T001804Z
UID:49474-1780900200-1781119800@avisemiliaromagna.it
SUMMARY:TOUR FRIULI VENEZIA GIULIA
DESCRIPTION:PROGRAMMA: <a href="https://bologna.avisemiliaromagna.it/wp-content/uploads/2026/03/FRIULI-VENEZIA-GIULIA-2026.pdfbr/PER" target="_blank" title="https://bologna.avisemiliaromagna.it/wp-content/uploads/2026/03/FRIULI-VENEZIA-GIULIA-2026.pdfPER”>https://bologna.avisemiliaromagna.it/wp-content/uploads/2026/03/FRIULI-VENEZIA-GIULIA-2026.pdfPER INFORMAZIONI E PRENOTAZIONI:AVIS COMUNALE IMOLAP.LE GIOVANNI DALLE BANDE NERE 11\,TEL. 054232158 (FERIALI 8:30-12:30). E-MAIL: <a href="http://giovani.imola@avis.itbr/" target="_blank" title="giovani.imola@avis.it“>giovani.imola@avis.it
URL:https://avisemiliaromagna.it/evento/tour-friuli-venezia-giulia/
CATEGORIES:Bologna
ATTACH;FMTTYPE=image/jpeg:https://avisemiliaromagna.it/wp-content/uploads/2026/03/49474_image_friuli.jpg
ORGANIZER;CN="Avis Soliera":MAILTO:soliera@avismodena_it
END:VEVENT
END:VCALENDAR