BEGIN:VCALENDAR
VERSION:2.0
PRODID:-//AVIS Regionale Emilia-Romagna - ECPv6.15.13//NONSGML v1.0//EN
CALSCALE:GREGORIAN
METHOD:PUBLISH
X-WR-CALNAME:AVIS Regionale Emilia-Romagna
X-ORIGINAL-URL:https://avisemiliaromagna.it
X-WR-CALDESC:Eventi per AVIS Regionale Emilia-Romagna
REFRESH-INTERVAL;VALUE=DURATION:PT1H
X-Robots-Tag:noindex
X-PUBLISHED-TTL:PT1H
BEGIN:VTIMEZONE
TZID:Europe/Rome
BEGIN:DAYLIGHT
TZOFFSETFROM:+0100
TZOFFSETTO:+0200
TZNAME:CEST
DTSTART:20250330T010000
END:DAYLIGHT
BEGIN:STANDARD
TZOFFSETFROM:+0200
TZOFFSETTO:+0100
TZNAME:CET
DTSTART:20251026T010000
END:STANDARD
BEGIN:DAYLIGHT
TZOFFSETFROM:+0100
TZOFFSETTO:+0200
TZNAME:CEST
DTSTART:20260329T010000
END:DAYLIGHT
BEGIN:STANDARD
TZOFFSETFROM:+0200
TZOFFSETTO:+0100
TZNAME:CET
DTSTART:20261025T010000
END:STANDARD
BEGIN:DAYLIGHT
TZOFFSETFROM:+0100
TZOFFSETTO:+0200
TZNAME:CEST
DTSTART:20270328T010000
END:DAYLIGHT
BEGIN:STANDARD
TZOFFSETFROM:+0200
TZOFFSETTO:+0100
TZNAME:CET
DTSTART:20271031T010000
END:STANDARD
END:VTIMEZONE
BEGIN:VTIMEZONE
TZID:UTC
BEGIN:STANDARD
TZOFFSETFROM:+0000
TZOFFSETTO:+0000
TZNAME:UTC
DTSTART:20250101T000000
END:STANDARD
END:VTIMEZONE
BEGIN:VEVENT
DTSTART;TZID=Europe/Rome:20260510T163000
DTEND;TZID=Europe/Rome:20260510T203000
DTSTAMP:20260425T145714
CREATED:20260310T164804Z
LAST-MODIFIED:20260425T044810Z
UID:48861-1778430600-1778445000@avisemiliaromagna.it
SUMMARY:75° Avis Mirandola - Appuntamenti celebrativi
DESCRIPTION:75 anni di impegno\, partecipazione e solidarietà. La sezione di Avis Mirandola celebra nel 2026 un traguardo importante con un programma di iniziative culturali aperte alla cittadinanza\, in calendario dal 23 Marzo al 10 Maggio\, pensate per raccontare il valore del dono e promuovere una riflessione più ampia sui temi del volontariato e della responsabilità sociale.
URL:https://avisemiliaromagna.it/evento/75-avis-mirandola-appuntamenti-celebrativi-5/
LOCATION:Palazzo Vischi\, Piazza Matteotti 2\, Mirandola\, Modena\, 41037\, Italy
CATEGORIES:Modena
ATTACH;FMTTYPE=image/jpeg:https://avisemiliaromagna.it/wp-content/uploads/2026/03/48855_image_locanduina-cinque-appuntamenti-75mo.jpg
ORGANIZER;CN="Avis Mirandola":MAILTO:mirandola@avismodena_it
END:VEVENT
BEGIN:VEVENT
DTSTART;VALUE=DATE:20260523
DTEND;VALUE=DATE:20260524
DTSTAMP:20260425T145714
CREATED:20260420T164806Z
LAST-MODIFIED:20260425T044810Z
UID:50351-1779494400-1779580799@avisemiliaromagna.it
SUMMARY:Gita al lago d'Iseo e Cantina Franciacorta
DESCRIPTION:Hai impegni il 23 maggio? Perchè Avis Comunale di Fanano ti porta in gita sul Lago d’Iseo e in Franciacorta!Visita in cantina\, degustazione\, pranzo e pomeriggio sul <a href="http://lago.br/Ci" target="_blank" title="lago.Ci”>lago.Ci sono ancora alcuni posti disponibili per chi vuole unirsi!Per info e prenotazioni:Chiara – 335 1420499 Una bella occasione per passare una giornata insieme tra buon cibo\, panorami stupendi\, risate e buona compagnia!
URL:https://avisemiliaromagna.it/evento/gita-al-lago-diseo-e-cantina-franciacorta/
CATEGORIES:Modena
ATTACH;FMTTYPE=image/jpeg:https://avisemiliaromagna.it/wp-content/uploads/2026/04/50351_image_Immagine-2026-04-20-100345.jpg
ORGANIZER;CN="Avis Soliera":MAILTO:soliera@avismodena_it
END:VEVENT
END:VCALENDAR