BEGIN:VCALENDAR
VERSION:2.0
PRODID:-//AVIS Regionale Emilia-Romagna - ECPv6.15.13//NONSGML v1.0//EN
CALSCALE:GREGORIAN
METHOD:PUBLISH
X-WR-CALNAME:AVIS Regionale Emilia-Romagna
X-ORIGINAL-URL:https://avisemiliaromagna.it
X-WR-CALDESC:Eventi per AVIS Regionale Emilia-Romagna
REFRESH-INTERVAL;VALUE=DURATION:PT1H
X-Robots-Tag:noindex
X-PUBLISHED-TTL:PT1H
BEGIN:VTIMEZONE
TZID:Europe/Rome
BEGIN:DAYLIGHT
TZOFFSETFROM:+0100
TZOFFSETTO:+0200
TZNAME:CEST
DTSTART:20250330T010000
END:DAYLIGHT
BEGIN:STANDARD
TZOFFSETFROM:+0200
TZOFFSETTO:+0100
TZNAME:CET
DTSTART:20251026T010000
END:STANDARD
BEGIN:DAYLIGHT
TZOFFSETFROM:+0100
TZOFFSETTO:+0200
TZNAME:CEST
DTSTART:20260329T010000
END:DAYLIGHT
BEGIN:STANDARD
TZOFFSETFROM:+0200
TZOFFSETTO:+0100
TZNAME:CET
DTSTART:20261025T010000
END:STANDARD
BEGIN:DAYLIGHT
TZOFFSETFROM:+0100
TZOFFSETTO:+0200
TZNAME:CEST
DTSTART:20270328T010000
END:DAYLIGHT
BEGIN:STANDARD
TZOFFSETFROM:+0200
TZOFFSETTO:+0100
TZNAME:CET
DTSTART:20271031T010000
END:STANDARD
END:VTIMEZONE
BEGIN:VEVENT
DTSTART;TZID=Europe/Rome:20260425T103000
DTEND;TZID=Europe/Rome:20260425T103000
DTSTAMP:20260424T221233
CREATED:20260401T001809Z
LAST-MODIFIED:20260424T121809Z
UID:50169-1777113000-1777113000@avisemiliaromagna.it
SUMMARY:Avis Crevalcore | Premiazione dei Soci
DESCRIPTION:All’interno dei festeggiamenti dell’ Anniversario della Liberazione\, l’Avis Comunale di Crevalcore organizza le Premiazioni dei Soci Benemeriti*. L’appuntamento è sabato 25 Aprile. A introdurre l’iniziativa\, i saluti del Presidente Giorgio <a href="http://Guidetti.br/*I" target="_blank" title="Guidetti.*I”>Guidetti.*I soci premiati riceveranno comunicazione <a href="http://dedicata.br/" target="_blank" title="dedicata.“>dedicata.
URL:https://avisemiliaromagna.it/evento/avis-crevalcore-premiazione-dei-soci/
LOCATION:40014 Crevalcore BO
CATEGORIES:Bologna
ORGANIZER;CN="Avis Soliera":MAILTO:soliera@avismodena_it
END:VEVENT
END:VCALENDAR