BEGIN:VCALENDAR
VERSION:2.0
PRODID:-//AVIS Regionale Emilia-Romagna - ECPv6.15.13//NONSGML v1.0//EN
CALSCALE:GREGORIAN
METHOD:PUBLISH
X-ORIGINAL-URL:https://avisemiliaromagna.it
X-WR-CALDESC:Eventi per AVIS Regionale Emilia-Romagna
REFRESH-INTERVAL;VALUE=DURATION:PT1H
X-Robots-Tag:noindex
X-PUBLISHED-TTL:PT1H
BEGIN:VTIMEZONE
TZID:Africa/Abidjan
BEGIN:STANDARD
TZOFFSETFROM:+0000
TZOFFSETTO:+0000
TZNAME:GMT
DTSTART:20230101T000000
END:STANDARD
END:VTIMEZONE
BEGIN:VEVENT
DTSTART;TZID=Africa/Abidjan:20240412T203000
DTEND;TZID=Africa/Abidjan:20240412T220000
DTSTAMP:20260424T180800
CREATED:20240326T044811Z
LAST-MODIFIED:20240410T044810Z
UID:40257-1712953800-1712959200@avisemiliaromagna.it
SUMMARY:“DO-na-RE per AVIS”
DESCRIPTION:Uno spettacolo comico\, ma anche informativo\, per parlare di donazione di sangue. Scritto da Andrea Midena e Gabriele Zanon\, viene portato in scena dai comici trentini Franco e Gabriele\, che insieme formano il duo “Toni Marci”. Promuove Avis Cesena. Ingresso gratuito.
URL:https://avisemiliaromagna.it/evento/do-na-re-per-avis/
LOCATION:Cine Teatro Victor @ Via S. Vittore\, 1680\, 47522 San Vittore FC\, Italia
CATEGORIES:Cesena
END:VEVENT
END:VCALENDAR