BEGIN:VCALENDAR
VERSION:2.0
PRODID:-//AVIS Regionale Emilia-Romagna - ECPv6.15.13//NONSGML v1.0//EN
CALSCALE:GREGORIAN
METHOD:PUBLISH
X-ORIGINAL-URL:https://avisemiliaromagna.it
X-WR-CALDESC:Eventi per AVIS Regionale Emilia-Romagna
REFRESH-INTERVAL;VALUE=DURATION:PT1H
X-Robots-Tag:noindex
X-PUBLISHED-TTL:PT1H
BEGIN:VTIMEZONE
TZID:Europe/Rome
BEGIN:DAYLIGHT
TZOFFSETFROM:+0100
TZOFFSETTO:+0200
TZNAME:CEST
DTSTART:20200329T010000
END:DAYLIGHT
BEGIN:STANDARD
TZOFFSETFROM:+0200
TZOFFSETTO:+0100
TZNAME:CET
DTSTART:20201025T010000
END:STANDARD
BEGIN:DAYLIGHT
TZOFFSETFROM:+0100
TZOFFSETTO:+0200
TZNAME:CEST
DTSTART:20210328T010000
END:DAYLIGHT
BEGIN:STANDARD
TZOFFSETFROM:+0200
TZOFFSETTO:+0100
TZNAME:CET
DTSTART:20211031T010000
END:STANDARD
BEGIN:DAYLIGHT
TZOFFSETFROM:+0100
TZOFFSETTO:+0200
TZNAME:CEST
DTSTART:20220327T010000
END:DAYLIGHT
BEGIN:STANDARD
TZOFFSETFROM:+0200
TZOFFSETTO:+0100
TZNAME:CET
DTSTART:20221030T010000
END:STANDARD
END:VTIMEZONE
BEGIN:VEVENT
DTSTART;TZID=Europe/Rome:20211219T093000
DTEND;TZID=Europe/Rome:20211219T093000
DTSTAMP:20260419T143722
CREATED:20211214T184637Z
LAST-MODIFIED:20230117T162633Z
UID:27166-1639906200-1639906200@avisemiliaromagna.it
SUMMARY:Aspettando il Natale | Avis Monghidoro
DESCRIPTION:L’Avis Comunale di Monghidoro sarà presente\, domenica 19 dicembre 2021\, alla giornata di iniziative che si terrà a Monghidoro.\nDurante la mattina a partire dalle 9:30 in Piazza Ramazzotti\, Mercatino Alimentare e Hobbistico e per i più sportivi si parte per il trekking sulla neve dell’alpe\, mentre dalla cisterna parte il triathlon a cura di Explora\, 841 Sport Lab e Fantorno.\nPompiere per un giorno: i bambini possono scoprire i segreti dei vigili del fuoco.\nDalle 12:30 apertura stand con finger food.\nNel pomeriggio dalle ore 14:00 in Via Garibaldi\, si pedala con Explora.\nSi conclude con lo Spettacolo Magik Christmas\, Laboratorio Natalizio e sorpresa finale.\n 
URL:https://avisemiliaromagna.it/evento/aspettando-il-natale-avis-monghidoro/
CATEGORIES:Eventi provinciali e comunali
END:VEVENT
BEGIN:VEVENT
DTSTART;TZID=Europe/Rome:20211219T101500
DTEND;TZID=Europe/Rome:20211219T101500
DTSTAMP:20260419T143722
CREATED:20211206T183141Z
LAST-MODIFIED:20230117T162632Z
UID:27040-1639908900-1639908900@avisemiliaromagna.it
SUMMARY:50° Anniversario Avis Minerbio | Inaugurazione del monumento celebrativo
DESCRIPTION:L’Avis Comunale di Minerbio organizza i festeggiamenti del 50° Anniversario dalla sua fondazione. Domenica 19 dicembre 2021\, per celebrare questo importante traguardo\, grazie all’Amministrazione Comunale di Minerbio che se ne è fatta carico\, verrà posto un simbolico monumento all’interno del Parco Donatori di Sangue di Minerbio.\nQuesto il programma:\nore 10:30 inizio ritrovo partecipanti al Parco Donatori di Sangue\nore 10:50 discorsi delle Autorità presenti alla Cerimonia\nore 11:30 “svelamento” del monumento celebrativo\nA seguire\, brindisi/aperitivo di conclusione per tutti i partecipanti.\nSe necessario contattare il Presidente Libero Bacilieri al 3337737061
URL:https://avisemiliaromagna.it/evento/50-anniversario-avis-minerbio-inaugurazione-del-monumento-celebrativo/
CATEGORIES:Eventi provinciali e comunali
END:VEVENT
BEGIN:VEVENT
DTSTART;TZID=Europe/Rome:20211219T180000
DTEND;TZID=Europe/Rome:20211219T180000
DTSTAMP:20260419T143722
CREATED:20211210T190142Z
LAST-MODIFIED:20230117T162632Z
UID:27105-1639936800-1639936800@avisemiliaromagna.it
SUMMARY:Spilamberto\, un “classico” Natale in musica
DESCRIPTION:I giovani talenti del Conservatorio “J. Du Prè” nel concerto di musica classica di domenica 19 dicembre a Spilamberto. Si consiglia la prenotazione su www.eventbrite.it \n 
URL:https://avisemiliaromagna.it/evento/spilamberto-un-classico-natale-in-musica/
CATEGORIES:Eventi provinciali e comunali
END:VEVENT
END:VCALENDAR