BEGIN:VCALENDAR
VERSION:2.0
PRODID:-//AVIS Regionale Emilia-Romagna - ECPv6.15.13//NONSGML v1.0//EN
CALSCALE:GREGORIAN
METHOD:PUBLISH
X-ORIGINAL-URL:https://avisemiliaromagna.it
X-WR-CALDESC:Eventi per AVIS Regionale Emilia-Romagna
REFRESH-INTERVAL;VALUE=DURATION:PT1H
X-Robots-Tag:noindex
X-PUBLISHED-TTL:PT1H
BEGIN:VTIMEZONE
TZID:Europe/Rome
BEGIN:DAYLIGHT
TZOFFSETFROM:+0100
TZOFFSETTO:+0200
TZNAME:CEST
DTSTART:20200329T010000
END:DAYLIGHT
BEGIN:STANDARD
TZOFFSETFROM:+0200
TZOFFSETTO:+0100
TZNAME:CET
DTSTART:20201025T010000
END:STANDARD
BEGIN:DAYLIGHT
TZOFFSETFROM:+0100
TZOFFSETTO:+0200
TZNAME:CEST
DTSTART:20210328T010000
END:DAYLIGHT
BEGIN:STANDARD
TZOFFSETFROM:+0200
TZOFFSETTO:+0100
TZNAME:CET
DTSTART:20211031T010000
END:STANDARD
BEGIN:DAYLIGHT
TZOFFSETFROM:+0100
TZOFFSETTO:+0200
TZNAME:CEST
DTSTART:20220327T010000
END:DAYLIGHT
BEGIN:STANDARD
TZOFFSETFROM:+0200
TZOFFSETTO:+0100
TZNAME:CET
DTSTART:20221030T010000
END:STANDARD
END:VTIMEZONE
BEGIN:VEVENT
DTSTART;TZID=Europe/Rome:20211218T203000
DTEND;TZID=Europe/Rome:20211218T203000
DTSTAMP:20260419T143711
CREATED:20211209T190140Z
LAST-MODIFIED:20230117T162635Z
UID:27083-1639859400-1639859400@avisemiliaromagna.it
SUMMARY:Marano\, Natale in casa Cupiello
DESCRIPTION:Lo spettacolo teatrale\, liberamente tratto dall’omonima opera teatrale di Eduardo de Filippo “Natale in casa Cupiello” è intrepretato dagli attori amatoriali della Nuova Compagnia Teatrale Nord- Sud di Vignola. \nPer informazioni e prenotazioni chiamare: Franco (348 0654248) / Alessandro (339 839822333) / Luca (338 9760701). Green pass e mascherina obbligatori.
URL:https://avisemiliaromagna.it/evento/marano-natale-in-casa-cupiello/
CATEGORIES:Eventi provinciali e comunali
END:VEVENT
BEGIN:VEVENT
DTSTART;TZID=Europe/Rome:20211218T210000
DTEND;TZID=Europe/Rome:20211218T210000
DTSTAMP:20260419T143711
CREATED:20211210T190144Z
LAST-MODIFIED:20230117T162635Z
UID:27108-1639861200-1639861200@avisemiliaromagna.it
SUMMARY:Sassuolo\, Concerto di Natale
DESCRIPTION:Concerto di Natale della Corale Rossini il 18 dicembre a Sassuolo. Replica domenica 19 a Modena presso la Chiesa di Gesù Redentore a partire dalle ore 16\,00.
URL:https://avisemiliaromagna.it/evento/sassuolo-concerto-di-natale/
CATEGORIES:Eventi provinciali e comunali
END:VEVENT
END:VCALENDAR