BEGIN:VCALENDAR
VERSION:2.0
PRODID:-//AVIS Regionale Emilia-Romagna - ECPv6.15.13//NONSGML v1.0//EN
CALSCALE:GREGORIAN
METHOD:PUBLISH
X-ORIGINAL-URL:https://avisemiliaromagna.it
X-WR-CALDESC:Eventi per AVIS Regionale Emilia-Romagna
REFRESH-INTERVAL;VALUE=DURATION:PT1H
X-Robots-Tag:noindex
X-PUBLISHED-TTL:PT1H
BEGIN:VTIMEZONE
TZID:Europe/Rome
BEGIN:DAYLIGHT
TZOFFSETFROM:+0100
TZOFFSETTO:+0200
TZNAME:CEST
DTSTART:20200329T010000
END:DAYLIGHT
BEGIN:STANDARD
TZOFFSETFROM:+0200
TZOFFSETTO:+0100
TZNAME:CET
DTSTART:20201025T010000
END:STANDARD
BEGIN:DAYLIGHT
TZOFFSETFROM:+0100
TZOFFSETTO:+0200
TZNAME:CEST
DTSTART:20210328T010000
END:DAYLIGHT
BEGIN:STANDARD
TZOFFSETFROM:+0200
TZOFFSETTO:+0100
TZNAME:CET
DTSTART:20211031T010000
END:STANDARD
BEGIN:DAYLIGHT
TZOFFSETFROM:+0100
TZOFFSETTO:+0200
TZNAME:CEST
DTSTART:20220327T010000
END:DAYLIGHT
BEGIN:STANDARD
TZOFFSETFROM:+0200
TZOFFSETTO:+0100
TZNAME:CET
DTSTART:20221030T010000
END:STANDARD
END:VTIMEZONE
BEGIN:VEVENT
DTSTART;TZID=Europe/Rome:20211208T080000
DTEND;TZID=Europe/Rome:20211208T130000
DTSTAMP:20260419T143712
CREATED:20211203T184649Z
LAST-MODIFIED:20230117T162637Z
UID:27009-1638950400-1638968400@avisemiliaromagna.it
SUMMARY:Evento podistico “Mura Trail”
DESCRIPTION:
URL:https://avisemiliaromagna.it/evento/evento-podistico-mura-trail/
CATEGORIES:Eventi provinciali e comunali
END:VEVENT
BEGIN:VEVENT
DTSTART;TZID=Europe/Rome:20211208T110000
DTEND;TZID=Europe/Rome:20211208T114500
DTSTAMP:20260419T143713
CREATED:20211203T184649Z
LAST-MODIFIED:20230117T162636Z
UID:27011-1638961200-1638963900@avisemiliaromagna.it
SUMMARY:S.Messa in memoria dei donatori defunti
DESCRIPTION:
URL:https://avisemiliaromagna.it/evento/s-messa-in-memoria-dei-donatori-defunti/
CATEGORIES:Eventi provinciali e comunali
END:VEVENT
END:VCALENDAR