BEGIN:VCALENDAR
VERSION:2.0
PRODID:-//AVIS Regionale Emilia-Romagna - ECPv6.15.13//NONSGML v1.0//EN
CALSCALE:GREGORIAN
METHOD:PUBLISH
X-ORIGINAL-URL:https://avisemiliaromagna.it
X-WR-CALDESC:Eventi per AVIS Regionale Emilia-Romagna
REFRESH-INTERVAL;VALUE=DURATION:PT1H
X-Robots-Tag:noindex
X-PUBLISHED-TTL:PT1H
BEGIN:VTIMEZONE
TZID:Europe/Rome
BEGIN:DAYLIGHT
TZOFFSETFROM:+0100
TZOFFSETTO:+0200
TZNAME:CEST
DTSTART:20200329T010000
END:DAYLIGHT
BEGIN:STANDARD
TZOFFSETFROM:+0200
TZOFFSETTO:+0100
TZNAME:CET
DTSTART:20201025T010000
END:STANDARD
BEGIN:DAYLIGHT
TZOFFSETFROM:+0100
TZOFFSETTO:+0200
TZNAME:CEST
DTSTART:20210328T010000
END:DAYLIGHT
BEGIN:STANDARD
TZOFFSETFROM:+0200
TZOFFSETTO:+0100
TZNAME:CET
DTSTART:20211031T010000
END:STANDARD
BEGIN:DAYLIGHT
TZOFFSETFROM:+0100
TZOFFSETTO:+0200
TZNAME:CEST
DTSTART:20220327T010000
END:DAYLIGHT
BEGIN:STANDARD
TZOFFSETFROM:+0200
TZOFFSETTO:+0100
TZNAME:CET
DTSTART:20221030T010000
END:STANDARD
END:VTIMEZONE
BEGIN:VEVENT
DTSTART;TZID=Europe/Rome:20211118T100000
DTEND;TZID=Europe/Rome:20211121T200000
DTSTAMP:20260419T161149
CREATED:20211118T180209Z
LAST-MODIFIED:20230117T162643Z
UID:26797-1637229600-1637524800@avisemiliaromagna.it
SUMMARY:Cioccoshow 2021 | il Gruppo Giovani Avis partecipa con uno stand!
DESCRIPTION:Il Gruppo Giovani di Avis Provinciale Bologna partecipa al Cioccoshow 2021\, la storica manifestazione bolognese dedicata al cioccolato che si terrà dal 18 al 21 novembre 2021 in piazza XX settembre a Bologna.\nSarà occasione per i giovani Avis di prendere parte a un evento cittadino\, in cui diffondere i valori della nostra associazione! 
URL:https://avisemiliaromagna.it/evento/cioccoshow-2021-il-gruppo-giovani-avis-partecipa-con-uno-stand/
CATEGORIES:Eventi provinciali e comunali
END:VEVENT
BEGIN:VEVENT
DTSTART;TZID=Europe/Rome:20211120T090000
DTEND;TZID=Europe/Rome:20211120T120000
DTSTAMP:20260419T161149
CREATED:20211027T143158Z
LAST-MODIFIED:20230117T162643Z
UID:26459-1637398800-1637409600@avisemiliaromagna.it
SUMMARY:Visite senologiche\, porte aperta all’Avis di Boretto
DESCRIPTION:SABATO 20 NOVEMBRE\, dalle ore 9.00 alle ore 12.00\, presso la sede Avis Boretto (ingresso da Via Roma n°22\, ingresso ex biblioteca comunale)\, il Dott. Ermanno Rondini\, oncologo e Presidente LILT\, eseguirà visite senologiche con insegnamento dell’auto-esame.\nLa campagna di prevenzione è rivolta a tutte le donne\, con particolare attenzione alla fascia d’età 20-45\, le visite sono totalmente GRATUITE.\nE’ suggerito un contributo simbolico (non obbligatorio) di 10 euro per sostenere le iniziative LILT sul territorio. \nLA PRENOTAZIONE E’ OBBLIGATORIA contattando il numero 0522-963730 tutti i mercoledì e sabato dalle 8:00 alle 13\, a partire da Sabato 30/10 fino a Mercoledì 17/11\nObbligo di green pass. \nSarà possibile richiedere il certificato medico per giustificare l’assenza dal lavoro. \nLa locandina dell’iniziativa
URL:https://avisemiliaromagna.it/evento/visite-senologiche-porte-aperta-allavis-di-boretto/
CATEGORIES:Eventi provinciali e comunali
END:VEVENT
BEGIN:VEVENT
DTSTART;TZID=Europe/Rome:20211120T093000
DTEND;TZID=Europe/Rome:20211120T093000
DTSTAMP:20260419T161149
CREATED:20211013T160353Z
LAST-MODIFIED:20230117T162642Z
UID:26283-1637400600-1637400600@avisemiliaromagna.it
SUMMARY:Consegna Benemerenze Avis Ozzano dell’Emilia
DESCRIPTION:L’Avis Comunale di Ozzano dell’Emilia organizza la Premiazione dei Soci benemeriti\, che hanno maturato il riconoscimento nel 2019. L’appuntamento è Sabato 20 Novembre alle ore 9.30 presso la Sala Consigliare del Comune di Ozzano dell’Emilia. \nPer una quesitone di sicurezza è necessario presentarsi con Green Pass.  \nI soci premiati riceveranno comunicazione cartacea dedicata. 
URL:https://avisemiliaromagna.it/evento/consegna-benemerenze-avis-ozzano-dellemilia/
CATEGORIES:Eventi provinciali e comunali
END:VEVENT
END:VCALENDAR