BEGIN:VCALENDAR
VERSION:2.0
PRODID:-//AVIS Regionale Emilia-Romagna - ECPv6.15.13//NONSGML v1.0//EN
CALSCALE:GREGORIAN
METHOD:PUBLISH
X-ORIGINAL-URL:https://avisemiliaromagna.it
X-WR-CALDESC:Eventi per AVIS Regionale Emilia-Romagna
REFRESH-INTERVAL;VALUE=DURATION:PT1H
X-Robots-Tag:noindex
X-PUBLISHED-TTL:PT1H
BEGIN:VTIMEZONE
TZID:Europe/Rome
BEGIN:DAYLIGHT
TZOFFSETFROM:+0100
TZOFFSETTO:+0200
TZNAME:CEST
DTSTART:20200329T010000
END:DAYLIGHT
BEGIN:STANDARD
TZOFFSETFROM:+0200
TZOFFSETTO:+0100
TZNAME:CET
DTSTART:20201025T010000
END:STANDARD
BEGIN:DAYLIGHT
TZOFFSETFROM:+0100
TZOFFSETTO:+0200
TZNAME:CEST
DTSTART:20210328T010000
END:DAYLIGHT
BEGIN:STANDARD
TZOFFSETFROM:+0200
TZOFFSETTO:+0100
TZNAME:CET
DTSTART:20211031T010000
END:STANDARD
BEGIN:DAYLIGHT
TZOFFSETFROM:+0100
TZOFFSETTO:+0200
TZNAME:CEST
DTSTART:20220327T010000
END:DAYLIGHT
BEGIN:STANDARD
TZOFFSETFROM:+0200
TZOFFSETTO:+0100
TZNAME:CET
DTSTART:20221030T010000
END:STANDARD
END:VTIMEZONE
BEGIN:VEVENT
DTSTART;TZID=Europe/Rome:20211118T100000
DTEND;TZID=Europe/Rome:20211121T200000
DTSTAMP:20260419T161150
CREATED:20211118T180209Z
LAST-MODIFIED:20230117T162643Z
UID:26797-1637229600-1637524800@avisemiliaromagna.it
SUMMARY:Cioccoshow 2021 | il Gruppo Giovani Avis partecipa con uno stand!
DESCRIPTION:Il Gruppo Giovani di Avis Provinciale Bologna partecipa al Cioccoshow 2021\, la storica manifestazione bolognese dedicata al cioccolato che si terrà dal 18 al 21 novembre 2021 in piazza XX settembre a Bologna.\nSarà occasione per i giovani Avis di prendere parte a un evento cittadino\, in cui diffondere i valori della nostra associazione! 
URL:https://avisemiliaromagna.it/evento/cioccoshow-2021-il-gruppo-giovani-avis-partecipa-con-uno-stand/
CATEGORIES:Eventi provinciali e comunali
END:VEVENT
END:VCALENDAR