BEGIN:VCALENDAR
VERSION:2.0
PRODID:-//AVIS Regionale Emilia-Romagna - ECPv6.15.13//NONSGML v1.0//EN
CALSCALE:GREGORIAN
METHOD:PUBLISH
X-WR-CALNAME:AVIS Regionale Emilia-Romagna
X-ORIGINAL-URL:https://avisemiliaromagna.it
X-WR-CALDESC:Eventi per AVIS Regionale Emilia-Romagna
REFRESH-INTERVAL;VALUE=DURATION:PT1H
X-Robots-Tag:noindex
X-PUBLISHED-TTL:PT1H
BEGIN:VTIMEZONE
TZID:Europe/Rome
BEGIN:DAYLIGHT
TZOFFSETFROM:+0100
TZOFFSETTO:+0200
TZNAME:CEST
DTSTART:20200329T010000
END:DAYLIGHT
BEGIN:STANDARD
TZOFFSETFROM:+0200
TZOFFSETTO:+0100
TZNAME:CET
DTSTART:20201025T010000
END:STANDARD
BEGIN:DAYLIGHT
TZOFFSETFROM:+0100
TZOFFSETTO:+0200
TZNAME:CEST
DTSTART:20210328T010000
END:DAYLIGHT
BEGIN:STANDARD
TZOFFSETFROM:+0200
TZOFFSETTO:+0100
TZNAME:CET
DTSTART:20211031T010000
END:STANDARD
BEGIN:DAYLIGHT
TZOFFSETFROM:+0100
TZOFFSETTO:+0200
TZNAME:CEST
DTSTART:20220327T010000
END:DAYLIGHT
BEGIN:STANDARD
TZOFFSETFROM:+0200
TZOFFSETTO:+0100
TZNAME:CET
DTSTART:20221030T010000
END:STANDARD
END:VTIMEZONE
BEGIN:VEVENT
DTSTART;TZID=Europe/Rome:20211113T090000
DTEND;TZID=Europe/Rome:20211114T190000
DTSTAMP:20260419T161142
CREATED:20211029T073155Z
LAST-MODIFIED:20230117T162644Z
UID:26478-1636794000-1636916400@avisemiliaromagna.it
SUMMARY:Giornate del Ringraziamento Coldiretti Ferrara 2021
DESCRIPTION:La grande collaborazione tra Avis e Coldiretti informa che nelle giornate di sabato 13 novembre 2021 e domenica 14 novembre 2021 presso la tensostruttura sita in Piazza Trento Trieste\, saranno presenti per ” Le giornate del ringraziamento”
URL:https://avisemiliaromagna.it/evento/giornate-del-ringraziamento-coldiretti-ferrara-2021/
CATEGORIES:Eventi provinciali e comunali
END:VEVENT
BEGIN:VEVENT
DTSTART;VALUE=DATE:20211114
DTEND;VALUE=DATE:20211115
DTSTAMP:20260419T161142
CREATED:20211110T074753Z
LAST-MODIFIED:20230117T162644Z
UID:26642-1636848000-1636934399@avisemiliaromagna.it
SUMMARY:Pontelagoscuro “Il Baule in Piazza” Mercatino hobby ingegno riuso vintage
DESCRIPTION:Avis Comunale Ferrara in collaborazione con Pro loco Pontelagoscuro
URL:https://avisemiliaromagna.it/evento/pontelagoscuro-il-baule-in-piazza-mercatino-hobby-ingegno-riuso-vintage/
CATEGORIES:Eventi provinciali e comunali
END:VEVENT
BEGIN:VEVENT
DTSTART;TZID=Europe/Rome:20211114T130000
DTEND;TZID=Europe/Rome:20211114T190000
DTSTAMP:20260419T161142
CREATED:20211113T181813Z
LAST-MODIFIED:20230117T162643Z
UID:26742-1636894800-1636916400@avisemiliaromagna.it
SUMMARY:Avis Comunale Ferrara gruppo frazionale Porotto
DESCRIPTION:
URL:https://avisemiliaromagna.it/evento/avis-comunale-ferrara-gruppo-frazionale-porotto/
CATEGORIES:Eventi provinciali e comunali
END:VEVENT
END:VCALENDAR