BEGIN:VCALENDAR
VERSION:2.0
PRODID:-//AVIS Regionale Emilia-Romagna - ECPv6.15.13//NONSGML v1.0//EN
CALSCALE:GREGORIAN
METHOD:PUBLISH
X-ORIGINAL-URL:https://avisemiliaromagna.it
X-WR-CALDESC:Eventi per AVIS Regionale Emilia-Romagna
REFRESH-INTERVAL;VALUE=DURATION:PT1H
X-Robots-Tag:noindex
X-PUBLISHED-TTL:PT1H
BEGIN:VTIMEZONE
TZID:Europe/Rome
BEGIN:DAYLIGHT
TZOFFSETFROM:+0100
TZOFFSETTO:+0200
TZNAME:CEST
DTSTART:20200329T010000
END:DAYLIGHT
BEGIN:STANDARD
TZOFFSETFROM:+0200
TZOFFSETTO:+0100
TZNAME:CET
DTSTART:20201025T010000
END:STANDARD
BEGIN:DAYLIGHT
TZOFFSETFROM:+0100
TZOFFSETTO:+0200
TZNAME:CEST
DTSTART:20210328T010000
END:DAYLIGHT
BEGIN:STANDARD
TZOFFSETFROM:+0200
TZOFFSETTO:+0100
TZNAME:CET
DTSTART:20211031T010000
END:STANDARD
BEGIN:DAYLIGHT
TZOFFSETFROM:+0100
TZOFFSETTO:+0200
TZNAME:CEST
DTSTART:20220327T010000
END:DAYLIGHT
BEGIN:STANDARD
TZOFFSETFROM:+0200
TZOFFSETTO:+0100
TZNAME:CET
DTSTART:20221030T010000
END:STANDARD
END:VTIMEZONE
BEGIN:VEVENT
DTSTART;TZID=Europe/Rome:20211031T100000
DTEND;TZID=Europe/Rome:20211031T190000
DTSTAMP:20260419T172706
CREATED:20211014T143154Z
LAST-MODIFIED:20230117T162646Z
UID:26296-1635674400-1635706800@avisemiliaromagna.it
SUMMARY:A San Polo è tempo di castagne
DESCRIPTION:Autunno\, è tempo di castagne\, marroni e caldattore! E così\, come ogni anno\, Avis sezione Comunale di San Polo d’Enza e Canossa OdV organizza l’imperdibile FESTA DELLA CASTAGNA. L’appuntamento è per domenica 31 ottobre\, in piazza Matteotti\, dalle ore 10 alle ore 19\, con caldarroste\, castagnaccio\, castagnole e vin brulé per tutti. Vi aspettiamo! \nLa locandina dell’evento
URL:https://avisemiliaromagna.it/evento/a-san-polo-e-tempo-di-castagne/
CATEGORIES:Eventi provinciali e comunali
END:VEVENT
END:VCALENDAR