BEGIN:VCALENDAR
VERSION:2.0
PRODID:-//AVIS Regionale Emilia-Romagna - ECPv6.15.13//NONSGML v1.0//EN
CALSCALE:GREGORIAN
METHOD:PUBLISH
X-WR-CALNAME:AVIS Regionale Emilia-Romagna
X-ORIGINAL-URL:https://avisemiliaromagna.it
X-WR-CALDESC:Eventi per AVIS Regionale Emilia-Romagna
REFRESH-INTERVAL;VALUE=DURATION:PT1H
X-Robots-Tag:noindex
X-PUBLISHED-TTL:PT1H
BEGIN:VTIMEZONE
TZID:Europe/Rome
BEGIN:DAYLIGHT
TZOFFSETFROM:+0100
TZOFFSETTO:+0200
TZNAME:CEST
DTSTART:20200329T010000
END:DAYLIGHT
BEGIN:STANDARD
TZOFFSETFROM:+0200
TZOFFSETTO:+0100
TZNAME:CET
DTSTART:20201025T010000
END:STANDARD
BEGIN:DAYLIGHT
TZOFFSETFROM:+0100
TZOFFSETTO:+0200
TZNAME:CEST
DTSTART:20210328T010000
END:DAYLIGHT
BEGIN:STANDARD
TZOFFSETFROM:+0200
TZOFFSETTO:+0100
TZNAME:CET
DTSTART:20211031T010000
END:STANDARD
BEGIN:DAYLIGHT
TZOFFSETFROM:+0100
TZOFFSETTO:+0200
TZNAME:CEST
DTSTART:20220327T010000
END:DAYLIGHT
BEGIN:STANDARD
TZOFFSETFROM:+0200
TZOFFSETTO:+0100
TZNAME:CET
DTSTART:20221030T010000
END:STANDARD
END:VTIMEZONE
BEGIN:VEVENT
DTSTART;TZID=Europe/Rome:20211012T210000
DTEND;TZID=Europe/Rome:20211028T230000
DTSTAMP:20260419T172647
CREATED:20211005T123138Z
LAST-MODIFIED:20230117T162651Z
UID:26163-1634072400-1635462000@avisemiliaromagna.it
SUMMARY:Ottobre Rosa\, mese della prevenzione a Fabbrico
DESCRIPTION:Un mese di incontri in collaborazione con Avis Fabbrico e Rolo\nOttobre\, mese della prevenzione per la lotta contro al tumore al seno. Anche quest’anno si terranno una serie di incontri informativi sul tema della salute\, e la possibilità di prenotare la visita di prevenzione presso la sede Avis di via Verdi. Le iniziative si svolgono in collaborazione con LILT di Reggio Emilia \, AISM – Associazione Italiana Sclerosi Multipla \, AIMA \, Azienda Usl – Irccs di Reggio Emilia e AVIS Fabbrico e Rolo ODV .\nPer l’occasione anche i commercianti di Fabbrico esporranno il nastro rosa a sostegno della campagna di prevenzione\, e il Municipio sarà illuminato di rosa.\n\n\n12 OTTOBRE\, ORE 21 – SALA MUNICIPALE A. MORO\n“Conoscere\, prevenire\, curare la demenza” con la dott.ssa Morena Pellati\, Direttrice del distretto Ausl di Correggio e la dott.ssa Ilaria Bedini\, psicologa di AIMA. Sarà possibile seguire in streaming sulla pagina Facebook del Comune di Fabbrico.\n\n\nMERCOLEDÌ 20 OT TOBRE\, DAL LE 9 AL LE 12\nVisite di prevenzione del tumore al seno e insegnamento dell’autoesame a cura degli specialisti di LILT. Le visite si svolgeranno presso la sede AVIS di via G. Verdi. Prenotazione obbligatoria al numero 339/7537671.\n\n\n28 OTTOBRE\, ORE 21 .00 – SALA MUNICIPALE A. MORO\n“Come vivere con la Sclerosi Multipla\, dalla diagnosi alla vita quotidiana” con il dott. Roberto Fontanili\, Presidente AISM Reggio Emilia. Sarà\npossibile seguire in streaming sulla pagina Facebook del Comune di Fabbrico.\n\n\nConsulta il volantino delle iniziative\n\n\nFonte: comune.fabbrico.re.it/
URL:https://avisemiliaromagna.it/evento/ottobre-rosa-mese-della-prevenzione-a-fabbrico/
CATEGORIES:Eventi provinciali e comunali
END:VEVENT
BEGIN:VEVENT
DTSTART;TZID=Europe/Rome:20211023T101500
DTEND;TZID=Europe/Rome:20211023T141500
DTSTAMP:20260419T172647
CREATED:20211018T144704Z
LAST-MODIFIED:20230117T162649Z
UID:26347-1634984100-1634998500@avisemiliaromagna.it
SUMMARY:54° Festa Sociale Avis Comunale Ferrara
DESCRIPTION:PROGRAMMA della giornata:\nGemellaggio AVIS Ferrara – Rovigo\nOre 10.15            Ritrovo presso Parco Pareschi – Corso Giovecca 148\nOre 10.30            Sfilata per le vie cittadine preceduta dalla Banda Filarmonica “G. Verdi” di Cona APS e dagli Sbandieratori e Musici dell’Ente Palio Città di Ferrara\nOre 10.45            Deposizione Corona d’alloro al Monumento dei Caduti di tutte le Guerre\nOre 11.00            Cerimonia di Gemellaggio con AVIS Provinciale e Comunale di Ferrara e Rovigo c/o Sala Arengo Comune di Ferrara\n \nCerimonia di premiazione dei Soci Benemeriti\nOre 15.00            Santa Messa celebrata da Don Michele Zecchin presso la Chiesa Parrocchiale S. Agostino di Via Mambro 96\nOre 16.30            Apertura della manifestazione al MF impianti Palazzetto Ferrara\, Piazzale Atleti Azzurri d’Italia 1. Cerimonia di premiazione Soci-Donatori. Esibizioni sportive degli atleti della\nPGF Palestra   Ginnastica Ferrara a.s.d.\nOre 18.30            Spettacolo di chiusura con Andrea Poltronieri Poltrosax\nOre 19.00            Buffet conclusivo offerto a tutti partecipanti\n \n 
URL:https://avisemiliaromagna.it/evento/54-festa-sociale-avis-comunale-ferrara/
CATEGORIES:Eventi provinciali e comunali
END:VEVENT
BEGIN:VEVENT
DTSTART;TZID=Europe/Rome:20211023T180000
DTEND;TZID=Europe/Rome:20211023T190000
DTSTAMP:20260419T172647
CREATED:20210921T151814Z
LAST-MODIFIED:20230117T162648Z
UID:25982-1635012000-1635015600@avisemiliaromagna.it
SUMMARY:Festa e Premiazioni dei Soci benemeriti Avis Sala Bolognese
DESCRIPTION:L’Avis Comunale di Sala Bolognese organizza la Festa dei Donatori di Sangue\, che si terrà Sabato 23 Ottobre e nel corso della quale ci sarà la Premiazione dei Soci Donatori Benemeriti. \nore 18.00: Santa Messa per i Donatori Avis nella Basilica di Sala Bolognese;\nore 19.00: aperitivo in Piazza con la collaborazione di Sto Bar e Pizzeria Cavallo;\na seguire: presentazione del calendario dei commercianti dell’anno 2022\, ideato da Avis e Amministrazione Comunale. Saranno presenti il Sindaco Emanuele Bassi\, il Comandante dei Carabinieri Stira\, tutti gli sponsor e i commercianti che hanno contribuito alla realizzazione del calendario.\na seguire: Premiazione dei Soci Donatori che hanno maturato la benemerenza nel 2019 e nel 2020*;\nLa serata sarà allietata da musica di accompagnamento.\nÈ gradita conferma di partecipazione al numero 3473362131.\n*I soci premiati riceveranno comunicazione cartacea dedicata. 
URL:https://avisemiliaromagna.it/evento/premiazioni-dei-soci-benemeriti-avis-sala-bolognese/
CATEGORIES:Eventi provinciali e comunali
END:VEVENT
BEGIN:VEVENT
DTSTART;TZID=Europe/Rome:20211023T193000
DTEND;TZID=Europe/Rome:20211023T233000
DTSTAMP:20260419T172647
CREATED:20211014T143152Z
LAST-MODIFIED:20230117T162648Z
UID:26294-1635017400-1635031800@avisemiliaromagna.it
SUMMARY:La Sardegna va a cena con Avis Calerno
DESCRIPTION:Avis Calerno\, insieme alle altre associazioni di volontariato propongono per SABATO 23 OTTOBRE c/o le Vele (ambiente riscaldato) del Parco Vernazza a Calerno una serata nuova e speciale.\n\n\n\n“LA SARDEGNA VA A CENA“\, degustazione di prodotti tipici sardi.\nCosto tot. 32€\n\n\nDalle ore 19.30 ecco il menù completo che vi proponiamo :\nAntipasto\n– Prosciutto di Desulo\n– Bottarga di Muggine\n– Salsiccia con finocchina\n– Formaggio fresco\n\n\nPrimo piatto\n-Gnocchetti sardi al Ragù\n\n\nSecondo piatto\n-Maialetto (porceddu) allo spiedo con patate al forno\n-Pecorino sardo stagionato \n\n\n\nA seguire\nSeadas con Miele\, Mirto e Filu Ferru \n\n\n\nLa degustazione è accompagnata da Vermentino e Cannonau Monica.\n\n\nPossibilità di Menu bimbi € 10 – cotoletta con patatine + bibita\n\n\nOBBLIGO DI GREEN PASS & PRENOTAZIONE OBBLIGATORIA ENTRO MARTEDI 19 OTTOBRE \n\n\n\nElena 340 6806100 dalle ore 18.30 in poi (anche whatsapp)\nFrancesca 333 4437046 dalle ore 18.30 in poi (anche whatsapp) \nLa locandina dell’evento
URL:https://avisemiliaromagna.it/evento/la-sardegna-va-a-cena-con-avis-calerno/
CATEGORIES:Eventi provinciali e comunali
END:VEVENT
END:VCALENDAR