BEGIN:VCALENDAR
VERSION:2.0
PRODID:-//AVIS Regionale Emilia-Romagna - ECPv6.15.13//NONSGML v1.0//EN
CALSCALE:GREGORIAN
METHOD:PUBLISH
X-WR-CALNAME:AVIS Regionale Emilia-Romagna
X-ORIGINAL-URL:https://avisemiliaromagna.it
X-WR-CALDESC:Eventi per AVIS Regionale Emilia-Romagna
REFRESH-INTERVAL;VALUE=DURATION:PT1H
X-Robots-Tag:noindex
X-PUBLISHED-TTL:PT1H
BEGIN:VTIMEZONE
TZID:Europe/Rome
BEGIN:DAYLIGHT
TZOFFSETFROM:+0100
TZOFFSETTO:+0200
TZNAME:CEST
DTSTART:20200329T010000
END:DAYLIGHT
BEGIN:STANDARD
TZOFFSETFROM:+0200
TZOFFSETTO:+0100
TZNAME:CET
DTSTART:20201025T010000
END:STANDARD
BEGIN:DAYLIGHT
TZOFFSETFROM:+0100
TZOFFSETTO:+0200
TZNAME:CEST
DTSTART:20210328T010000
END:DAYLIGHT
BEGIN:STANDARD
TZOFFSETFROM:+0200
TZOFFSETTO:+0100
TZNAME:CET
DTSTART:20211031T010000
END:STANDARD
BEGIN:DAYLIGHT
TZOFFSETFROM:+0100
TZOFFSETTO:+0200
TZNAME:CEST
DTSTART:20220327T010000
END:DAYLIGHT
BEGIN:STANDARD
TZOFFSETFROM:+0200
TZOFFSETTO:+0100
TZNAME:CET
DTSTART:20221030T010000
END:STANDARD
END:VTIMEZONE
BEGIN:VEVENT
DTSTART;TZID=Europe/Rome:20211012T210000
DTEND;TZID=Europe/Rome:20211028T230000
DTSTAMP:20260419T172606
CREATED:20211005T123138Z
LAST-MODIFIED:20230117T162651Z
UID:26163-1634072400-1635462000@avisemiliaromagna.it
SUMMARY:Ottobre Rosa\, mese della prevenzione a Fabbrico
DESCRIPTION:Un mese di incontri in collaborazione con Avis Fabbrico e Rolo\nOttobre\, mese della prevenzione per la lotta contro al tumore al seno. Anche quest’anno si terranno una serie di incontri informativi sul tema della salute\, e la possibilità di prenotare la visita di prevenzione presso la sede Avis di via Verdi. Le iniziative si svolgono in collaborazione con LILT di Reggio Emilia \, AISM – Associazione Italiana Sclerosi Multipla \, AIMA \, Azienda Usl – Irccs di Reggio Emilia e AVIS Fabbrico e Rolo ODV .\nPer l’occasione anche i commercianti di Fabbrico esporranno il nastro rosa a sostegno della campagna di prevenzione\, e il Municipio sarà illuminato di rosa.\n\n\n12 OTTOBRE\, ORE 21 – SALA MUNICIPALE A. MORO\n“Conoscere\, prevenire\, curare la demenza” con la dott.ssa Morena Pellati\, Direttrice del distretto Ausl di Correggio e la dott.ssa Ilaria Bedini\, psicologa di AIMA. Sarà possibile seguire in streaming sulla pagina Facebook del Comune di Fabbrico.\n\n\nMERCOLEDÌ 20 OT TOBRE\, DAL LE 9 AL LE 12\nVisite di prevenzione del tumore al seno e insegnamento dell’autoesame a cura degli specialisti di LILT. Le visite si svolgeranno presso la sede AVIS di via G. Verdi. Prenotazione obbligatoria al numero 339/7537671.\n\n\n28 OTTOBRE\, ORE 21 .00 – SALA MUNICIPALE A. MORO\n“Come vivere con la Sclerosi Multipla\, dalla diagnosi alla vita quotidiana” con il dott. Roberto Fontanili\, Presidente AISM Reggio Emilia. Sarà\npossibile seguire in streaming sulla pagina Facebook del Comune di Fabbrico.\n\n\nConsulta il volantino delle iniziative\n\n\nFonte: comune.fabbrico.re.it/
URL:https://avisemiliaromagna.it/evento/ottobre-rosa-mese-della-prevenzione-a-fabbrico/
CATEGORIES:Eventi provinciali e comunali
END:VEVENT
END:VCALENDAR