BEGIN:VCALENDAR
VERSION:2.0
PRODID:-//AVIS Regionale Emilia-Romagna - ECPv6.15.13//NONSGML v1.0//EN
CALSCALE:GREGORIAN
METHOD:PUBLISH
X-WR-CALNAME:AVIS Regionale Emilia-Romagna
X-ORIGINAL-URL:https://avisemiliaromagna.it
X-WR-CALDESC:Eventi per AVIS Regionale Emilia-Romagna
REFRESH-INTERVAL;VALUE=DURATION:PT1H
X-Robots-Tag:noindex
X-PUBLISHED-TTL:PT1H
BEGIN:VTIMEZONE
TZID:Europe/Rome
BEGIN:DAYLIGHT
TZOFFSETFROM:+0100
TZOFFSETTO:+0200
TZNAME:CEST
DTSTART:20200329T010000
END:DAYLIGHT
BEGIN:STANDARD
TZOFFSETFROM:+0200
TZOFFSETTO:+0100
TZNAME:CET
DTSTART:20201025T010000
END:STANDARD
BEGIN:DAYLIGHT
TZOFFSETFROM:+0100
TZOFFSETTO:+0200
TZNAME:CEST
DTSTART:20210328T010000
END:DAYLIGHT
BEGIN:STANDARD
TZOFFSETFROM:+0200
TZOFFSETTO:+0100
TZNAME:CET
DTSTART:20211031T010000
END:STANDARD
BEGIN:DAYLIGHT
TZOFFSETFROM:+0100
TZOFFSETTO:+0200
TZNAME:CEST
DTSTART:20220327T010000
END:DAYLIGHT
BEGIN:STANDARD
TZOFFSETFROM:+0200
TZOFFSETTO:+0100
TZNAME:CET
DTSTART:20221030T010000
END:STANDARD
END:VTIMEZONE
BEGIN:VEVENT
DTSTART;TZID=Europe/Rome:20211002T153000
DTEND;TZID=Europe/Rome:20211002T193000
DTSTAMP:20260419T172641
CREATED:20210913T193143Z
LAST-MODIFIED:20230117T162654Z
UID:25881-1633188600-1633203000@avisemiliaromagna.it
SUMMARY:Biciclettata attraverso i giardini delle ville di Reggio
DESCRIPTION:Aps Gocciarossa insieme ad Avis Comunale di Reggio Emilia\, Avis Provinciale di Reggio Emilia e Fiab Tuttinbici vi invitano sabato 2 ottobre ad una bibiclettata attraverso i giardini delle ville di Reggio. 20 chilometri di pedalata aperta a tutti attraverso i giardini di alcune ville storiche della nostra città\, accompagnati dal botanico Prof. Ugo Pellini.\nPartecipazione gratuita con prenotazione obbligatoria.\nRitrovo sabato 02 oobre alle 15:30 presso la Casa del Dono in via Muzio Clementi 2/A. Al rientro presso il punto di partenza buffet per tutti nel cortile della struttura.\nPer info tel. 0522 451075. \nIn allegato la locandina dell’evento
URL:https://avisemiliaromagna.it/evento/biciclettata-attraverso-i-giardini-delle-ville-di-reggio/
CATEGORIES:Eventi provinciali e comunali
END:VEVENT
END:VCALENDAR