BEGIN:VCALENDAR
VERSION:2.0
PRODID:-//AVIS Regionale Emilia-Romagna - ECPv6.15.13//NONSGML v1.0//EN
CALSCALE:GREGORIAN
METHOD:PUBLISH
X-WR-CALNAME:AVIS Regionale Emilia-Romagna
X-ORIGINAL-URL:https://avisemiliaromagna.it
X-WR-CALDESC:Eventi per AVIS Regionale Emilia-Romagna
REFRESH-INTERVAL;VALUE=DURATION:PT1H
X-Robots-Tag:noindex
X-PUBLISHED-TTL:PT1H
BEGIN:VTIMEZONE
TZID:Europe/Rome
BEGIN:DAYLIGHT
TZOFFSETFROM:+0100
TZOFFSETTO:+0200
TZNAME:CEST
DTSTART:20200329T010000
END:DAYLIGHT
BEGIN:STANDARD
TZOFFSETFROM:+0200
TZOFFSETTO:+0100
TZNAME:CET
DTSTART:20201025T010000
END:STANDARD
BEGIN:DAYLIGHT
TZOFFSETFROM:+0100
TZOFFSETTO:+0200
TZNAME:CEST
DTSTART:20210328T010000
END:DAYLIGHT
BEGIN:STANDARD
TZOFFSETFROM:+0200
TZOFFSETTO:+0100
TZNAME:CET
DTSTART:20211031T010000
END:STANDARD
BEGIN:DAYLIGHT
TZOFFSETFROM:+0100
TZOFFSETTO:+0200
TZNAME:CEST
DTSTART:20220327T010000
END:DAYLIGHT
BEGIN:STANDARD
TZOFFSETFROM:+0200
TZOFFSETTO:+0100
TZNAME:CET
DTSTART:20221030T010000
END:STANDARD
END:VTIMEZONE
BEGIN:VEVENT
DTSTART;VALUE=DATE:20210926
DTEND;VALUE=DATE:20210927
DTSTAMP:20260419T190134
CREATED:20210909T100632Z
LAST-MODIFIED:20230117T162655Z
UID:25820-1632614400-1632700799@avisemiliaromagna.it
SUMMARY:60° anniversario Avis Russi
DESCRIPTION:Avis Comunale di Russi ODV in collaborazione con Pubblica Assistenza di Russi ODV\ncelebra il 60° anniversario dell’Avis Comunale\nProgramma:\nore 9.00 – Piazza Farini: misurazione della glicemia nei locali della Pubblica Assistenza di Russi\nore 11.30 – Intitolazione di area pubblica in via Godo vecchia\n“rotonda della Donazione di sangue” alla presenza di Autorità pubbliche\, Dirigenti associativi e con la partecipazione della gemellata Avis Comunale di Soragna\nore 20\,30 – Teatro Comunale: “Sessant’anni di Solidarietà” e spettacolo del Coro Lirico Città di Faenza\, diretto da Monica Ferrini\, con celebri scene e arie d’opera e operetta\nPer informazioni: 320 4784053 – russi.comunale@avis.it\n \n \n \n \n 
URL:https://avisemiliaromagna.it/evento/staffetta-50x1000-dantesca-della-100-km-del-passatore/
CATEGORIES:Eventi provinciali e comunali
END:VEVENT
BEGIN:VEVENT
DTSTART;TZID=Europe/Rome:20210926T093000
DTEND;TZID=Europe/Rome:20210926T120000
DTSTAMP:20260419T190134
CREATED:20210922T193150Z
LAST-MODIFIED:20230117T162654Z
UID:26005-1632648600-1632657600@avisemiliaromagna.it
SUMMARY:Gazebo della Salute per tutti
DESCRIPTION:Domenica 26 settembre\, in occasione della Fiera di San Matteo\, l’Avis Comunale di Gattatico vi aspetta nel suo Gazebo della Salute\, per svolgere gratuitamente controlli di pressione\, glicemia\, emoglobina e colesterolo più anamnesi con medico (gli interessati è bene che si presentino digiuni da zuccheri). \nIl gazebo sarà a disposizione della cittadinanza dalle 9.30 alle 12.00 davanti la Sala Polivalente di via Cicalini 14 a Praticello di Gattatico. \nLa locandina dell’iniziativa
URL:https://avisemiliaromagna.it/evento/gazebo-della-salute-per-tutti/
CATEGORIES:Eventi provinciali e comunali
END:VEVENT
END:VCALENDAR