BEGIN:VCALENDAR
VERSION:2.0
PRODID:-//AVIS Regionale Emilia-Romagna - ECPv6.15.13//NONSGML v1.0//EN
CALSCALE:GREGORIAN
METHOD:PUBLISH
X-ORIGINAL-URL:https://avisemiliaromagna.it
X-WR-CALDESC:Eventi per AVIS Regionale Emilia-Romagna
REFRESH-INTERVAL;VALUE=DURATION:PT1H
X-Robots-Tag:noindex
X-PUBLISHED-TTL:PT1H
BEGIN:VTIMEZONE
TZID:Europe/Rome
BEGIN:DAYLIGHT
TZOFFSETFROM:+0100
TZOFFSETTO:+0200
TZNAME:CEST
DTSTART:20200329T010000
END:DAYLIGHT
BEGIN:STANDARD
TZOFFSETFROM:+0200
TZOFFSETTO:+0100
TZNAME:CET
DTSTART:20201025T010000
END:STANDARD
BEGIN:DAYLIGHT
TZOFFSETFROM:+0100
TZOFFSETTO:+0200
TZNAME:CEST
DTSTART:20210328T010000
END:DAYLIGHT
BEGIN:STANDARD
TZOFFSETFROM:+0200
TZOFFSETTO:+0100
TZNAME:CET
DTSTART:20211031T010000
END:STANDARD
BEGIN:DAYLIGHT
TZOFFSETFROM:+0100
TZOFFSETTO:+0200
TZNAME:CEST
DTSTART:20220327T010000
END:DAYLIGHT
BEGIN:STANDARD
TZOFFSETFROM:+0200
TZOFFSETTO:+0100
TZNAME:CET
DTSTART:20221030T010000
END:STANDARD
END:VTIMEZONE
BEGIN:VEVENT
DTSTART;VALUE=DATE:20210925
DTEND;VALUE=DATE:20210926
DTSTAMP:20260419T190255
CREATED:20210909T100632Z
LAST-MODIFIED:20230117T162655Z
UID:25818-1632528000-1632614399@avisemiliaromagna.it
SUMMARY:#dantESCOinMOTO2021: un viaggio in moto tra Emilia-Romagna e Toscana
DESCRIPTION:Anche AVIS Provinciale Ravenna prende parte al progetto FilRouge di AVIS Nazionale\nUn viaggio in moto tra Emilia-Romagna e Toscana\, lungo la “Via degli Dei” (Bologna-Firenze) e “Il Cammino di Dante” (Firenze – Ravenna)\, per sensibilizzare i cittadini ai valori cardine di AVIS. #dantESCOinMOTO2021 : questa l’ultima ed entusiasmante iniziativa organizzata da AVIS Provinciale Ravenna su proposta del Gruppo Giovani per sabato 25 settembre\, in onore del legame che univa Dante Alighieri ai territori tosco-emiliani.\nL’evento è rivolto a tutti i gruppi motociclistici ed agli appassionati delle due ruote\, ma punta a coinvolgere anche le associazioni (di volontariato e non) e le attività commerciali legate ai territori attraversati.\nQui tutte le info per iscrizione e partecipazione.\nScarica la locandina dell’evento\n \n \n 
URL:https://avisemiliaromagna.it/evento/dantescoinmoto2021-un-viaggio-in-moto-tra-emilia-romagna-e-toscana/
CATEGORIES:Eventi provinciali e comunali
END:VEVENT
BEGIN:VEVENT
DTSTART;VALUE=DATE:20210925
DTEND;VALUE=DATE:20210926
DTSTAMP:20260419T190255
CREATED:20210922T103154Z
LAST-MODIFIED:20230117T162655Z
UID:25990-1632528000-1632614399@avisemiliaromagna.it
SUMMARY:Staffetta 50×1000 ‘Dantesca’ della 100 km del Passatore
DESCRIPTION:Edizione speciale della storica Staffetta 50×1000 della 100 km del Passatore per celebrare il 700° anniversario della morte di Dante Alighieri (1321).\nCon partenza da Firenze (città natale) e da Ravenna (dove riposano le spoglie del Sommo Poeta) per arrivare\, di corsa\, a Faenza (città i cui abitanti hanno ispirato alcuni passaggi della Divina Commedia).\nStaffettisti partecipanti: studenti under 16.\nUn modo nuovo per promuovere Cultura e Sport\, ricordando Dante Alighieri\, mettendo insieme SPORT\, SCUOLA e FAMIGLIE: la catena educativa.\nFaenza (RA) – Ravenna (Emilia Romagna) | Firenze (Toscana)\nSabato 25 settembre\nPartenza da Firenze alle ore 8\,00/9\,00.\nPartenza da Ravenna alle ore 13\,00/14\,00.\nArrivo a Faenza alle ore 18\,00/19\,00.\nScarica la locandina dell’evento\n \n \n \n 
URL:https://avisemiliaromagna.it/evento/staffetta-50x1000-dantesca-della-100-km-del-passatore-2/
CATEGORIES:Eventi provinciali e comunali
END:VEVENT
END:VCALENDAR