BEGIN:VCALENDAR
VERSION:2.0
PRODID:-//AVIS Regionale Emilia-Romagna - ECPv6.15.13//NONSGML v1.0//EN
CALSCALE:GREGORIAN
METHOD:PUBLISH
X-WR-CALNAME:AVIS Regionale Emilia-Romagna
X-ORIGINAL-URL:https://avisemiliaromagna.it
X-WR-CALDESC:Eventi per AVIS Regionale Emilia-Romagna
REFRESH-INTERVAL;VALUE=DURATION:PT1H
X-Robots-Tag:noindex
X-PUBLISHED-TTL:PT1H
BEGIN:VTIMEZONE
TZID:Europe/Rome
BEGIN:DAYLIGHT
TZOFFSETFROM:+0100
TZOFFSETTO:+0200
TZNAME:CEST
DTSTART:20200329T010000
END:DAYLIGHT
BEGIN:STANDARD
TZOFFSETFROM:+0200
TZOFFSETTO:+0100
TZNAME:CET
DTSTART:20201025T010000
END:STANDARD
BEGIN:DAYLIGHT
TZOFFSETFROM:+0100
TZOFFSETTO:+0200
TZNAME:CEST
DTSTART:20210328T010000
END:DAYLIGHT
BEGIN:STANDARD
TZOFFSETFROM:+0200
TZOFFSETTO:+0100
TZNAME:CET
DTSTART:20211031T010000
END:STANDARD
BEGIN:DAYLIGHT
TZOFFSETFROM:+0100
TZOFFSETTO:+0200
TZNAME:CEST
DTSTART:20220327T010000
END:DAYLIGHT
BEGIN:STANDARD
TZOFFSETFROM:+0200
TZOFFSETTO:+0100
TZNAME:CET
DTSTART:20221030T010000
END:STANDARD
END:VTIMEZONE
BEGIN:VEVENT
DTSTART;TZID=Europe/Rome:20210913T210000
DTEND;TZID=Europe/Rome:20210913T210000
DTSTAMP:20260419T190146
CREATED:20210913T054459Z
LAST-MODIFIED:20230117T162657Z
UID:25855-1631566800-1631566800@avisemiliaromagna.it
SUMMARY:Mirandola\, intervista a Orietta Berti
DESCRIPTION:Ingresso libero con prenotazione obbligatoria. Info: 3351420976  \n                70° Avis Mirandola – programma \n                     6.59 MB\n                     119 downloads \n            … \n            Scarica \n 
URL:https://avisemiliaromagna.it/evento/mirandola-intervista-a-orietta-berti/
CATEGORIES:Eventi provinciali e comunali
END:VEVENT
END:VCALENDAR