BEGIN:VCALENDAR
VERSION:2.0
PRODID:-//AVIS Regionale Emilia-Romagna - ECPv6.15.13//NONSGML v1.0//EN
CALSCALE:GREGORIAN
METHOD:PUBLISH
X-WR-CALNAME:AVIS Regionale Emilia-Romagna
X-ORIGINAL-URL:https://avisemiliaromagna.it
X-WR-CALDESC:Eventi per AVIS Regionale Emilia-Romagna
REFRESH-INTERVAL;VALUE=DURATION:PT1H
X-Robots-Tag:noindex
X-PUBLISHED-TTL:PT1H
BEGIN:VTIMEZONE
TZID:Europe/Rome
BEGIN:DAYLIGHT
TZOFFSETFROM:+0100
TZOFFSETTO:+0200
TZNAME:CEST
DTSTART:20200329T010000
END:DAYLIGHT
BEGIN:STANDARD
TZOFFSETFROM:+0200
TZOFFSETTO:+0100
TZNAME:CET
DTSTART:20201025T010000
END:STANDARD
BEGIN:DAYLIGHT
TZOFFSETFROM:+0100
TZOFFSETTO:+0200
TZNAME:CEST
DTSTART:20210328T010000
END:DAYLIGHT
BEGIN:STANDARD
TZOFFSETFROM:+0200
TZOFFSETTO:+0100
TZNAME:CET
DTSTART:20211031T010000
END:STANDARD
BEGIN:DAYLIGHT
TZOFFSETFROM:+0100
TZOFFSETTO:+0200
TZNAME:CEST
DTSTART:20220327T010000
END:DAYLIGHT
BEGIN:STANDARD
TZOFFSETFROM:+0200
TZOFFSETTO:+0100
TZNAME:CET
DTSTART:20221030T010000
END:STANDARD
END:VTIMEZONE
BEGIN:VEVENT
DTSTART;TZID=Europe/Rome:20210903T080000
DTEND;TZID=Europe/Rome:20210912T170000
DTSTAMP:20260419T190134
CREATED:20210903T191703Z
LAST-MODIFIED:20230117T162700Z
UID:25731-1630656000-1631466000@avisemiliaromagna.it
SUMMARY:Mini Crociera d’Autunno
DESCRIPTION:Avis comunale di Reggio Emilia ODV ti porta a scoprire le meraviglie del mediterraneo in una crociera imperdibile sulla splendida COSTA DIADEMA. \nPER PRENOTAZIONI CONTATTACI ALLO 0522451075 oppure scrivici su segreteria@avis.re.it. \nISCRIZIONI ENTRO IL 12 SETTEMBRE (FINO AD ESAURIMENTO POSTI) \nPREZZI AGEVOLATI PER I SOCI DI AVIS COMUNALE REGGIO EMILIA ODV!!! \nSavona\, Barcellona\, Marsiglia\, Civitavecchia/Roma\n7-12 Novembre 2021         \n6 giorni / 5 notti\nFINALMENTE SI RIPARTE! \n\n\nLe quote comprendono:: * trasferimento in pullman GT per il porto d’imbarco e dal porto di sbarco * sistemazione nella cabina doppia prescelta dotata di ogni comfort: servizi privati\, aria condizionata\, telefono\, filodiffusione\, Tv Sat.\, cassaforte * trattamento di pensione completa a bordo * utilizzo di tutte le attrezzature (NON a pagamento) della nave * partecipazione alle attività previste a bordo (animazione\, spettacoli musicali o di cabaret\, corsi vari….ecc.) * assistenza di personale di lingua italiana durante tutta la crociera * facchinaggio dei bagagli nei porti d’imbarco e sbarco * mezzi di imbarco e sbarco nei vari scali (non in esclusiva) * tasse portuali (€ 100\,00) * quote di servizio € 30\,00 (€ 10\,00 per persona per notte) * assicurazione medico/bagaglio\, annullamento-viaggio e polizza Garanzie Aggiuntive Covid-19 (rimborso per maggiori costi sostenuti per il rientro con un mezzo alternativo a quello previsto dal contratto di viaggio e non più disponibile causa Covid-19 / prolungamento del soggiorno max 15 giorni per restrizioni imposte dalle autorità locali causa Covid-19) a favore di ciascun partecipante. \nLe quote non comprendono: * forfait bevande ai pasti * escursioni a terra con eventuali ingressi a musei/monumenti * servizi di carattere personale ed extra in genere * tutto quanto non indicato alla voce “Le quote comprendono”. \nNOTE: 1) il programma di viaggio potrebbe subire qualche variazione senza nulla togliere all’esecuzione e alle visite previste in programma.\n2) Gli orari precisi verranno riconfermati sul foglio notizie che verrà consegnato ai partecipanti prima della partenza.\n3) Documenti di viaggio: carta d’identità valida per l’espatrio. Evitare l’utilizzo del documento con rinnovo tramite apposizione timbro in quanto non accettate. Le carte d’identità elettroniche con rinnovo cartaceo non vengono riconosciute come valide. Per i minori\, a partire dal 26/06/2012\, su disposizione del Ministero dell’Interno\, tutti i minori dovranno essere in possesso di proprio passaporto. Da quella data quindi non saranno più valide le iscrizioni dei minori sul passaporto dei genitori (i passaporti dei genitori rimarranno validi per il solo titolare fino alla naturale scadenza).\n4) Formalità sanitarie: nessuna segnalazione al momento \nFonte: https://www.avis.re.it/
URL:https://avisemiliaromagna.it/evento/mini-crociera-dautunno/
CATEGORIES:Eventi provinciali e comunali
END:VEVENT
BEGIN:VEVENT
DTSTART;VALUE=DATE:20210911
DTEND;VALUE=DATE:20210912
DTSTAMP:20260419T190134
CREATED:20210728T134651Z
LAST-MODIFIED:20230117T162658Z
UID:25062-1631318400-1631404799@avisemiliaromagna.it
SUMMARY:Gita sociale Avis Imola – Pisa e Parco San Rossore
DESCRIPTION:Gita sociale dell’Avis di Imola per l’11 settembre 2021: Pisa e Parco San Rossore\nSabato 11 settembre 2021 si terrà la gita sociale presso la città di Pisa e la tenuta di San Rossore.\nPer tutte le info apri l’allegato “Programma gita sociale” qui sotto.\nISCRIZIONI ENTRO IL 25 AGOSTO – MINIMO 30 PARTECIPANTI\nISCRIZIONI DA SUBITO CON SALDO DELLA QUOTA.\nQUOTA SOCI DONATORI AVIS E MINORENNI: €50;\nQUOTA NON SOCI DONATORI €80.\nProgramma gita sociale
URL:https://avisemiliaromagna.it/evento/gita-sociale-avis-imola-pisa-e-parco-san-rossore/
CATEGORIES:Eventi provinciali e comunali
END:VEVENT
BEGIN:VEVENT
DTSTART;TZID=Europe/Rome:20210911T190000
DTEND;TZID=Europe/Rome:20210912T223000
DTSTAMP:20260419T190134
CREATED:20210830T184840Z
LAST-MODIFIED:20230117T162658Z
UID:25549-1631386800-1631485800@avisemiliaromagna.it
SUMMARY:Festa del Pesce con Avis Calerno
DESCRIPTION:CNon ti stancare mai di aspettare”\nL’abbiamo annunciato. L’abbiamo studiato bene. Abbiamo pensato alla gestione di tutto ciò che gira intorno alla festa.\nAbbiamo portato pazienza.\nCi rimaneva solo una cosa da fare.\nTORNARE. E SIAMO TORNATI. \nEcco il programma completo della FESTA DEL PESCE organizzata da Avis Calerno ODV e Calerno Calcio per Sabato 11 e Domenica 12 Settembre al Parco Vernazza.\nSABATO 11 Settembre ci tornano a trovare i ragazzi della Fnil Bus Theater con i quali abbiamo un paio di risate in sospeso dal 2019\, con lo spettacolo di cabaret “TRE UOMINI E UNA BIONDA TINTA” \nDomenica 12 Settembre saranno con noi i “MA NOI NO” Ma Noi No – Nomadi Tribute Band con il trio Paolo\, Perez ed Elisa che canteranno e suoneranno in acustico.\nEntrambe le sere sarà in funzione IL RISTORANTE che\, per motivi organizzativi sarà accessibile solo su PRENOTAZIONE e con GREEN PASS.\nSaranno disponibili due turni\, il primo alla ore 19 e il secondo alle ore 21.\n(posti limitati a causa del Covid ’19 ma riusciremo a prendervi tutti con un po’ di pazienza ed organizzazione\, ne siamo certi) \nQui allegate tutte le informazioni e i numeri utili.
URL:https://avisemiliaromagna.it/evento/festa-del-pesce-con-avis-calerno/
CATEGORIES:Eventi provinciali e comunali
END:VEVENT
BEGIN:VEVENT
DTSTART;TZID=Europe/Rome:20210911T200000
DTEND;TZID=Europe/Rome:20210911T223000
DTSTAMP:20260419T190134
CREATED:20210821T184744Z
LAST-MODIFIED:20230117T162658Z
UID:25359-1631390400-1631399400@avisemiliaromagna.it
SUMMARY:Avis Castelnovo Nè Monti\, Festa del donatore 2021
DESCRIPTION:Avis Castelnovo ne’ Monti invita i propri donatori a partecipare alla tradizionale FESTA DEL DONATORE che si terrà sabato 11 settembre 2021 dalle ore 20:00 presso il PARCO TEGGE (Loc. Felina) di Castelnovo ne’ Monti. \nPer chi volesse cenare il loco il costo è di 25€. La cena sarà offerta ai donatori della sezione locale. I posti sono limitati ad un massimo di 250 persone. \nDurante la serata saranno premiati i donatori benemeriti che hanno raggiunto gli obbiettivi di donazioni e di attività previsti dal regolamento nazionale attualmente in vigore. \nPer informazioni e prenotazioni (entro martedì 7) si prega di telefonare a Daniela al numero 3311061614. \n\n\n\n\n× \nLa partecipazione all’evento sarà soggetta alle normative vigenti per tale motivo sarà necessario essere in possesso di GREEN PASS o tampone (test molecolare o antigenico rapido con risultato negativo al virus Sars-CoV-2 effettuato nelle precedenti 48 ore) valido alla data dell’evento.\n\n\n \n\n    \n        \n     \n\n        Festa del Donatore 2021 – Locandina \n\n             1.56 MB \n            1 file(s)
URL:https://avisemiliaromagna.it/evento/festa-del-donatore-2021/
CATEGORIES:Eventi provinciali e comunali
END:VEVENT
END:VCALENDAR