BEGIN:VCALENDAR
VERSION:2.0
PRODID:-//AVIS Regionale Emilia-Romagna - ECPv6.15.13//NONSGML v1.0//EN
CALSCALE:GREGORIAN
METHOD:PUBLISH
X-ORIGINAL-URL:https://avisemiliaromagna.it
X-WR-CALDESC:Eventi per AVIS Regionale Emilia-Romagna
REFRESH-INTERVAL;VALUE=DURATION:PT1H
X-Robots-Tag:noindex
X-PUBLISHED-TTL:PT1H
BEGIN:VTIMEZONE
TZID:Europe/Rome
BEGIN:DAYLIGHT
TZOFFSETFROM:+0100
TZOFFSETTO:+0200
TZNAME:CEST
DTSTART:20200329T010000
END:DAYLIGHT
BEGIN:STANDARD
TZOFFSETFROM:+0200
TZOFFSETTO:+0100
TZNAME:CET
DTSTART:20201025T010000
END:STANDARD
BEGIN:DAYLIGHT
TZOFFSETFROM:+0100
TZOFFSETTO:+0200
TZNAME:CEST
DTSTART:20210328T010000
END:DAYLIGHT
BEGIN:STANDARD
TZOFFSETFROM:+0200
TZOFFSETTO:+0100
TZNAME:CET
DTSTART:20211031T010000
END:STANDARD
BEGIN:DAYLIGHT
TZOFFSETFROM:+0100
TZOFFSETTO:+0200
TZNAME:CEST
DTSTART:20220327T010000
END:DAYLIGHT
BEGIN:STANDARD
TZOFFSETFROM:+0200
TZOFFSETTO:+0100
TZNAME:CET
DTSTART:20221030T010000
END:STANDARD
END:VTIMEZONE
BEGIN:VEVENT
DTSTART;TZID=Europe/Rome:20210903T080000
DTEND;TZID=Europe/Rome:20210912T170000
DTSTAMP:20260419T190256
CREATED:20210903T191703Z
LAST-MODIFIED:20230117T162700Z
UID:25731-1630656000-1631466000@avisemiliaromagna.it
SUMMARY:Mini Crociera d’Autunno
DESCRIPTION:Avis comunale di Reggio Emilia ODV ti porta a scoprire le meraviglie del mediterraneo in una crociera imperdibile sulla splendida COSTA DIADEMA. \nPER PRENOTAZIONI CONTATTACI ALLO 0522451075 oppure scrivici su segreteria@avis.re.it. \nISCRIZIONI ENTRO IL 12 SETTEMBRE (FINO AD ESAURIMENTO POSTI) \nPREZZI AGEVOLATI PER I SOCI DI AVIS COMUNALE REGGIO EMILIA ODV!!! \nSavona\, Barcellona\, Marsiglia\, Civitavecchia/Roma\n7-12 Novembre 2021         \n6 giorni / 5 notti\nFINALMENTE SI RIPARTE! \n\n\nLe quote comprendono:: * trasferimento in pullman GT per il porto d’imbarco e dal porto di sbarco * sistemazione nella cabina doppia prescelta dotata di ogni comfort: servizi privati\, aria condizionata\, telefono\, filodiffusione\, Tv Sat.\, cassaforte * trattamento di pensione completa a bordo * utilizzo di tutte le attrezzature (NON a pagamento) della nave * partecipazione alle attività previste a bordo (animazione\, spettacoli musicali o di cabaret\, corsi vari….ecc.) * assistenza di personale di lingua italiana durante tutta la crociera * facchinaggio dei bagagli nei porti d’imbarco e sbarco * mezzi di imbarco e sbarco nei vari scali (non in esclusiva) * tasse portuali (€ 100\,00) * quote di servizio € 30\,00 (€ 10\,00 per persona per notte) * assicurazione medico/bagaglio\, annullamento-viaggio e polizza Garanzie Aggiuntive Covid-19 (rimborso per maggiori costi sostenuti per il rientro con un mezzo alternativo a quello previsto dal contratto di viaggio e non più disponibile causa Covid-19 / prolungamento del soggiorno max 15 giorni per restrizioni imposte dalle autorità locali causa Covid-19) a favore di ciascun partecipante. \nLe quote non comprendono: * forfait bevande ai pasti * escursioni a terra con eventuali ingressi a musei/monumenti * servizi di carattere personale ed extra in genere * tutto quanto non indicato alla voce “Le quote comprendono”. \nNOTE: 1) il programma di viaggio potrebbe subire qualche variazione senza nulla togliere all’esecuzione e alle visite previste in programma.\n2) Gli orari precisi verranno riconfermati sul foglio notizie che verrà consegnato ai partecipanti prima della partenza.\n3) Documenti di viaggio: carta d’identità valida per l’espatrio. Evitare l’utilizzo del documento con rinnovo tramite apposizione timbro in quanto non accettate. Le carte d’identità elettroniche con rinnovo cartaceo non vengono riconosciute come valide. Per i minori\, a partire dal 26/06/2012\, su disposizione del Ministero dell’Interno\, tutti i minori dovranno essere in possesso di proprio passaporto. Da quella data quindi non saranno più valide le iscrizioni dei minori sul passaporto dei genitori (i passaporti dei genitori rimarranno validi per il solo titolare fino alla naturale scadenza).\n4) Formalità sanitarie: nessuna segnalazione al momento \nFonte: https://www.avis.re.it/
URL:https://avisemiliaromagna.it/evento/mini-crociera-dautunno/
CATEGORIES:Eventi provinciali e comunali
END:VEVENT
BEGIN:VEVENT
DTSTART;TZID=Europe/Rome:20210910T173000
DTEND;TZID=Europe/Rome:20210910T193000
DTSTAMP:20260419T190256
CREATED:20210901T144645Z
LAST-MODIFIED:20230117T162659Z
UID:25637-1631295000-1631302200@avisemiliaromagna.it
SUMMARY:Visita Guidata alla Mostra fotografica “Errare”.
DESCRIPTION: \n“Errare”: la mostra fotografica di Camporesi Sara e Ponzuoli Kevin\, allestita alla Casa dei Donatori di Sangue a Bologna\, che sarà visitabile venerdì 10 settembre dalle ore 17\,30. In quell’occasione il duo di giovani fotografi e content creator illustrerà la sinossi con cui hanno dato vita al dialogo fotografico donato ad Avis.\nLa mostra si colloca all’interno dell’ampia azione di restyling avviata da Avis Provinciale Bologna nella propria sede\, nata in risposta a una primaria esigenza di sicurezza e di adattamento degli spazi alla normativa anti-contagio da Covid-19\, poi diventata occasione per ripensare tali spazi come un vero luogo di accoglienza per donatori\, operatori e giovani artisti.\nÈ in quest’ottica che è stato commissionato il lavoro fotografico a Sara e Kevin\, con il quale Avis ha inaugurato un ciclo di eventi collaterali all’attività primaria della raccolta del sangue e del plasma\, in un’ottica di inclusione partecipativa e apertura alla cittadinanza bolognese e alla creatività giovanile.\nLa serie di immagini dell’esposizione nell’atrio della Casa dei Donatori trasporta in un’atmosfera sospesa\, invitando ad immergersi nella semplicità e autenticità delle cose come curiosi “flâneur” all’insegna della riscoperta lenta dei luoghi vicini e lontani\, dei borghi nascosti di cui il paesaggio italiano è custode\, lasciando gli occhi liberi di esplorare passo dopo passo.\nStrettamente legata al tema del “donare” spontaneo e gratuito di cui AVIS è emblema\, così la fotografia è proposta non come un esercizio di stile ma come un’esperienza adatta a tutti in cui potersi lasciar andare\, per vivere la bellezza degli spazi urbani con una nuova confidenza.\nAVIS Provinciale Bologna diventa con questa azione di “restyling” una sorta di crocevia di vite umane\, dove incontrarsi\, confrontarsi e crescere insieme.\nA causa delle restrizioni sanitarie attive per l’ingresso alla struttura\, sarà possibile visitare la mostra o prenotando una donazione di sangue o plasma (PRENOTA) negli orari di apertura del centro di raccolta sangue e plasma o prenotando il proprio posto su Eventbrite (PRENOTA IL TUO POSTO) per la visita guidata organizzata dai due fotografi. Per riuscire a contingentare gli ingressi e garantire la sicurezza dei partecipanti\, i posti per l’evento sono massimo 30. L’appuntamento è Venerdì 10 Settembre alle ore 17\,30…Ti aspettiamo!\nPRENOTA IL TUO POSTO\n 
URL:https://avisemiliaromagna.it/evento/visita-guidata-alla-mostra-fotografica-errare/
CATEGORIES:Eventi provinciali e comunali
END:VEVENT
END:VCALENDAR