BEGIN:VCALENDAR
VERSION:2.0
PRODID:-//AVIS Regionale Emilia-Romagna - ECPv6.15.13//NONSGML v1.0//EN
CALSCALE:GREGORIAN
METHOD:PUBLISH
X-WR-CALNAME:AVIS Regionale Emilia-Romagna
X-ORIGINAL-URL:https://avisemiliaromagna.it
X-WR-CALDESC:Eventi per AVIS Regionale Emilia-Romagna
REFRESH-INTERVAL;VALUE=DURATION:PT1H
X-Robots-Tag:noindex
X-PUBLISHED-TTL:PT1H
BEGIN:VTIMEZONE
TZID:Europe/Rome
BEGIN:DAYLIGHT
TZOFFSETFROM:+0100
TZOFFSETTO:+0200
TZNAME:CEST
DTSTART:20200329T010000
END:DAYLIGHT
BEGIN:STANDARD
TZOFFSETFROM:+0200
TZOFFSETTO:+0100
TZNAME:CET
DTSTART:20201025T010000
END:STANDARD
BEGIN:DAYLIGHT
TZOFFSETFROM:+0100
TZOFFSETTO:+0200
TZNAME:CEST
DTSTART:20210328T010000
END:DAYLIGHT
BEGIN:STANDARD
TZOFFSETFROM:+0200
TZOFFSETTO:+0100
TZNAME:CET
DTSTART:20211031T010000
END:STANDARD
BEGIN:DAYLIGHT
TZOFFSETFROM:+0100
TZOFFSETTO:+0200
TZNAME:CEST
DTSTART:20220327T010000
END:DAYLIGHT
BEGIN:STANDARD
TZOFFSETFROM:+0200
TZOFFSETTO:+0100
TZNAME:CET
DTSTART:20221030T010000
END:STANDARD
END:VTIMEZONE
BEGIN:VEVENT
DTSTART;TZID=Europe/Rome:20210808T090000
DTEND;TZID=Europe/Rome:20210808T180000
DTSTAMP:20260419T221336
CREATED:20210721T134650Z
LAST-MODIFIED:20230117T162700Z
UID:24954-1628413200-1628445600@avisemiliaromagna.it
SUMMARY:Sciáza cun l’Avis 9.0
DESCRIPTION:Nona edizione del torneo di beach volley dell’AVIS in collaborazione con il Molino Rosso e il CSI Imola:\n \n– Domenica 8 agosto dalle ore 9:00 presso il campo da beach volley dell’hotel Molino Rosso\n \n– Torneo 4 contro 4 open (minimo due donne in campo)\n \n– Ogni squadra può essere composta da un massimo di 5 atleti\n \n– Ogni partecipante al torneo potrà usufruire della piscina del Molino Rosso durante tutta la giornata della manifestazione\n \n– Mattina fasi eliminatorie e pomeriggio finali\n \n– Durante le gare eliminatorie ogni squadra dovrà fornire un arbitro\n \n– 10 euro a partecipante MA solo 7 per i donatori AVIS\n \n– Premi per tutte le squadre partecipanti!!!\n \n– In caso di maltempo l’organizzazione si riserva il diritto di annullare o rinviare la manifestazione\n \n– Gli organizzatori si riservano di apportare modifiche al presente regolamento in qualsiasi momento in caso di necessità e/o per un migliore svolgimento del torneo.\n \n– Per iscriversi le squadre dovranno compilare e inviare per e-mail a giovani.imola@avis.it il modulo che troverai a questo link: Modulo iscrizione sciaza cun L’Avis 2021 entro il 2 agosto!\n \nPer info: Alessandro Cornazzani 3487757343\nMarco Morini 3409633574
URL:https://avisemiliaromagna.it/evento/sciaza-cun-lavis-9-0/
CATEGORIES:Eventi provinciali e comunali
END:VEVENT
END:VCALENDAR