BEGIN:VCALENDAR
VERSION:2.0
PRODID:-//AVIS Regionale Emilia-Romagna - ECPv6.15.13//NONSGML v1.0//EN
CALSCALE:GREGORIAN
METHOD:PUBLISH
X-WR-CALNAME:AVIS Regionale Emilia-Romagna
X-ORIGINAL-URL:https://avisemiliaromagna.it
X-WR-CALDESC:Eventi per AVIS Regionale Emilia-Romagna
REFRESH-INTERVAL;VALUE=DURATION:PT1H
X-Robots-Tag:noindex
X-PUBLISHED-TTL:PT1H
BEGIN:VTIMEZONE
TZID:Europe/Rome
BEGIN:DAYLIGHT
TZOFFSETFROM:+0100
TZOFFSETTO:+0200
TZNAME:CEST
DTSTART:20200329T010000
END:DAYLIGHT
BEGIN:STANDARD
TZOFFSETFROM:+0200
TZOFFSETTO:+0100
TZNAME:CET
DTSTART:20201025T010000
END:STANDARD
BEGIN:DAYLIGHT
TZOFFSETFROM:+0100
TZOFFSETTO:+0200
TZNAME:CEST
DTSTART:20210328T010000
END:DAYLIGHT
BEGIN:STANDARD
TZOFFSETFROM:+0200
TZOFFSETTO:+0100
TZNAME:CET
DTSTART:20211031T010000
END:STANDARD
BEGIN:DAYLIGHT
TZOFFSETFROM:+0100
TZOFFSETTO:+0200
TZNAME:CEST
DTSTART:20220327T010000
END:DAYLIGHT
BEGIN:STANDARD
TZOFFSETFROM:+0200
TZOFFSETTO:+0100
TZNAME:CET
DTSTART:20221030T010000
END:STANDARD
END:VTIMEZONE
BEGIN:VEVENT
DTSTART;VALUE=DATE:20210601
DTEND;VALUE=DATE:20210701
DTSTAMP:20260420T032206
CREATED:20210525T124801Z
LAST-MODIFIED:20230117T162749Z
UID:23552-1622505600-1625097599@avisemiliaromagna.it
SUMMARY:Avis Malalbergo: un fil rouge di eventi
DESCRIPTION:In occasione del mese di giugno\, in cui si festeggia la Giornata Mondiale del Donatore di Sangue\, l’Avis di Malalbergo organizza e partecipa a una serie di eventi sul territorio. \nInsieme al Comune di Malalbergo\, Avis propone quattro appuntamenti di “Ginnastica al parco“\, un’esperienza unica e gratuita\, aperta a tutti per promuovere i sani stili di vita che si terrà tutti i giovedì del mese. Maggiori dettagli link: 👉 https://bologna.avisemiliaromagna.it/evento/ginnastica-al-parco-avis-malalbergo/ . \nSabato 12 e Domenica 13 Giugno\, in vista della ricorrenza del 14 giugno\, la sede Avis e Palazzo Marescalchi verranno illuminati di rosso. \nIn quelle stesse giornate\, presso la Sede Avis in via Nazionale\, dalle ore 21\,00 alle ore 23\,00 verranno consegnate le medaglie ai Soci Benemeriti\, che riceveranno comunicazione dedicata. \nPer maggiori informazioni è possibile rivolgersi al Presidente Sandro Sgargi (3393192423).\n 
URL:https://avisemiliaromagna.it/evento/avis-malalbergo-un-fil-rouge-di-eventi/
CATEGORIES:Eventi provinciali e comunali
END:VEVENT
BEGIN:VEVENT
DTSTART;TZID=Europe/Rome:20210603T190000
DTEND;TZID=Europe/Rome:20210603T200000
DTSTAMP:20260420T032206
CREATED:20210525T124801Z
LAST-MODIFIED:20230117T162708Z
UID:23554-1622746800-1622750400@avisemiliaromagna.it
SUMMARY:Ginnastica al parco – Avis Malalbergo
DESCRIPTION:L’Avis Comunale di Malalbergo\, in collaborazione con l’amministrazione comunale e con US SPORT & CULTURA\, propone un’esperienza unica e gratuita\, aperta a tutti per promuovere i sani stili di vita.\nTutti i giovedì di giugno dalle ore 19.00 alle ore 20.00 presso il Parco Avis Donatori di Sangue ad Altedo un’ora insieme di ginnastica al parco.\nPer info e prenotazioni: Eleonora (3339344747)\n \n 
URL:https://avisemiliaromagna.it/evento/ginnastica-al-parco-avis-malalbergo/
CATEGORIES:Eventi provinciali e comunali
END:VEVENT
END:VCALENDAR