BEGIN:VCALENDAR
VERSION:2.0
PRODID:-//AVIS Regionale Emilia-Romagna - ECPv6.15.13//NONSGML v1.0//EN
CALSCALE:GREGORIAN
METHOD:PUBLISH
X-ORIGINAL-URL:https://avisemiliaromagna.it
X-WR-CALDESC:Eventi per AVIS Regionale Emilia-Romagna
REFRESH-INTERVAL;VALUE=DURATION:PT1H
X-Robots-Tag:noindex
X-PUBLISHED-TTL:PT1H
BEGIN:VTIMEZONE
TZID:Europe/Rome
BEGIN:DAYLIGHT
TZOFFSETFROM:+0100
TZOFFSETTO:+0200
TZNAME:CEST
DTSTART:20200329T010000
END:DAYLIGHT
BEGIN:STANDARD
TZOFFSETFROM:+0200
TZOFFSETTO:+0100
TZNAME:CET
DTSTART:20201025T010000
END:STANDARD
BEGIN:DAYLIGHT
TZOFFSETFROM:+0100
TZOFFSETTO:+0200
TZNAME:CEST
DTSTART:20210328T010000
END:DAYLIGHT
BEGIN:STANDARD
TZOFFSETFROM:+0200
TZOFFSETTO:+0100
TZNAME:CET
DTSTART:20211031T010000
END:STANDARD
BEGIN:DAYLIGHT
TZOFFSETFROM:+0100
TZOFFSETTO:+0200
TZNAME:CEST
DTSTART:20220327T010000
END:DAYLIGHT
BEGIN:STANDARD
TZOFFSETFROM:+0200
TZOFFSETTO:+0100
TZNAME:CET
DTSTART:20221030T010000
END:STANDARD
END:VTIMEZONE
BEGIN:VEVENT
DTSTART;TZID=Europe/Rome:20210522T140000
DTEND;TZID=Europe/Rome:20210522T180000
DTSTAMP:20260420T050020
CREATED:20210511T124702Z
LAST-MODIFIED:20230117T162750Z
UID:23191-1621692000-1621706400@avisemiliaromagna.it
SUMMARY:Assemblea Avis Provinciale Bologna
DESCRIPTION:Sabato 22 Maggio alle ore 14\,00 si terrà (solo ed esclusivamente in presenza) l’Assemblea dell’Avis Provinciale di Bologna presso la Sala Convegni “Cesare Cesari” al I° piano della Casa dei Donatori di Sangue in via dell’Ospedale\, 20 a Bologna.\nL’evento è aperto ai delegati eletti in occasione delle assemblee delle Avis Comunali della Provincia e alle e per una questione di sicurezza è richiesta conferma di partecipazione entro il 18 maggio all’indirizzo email segreteria.bologna@avis.it.*\nSi discuterà il seguente ordine del giorno:\nNomina del Segretario dell’Assemblea.\nRelazione della Commissione Verifica Poteri.\nNomina del Comitato Elettorale per tutti gli adempimenti del rinnovo cariche del quadriennio 2021/2024.\nSvolgimento delle Elezioni per rinnovo cariche sociali 2021/2024.\nNomina dei delegati\, effettivi e supplenti\, all’Assemblea Regionale e proposta delegati all’Assemblea Nazionale.\nNomina Organo di Controllo.\nPresentazione\ndella relazione del Consiglio sull’attività svolta e sulle linee d’indirizzo per il futuro;\ndel bilancio consuntivo 2020 e relativa relazione;\ndella relazione del Collegio dei Revisori dei Conti;\ndel Bilancio preventivo 2021;\ndel Bilancio Sociale 2019;\nDiscussione\, repliche\, conclusioni e votazione delle relazioni e del bilancio consuntivo 2020;\nApprovazione del preventivo finanziario per il 2021;\nVarie ed eventuali.\nQui è possibile scaricare la lettera di convocazione 👉 21-101 Convocazione Assemblea Provinciale
URL:https://avisemiliaromagna.it/evento/assemblea-avis-provinciale-bologna/
CATEGORIES:Eventi provinciali e comunali
END:VEVENT
END:VCALENDAR