BEGIN:VCALENDAR
VERSION:2.0
PRODID:-//AVIS Regionale Emilia-Romagna - ECPv6.15.13//NONSGML v1.0//EN
CALSCALE:GREGORIAN
METHOD:PUBLISH
X-WR-CALNAME:AVIS Regionale Emilia-Romagna
X-ORIGINAL-URL:https://avisemiliaromagna.it
X-WR-CALDESC:Eventi per AVIS Regionale Emilia-Romagna
REFRESH-INTERVAL;VALUE=DURATION:PT1H
X-Robots-Tag:noindex
X-PUBLISHED-TTL:PT1H
BEGIN:VTIMEZONE
TZID:Europe/Rome
BEGIN:DAYLIGHT
TZOFFSETFROM:+0100
TZOFFSETTO:+0200
TZNAME:CEST
DTSTART:20200329T010000
END:DAYLIGHT
BEGIN:STANDARD
TZOFFSETFROM:+0200
TZOFFSETTO:+0100
TZNAME:CET
DTSTART:20201025T010000
END:STANDARD
BEGIN:DAYLIGHT
TZOFFSETFROM:+0100
TZOFFSETTO:+0200
TZNAME:CEST
DTSTART:20210328T010000
END:DAYLIGHT
BEGIN:STANDARD
TZOFFSETFROM:+0200
TZOFFSETTO:+0100
TZNAME:CET
DTSTART:20211031T010000
END:STANDARD
BEGIN:DAYLIGHT
TZOFFSETFROM:+0100
TZOFFSETTO:+0200
TZNAME:CEST
DTSTART:20220327T010000
END:DAYLIGHT
BEGIN:STANDARD
TZOFFSETFROM:+0200
TZOFFSETTO:+0100
TZNAME:CET
DTSTART:20221030T010000
END:STANDARD
END:VTIMEZONE
BEGIN:VEVENT
DTSTART;TZID=Europe/Rome:20210506T180000
DTEND;TZID=Europe/Rome:20210506T180000
DTSTAMP:20260420T045947
CREATED:20201203T195917Z
LAST-MODIFIED:20230117T162755Z
UID:21417-1620324000-1620324000@avisemiliaromagna.it
SUMMARY:Assemblea 2021 Castel del Rio – NUOVA DATA
DESCRIPTION:Visto il perdurare dell’emergenza sanitaria e le conseguenti limitazioni\, l’Avis di Castel del Rio posticipa l’appuntamento con l’Assemblea annuale dei soci da Giovedì 15 Aprile 2021 a Giovedì 6 Maggio 2021. L’Assemblea si terrà in I° convocazione alle ore 17\,30 e in II° convocazione* alle ore 18\,00\, presso la Sede Avis in Piazza Repubblica\, 96 a Castel del Rio.\nORDINE DEL GIORNO:\n1) Presentazione\, discussione ed approvazione della relazione sull’attività svolta e del bilancio consuntivo 2020\, nonché delle linee di indirizzo per il futuro;\n2) Presentazione e ratifica del preventivo finanziario 2021;\n3) Elezione delle cariche sociali per il quadriennio 2021-2024;\n4) Nomina dei delegati all’Assemblea provinciale;\n*La seconda convocazione sarà valida con qualunque numero di presenti.  
URL:https://avisemiliaromagna.it/evento/assemblea-2021-castel-del-rio/
CATEGORIES:Eventi provinciali e comunali
END:VEVENT
BEGIN:VEVENT
DTSTART;TZID=Europe/Rome:20210506T200000
DTEND;TZID=Europe/Rome:20210506T200000
DTSTAMP:20260420T045947
CREATED:20201212T171509Z
LAST-MODIFIED:20230117T162755Z
UID:21558-1620331200-1620331200@avisemiliaromagna.it
SUMMARY:Assemblea 2021 Valsamoggia – NUOVA DATA
DESCRIPTION:Visto il perdurare dell’emergenza sanitaria e le conseguenti limitazioni\, l’Avis di  Valsamoggia posticipa l’appuntamento con l’Assemblea annuale dei soci da giovedì 8 aprile 2021 a giovedì 6 maggio 2021. L’Assemblea si terrà in I° convocazione alle ore 19.30 e in II° convocazione* alle ore 20.00\, presso Sala polivalente Sognoveglio\, Piazza Libertà Monteveglio.\nORDINE DEL GIORNO:\n1) Presentazione\, discussione ed approvazione della relazione sull’attività svolta e del bilancio consuntivo 2020\, nonché delle linee di indirizzo per il futuro;\n2) Presentazione e ratifica del preventivo finanziario 2021;\n3) Elezione delle cariche sociali per il quadriennio 2021-2024;\n4) Nomina dei delegati all’Assemblea provinciale;\nSaranno obbligatori mascherine e distanziamento sociale.\n*La seconda convocazione sarà valida con qualunque numero di presenti.  
URL:https://avisemiliaromagna.it/evento/assemblea-2021-valsamoggia/
CATEGORIES:Eventi provinciali e comunali
END:VEVENT
BEGIN:VEVENT
DTSTART;TZID=Europe/Rome:20210506T200000
DTEND;TZID=Europe/Rome:20210506T200000
DTSTAMP:20260420T045947
CREATED:20201216T015106Z
LAST-MODIFIED:20230117T162754Z
UID:21614-1620331200-1620331200@avisemiliaromagna.it
SUMMARY:Assemblea 2021 Castiglione dei Pepoli e San Benedetto Val di Sambro – NUOVA DATA
DESCRIPTION:Visto il perdurare dell’emergenza sanitaria e le conseguenti limitazioni\, le Avis di Castiglione dei Pepoli e San Benedetto Val di Sambro posticipano l’appuntamento con l’Assemblea annuale dei soci da Venerdì 9 Aprile 2021 a giovedì 6 Maggio. L’ Assemblea si terrà in I° convocazione alle ore 19\,30 e in II° convocazione* alle ore 20\,00\, presso il Ristorante Pizzeria Badia\,  località Badia Nuova\, 106/3 a Castiglione dei Pepoli.   \nORDINE DEL GIORNO:\n1) Presentazione\, discussione ed approvazione della relazione sull’attività svolta e del bilancio consuntivo 2020\, nonché delle linee di indirizzo per il futuro;\n2) Presentazione e ratifica del preventivo finanziario 2021;\n3) Elezione delle cariche sociali per il quadriennio 2021-2024;\n4) Nomina dei delegati all’Assemblea provinciale;\nSaranno d’obbligo mascherina e distanziamento sociale.\n*La seconda convocazione sarà valida con qualunque numero di presenti.  \nAl termine dell’Assemblea\, sarà offerta una pizza a tutti i soci. 
URL:https://avisemiliaromagna.it/evento/assemblea-2021-castiglione-dei-pepoli-e-san-benedetto-val-di-sambro/
CATEGORIES:Eventi provinciali e comunali
END:VEVENT
BEGIN:VEVENT
DTSTART;TZID=Europe/Rome:20210506T203000
DTEND;TZID=Europe/Rome:20210506T203000
DTSTAMP:20260420T045947
CREATED:20201202T191356Z
LAST-MODIFIED:20230117T162754Z
UID:21407-1620333000-1620333000@avisemiliaromagna.it
SUMMARY:Assemblea 2021 San Matteo della Decima – NUOVA DATA
DESCRIPTION:Visto il perdurare dell’emergenza sanitaria e le conseguenti limitazioni\, l’Avis di  San Matteo della Decima posticipa l’appuntamento con l’Assemblea annuale dei soci da venerdì 9 aprile 2021 a giovedì 6 maggio. L’Assemblea si terrà in I° convocazione alle ore 20.00 e in II° convocazione* alle ore 20.30\, Ludoteca Parrocchiale\, via Cimitero San Matteo della Decima.\nORDINE DEL GIORNO:\n1) Presentazione\, discussione ed approvazione della relazione sull’attività svolta e del bilancio consuntivo 2020\, nonché delle linee di indirizzo per il futuro;\n2) Presentazione e ratifica del preventivo finanziario 2021;\n3) Elezione delle cariche sociali per il quadriennio 2021-2024;\n4) Nomina dei delegati all’Assemblea provinciale;\n*La seconda convocazione sarà valida con qualunque numero di presenti. 
URL:https://avisemiliaromagna.it/evento/assemblea-2021-san-matteo-della-decima/
CATEGORIES:Eventi provinciali e comunali
END:VEVENT
BEGIN:VEVENT
DTSTART;TZID=Europe/Rome:20210506T203000
DTEND;TZID=Europe/Rome:20210506T203000
DTSTAMP:20260420T045947
CREATED:20201203T200024Z
LAST-MODIFIED:20230117T162754Z
UID:21428-1620333000-1620333000@avisemiliaromagna.it
SUMMARY:Assemblea 2021 Pianoro – NUOVA DATA
DESCRIPTION:Visto il perdurare dell’ emergenza sanitaria e le conseguenti limitazioni\, l’Avis di  Pianoro posticipa l’appuntamento con l’Assemblea annuale dei soci da giovedì 15 aprile 2021a giovedì 6 maggio 2021. L’Assemblea si terrà in I° convocazione alle ore 20.00 e in II° convocazione* alle ore 20.30\, presso la Sede Avis in Viale della Resistenza\, 201 a Pianoro.\nORDINE DEL GIORNO:\n1) Presentazione\, discussione ed approvazione della relazione sull’attività svolta e del bilancio consuntivo 2020\, nonché delle linee di indirizzo per il futuro;\n2) Presentazione e ratifica del preventivo finanziario 2021;\n3) Elezione delle cariche sociali per il quadriennio 2021-2024;\n4) Nomina dei delegati all’Assemblea provinciale;\n*La seconda convocazione sarà valida con qualunque numero di presenti. \nSaranno d’obbligo mascherine e distanziamento sociale. 
URL:https://avisemiliaromagna.it/evento/assemblea-2021-pianoro/
CATEGORIES:Eventi provinciali e comunali
END:VEVENT
BEGIN:VEVENT
DTSTART;TZID=Europe/Rome:20210506T203000
DTEND;TZID=Europe/Rome:20210506T203000
DTSTAMP:20260420T045947
CREATED:20201212T171502Z
LAST-MODIFIED:20230117T162753Z
UID:21556-1620333000-1620333000@avisemiliaromagna.it
SUMMARY:Assemblea 2021 Molinella – NUOVA DATA
DESCRIPTION:Visto il perdurare dell’emergenza sanitaria e le conseguenti limitazioni\, l’Avis di Molinella posticipa l’appuntamento con l’Assemblea annuale dei soci da Giovedì 25 Febbraio 2021 a Giovedì 6 Maggio 2021. L’Assemblea si terrà in I convocazione alle ore 20:00 e in II convocazione* alle ore 20:30 presso la Sede Avis in via Murri 1 a Molinella.\nORDINE DEL GIORNO:\n1) Presentazione\, discussione ed approvazione della relazione sull’attività svolta e del bilancio consuntivo 2020\, nonché delle linee di indirizzo per il futuro;\n2) Presentazione e ratifica del preventivo finanziario 2021;\n3) Elezione delle cariche sociali per il quadriennio 2021-2024;\n4) Nomina dei delegati all’Assemblea provinciale;\nSaranno d’obbligo mascherina e distanziamento sociale.\n*La seconda convocazione sarà valida con qualunque numero di presenti. \n 
URL:https://avisemiliaromagna.it/evento/assemblea-2021-molinella/
CATEGORIES:Eventi provinciali e comunali
END:VEVENT
END:VCALENDAR