BEGIN:VCALENDAR
VERSION:2.0
PRODID:-//AVIS Regionale Emilia-Romagna - ECPv6.15.13//NONSGML v1.0//EN
CALSCALE:GREGORIAN
METHOD:PUBLISH
X-ORIGINAL-URL:https://avisemiliaromagna.it
X-WR-CALDESC:Eventi per AVIS Regionale Emilia-Romagna
REFRESH-INTERVAL;VALUE=DURATION:PT1H
X-Robots-Tag:noindex
X-PUBLISHED-TTL:PT1H
BEGIN:VTIMEZONE
TZID:Europe/Rome
BEGIN:DAYLIGHT
TZOFFSETFROM:+0100
TZOFFSETTO:+0200
TZNAME:CEST
DTSTART:20200329T010000
END:DAYLIGHT
BEGIN:STANDARD
TZOFFSETFROM:+0200
TZOFFSETTO:+0100
TZNAME:CET
DTSTART:20201025T010000
END:STANDARD
BEGIN:DAYLIGHT
TZOFFSETFROM:+0100
TZOFFSETTO:+0200
TZNAME:CEST
DTSTART:20210328T010000
END:DAYLIGHT
BEGIN:STANDARD
TZOFFSETFROM:+0200
TZOFFSETTO:+0100
TZNAME:CET
DTSTART:20211031T010000
END:STANDARD
BEGIN:DAYLIGHT
TZOFFSETFROM:+0100
TZOFFSETTO:+0200
TZNAME:CEST
DTSTART:20220327T010000
END:DAYLIGHT
BEGIN:STANDARD
TZOFFSETFROM:+0200
TZOFFSETTO:+0100
TZNAME:CET
DTSTART:20221030T010000
END:STANDARD
END:VTIMEZONE
BEGIN:VEVENT
DTSTART;TZID=Europe/Rome:20210503T200000
DTEND;TZID=Europe/Rome:20210503T200000
DTSTAMP:20260420T050044
CREATED:20201216T014709Z
LAST-MODIFIED:20230117T162758Z
UID:21597-1620072000-1620072000@avisemiliaromagna.it
SUMMARY:Assemblea 2021 Sala Bolognese – NUOVA DATA
DESCRIPTION:Visto il perdurare dell’emergenza sanitaria e le conseguenti limitazioni\, l‘Avis di Sala Bolognese posticipa l’appuntamento con l’Assemblea annuale dei soci da Lunedì 15 Marzo 2021 a Lunedì 3 Maggio. L’ Assemblea si terrà in I° convocazione alle ore 19\,30 e in II° convocazione* alle ore 20\,00\, presso il Canton in via Gramsci 95 a Sala Bolognese. \nORDINE DEL GIORNO:\n1) Presentazione\, discussione ed approvazione della relazione sull’attività svolta e del bilancio consuntivo 2020\, nonché delle linee di indirizzo per il futuro;\n2) Presentazione e ratifica del preventivo finanziario 2021;\n3) Elezione delle cariche sociali per il quadriennio 2021-2024;\n4) Nomina dei delegati all’Assemblea provinciale;\nSaranno d’obbligo mascherina e distanziamento sociale.\nSe le norme relative al contenimento del Covid lo consentiranno\, al termine si terrà rinfresco.\n*La seconda convocazione sarà valida con qualunque numero di presenti.  \n 
URL:https://avisemiliaromagna.it/evento/assemblea-2021-sala-bolognese/
CATEGORIES:Eventi provinciali e comunali
END:VEVENT
BEGIN:VEVENT
DTSTART;TZID=Europe/Rome:20210503T203000
DTEND;TZID=Europe/Rome:20210503T203000
DTSTAMP:20260420T050044
CREATED:20201203T200023Z
LAST-MODIFIED:20230117T162758Z
UID:21425-1620073800-1620073800@avisemiliaromagna.it
SUMMARY:Assemblea 2021 Minerbio – NUOVA DATA
DESCRIPTION:Visto il perdurare dell’emergenza sanitaria e le conseguenti limitazioni\, l’Avis di  Minerbio posticipa l’appuntamento con l’Assemblea annuale dei soci da Domenica 21 Marzo 2021 a Lunedì 3 Maggio 2021. L’Assemblea si terrà in I convocazione alle ore 20:00 ed in II convocazione* alle ore 20:30 presso il Teatro di Palazzo Minerva in via Roma\, 2 a Minerbio.\nORDINE DEL GIORNO:\n1) Presentazione\, discussione ed approvazione della relazione sull’attività svolta e del bilancio consuntivo 2020\, nonché delle linee di indirizzo per il futuro;\n2) Presentazione e ratifica del preventivo finanziario 2021;\n3) Elezione delle cariche sociali per il quadriennio 2021-2024;\n4) Nomina dei delegati all’Assemblea provinciale;\nSe le norme relative al contenimento del Covid lo consentiranno\, al termine si terrà rinfresco.\n*La seconda convocazione sarà valida con qualunque numero di presenti.  
URL:https://avisemiliaromagna.it/evento/assemblea-2021-minerbio/
CATEGORIES:Eventi provinciali e comunali
END:VEVENT
BEGIN:VEVENT
DTSTART;TZID=Europe/Rome:20210503T203000
DTEND;TZID=Europe/Rome:20210503T203000
DTSTAMP:20260420T050044
CREATED:20201216T015039Z
LAST-MODIFIED:20230117T162758Z
UID:21609-1620073800-1620073800@avisemiliaromagna.it
SUMMARY:Assemblea 2021 Crevalcore – NUOVA DATA
DESCRIPTION:Visto il perdurare dell’emergenza sanitaria e le conseguenti limitazioni\, l’Avis di  Crevalcore posticipa l’appuntamento con l’Assemblea annuale dei soci da Venerdì 16 Aprile 2021 a Lunedì 3 Maggio 2021. L’Assemblea si terrà in I° convocazione alle ore 20\,00 e in II° convocazione* alle ore 20\,30\, presso la Sede Avis del Centro Civico presso Porta Modena a Crevalcore.   \nORDINE DEL GIORNO:\n1) Presentazione\, discussione ed approvazione della relazione sull’attività svolta e del bilancio consuntivo 2020\, nonché delle linee di indirizzo per il futuro;\n2) Presentazione e ratifica del preventivo finanziario 2021;\n3) Elezione delle cariche sociali per il quadriennio 2021-2024;\n4) Nomina dei delegati all’Assemblea provinciale;\nSaranno d’obbligo mascherina e distanziamento sociale.\n*La seconda convocazione sarà valida con qualunque numero di presenti.  
URL:https://avisemiliaromagna.it/evento/assemblea-2021-crevalcore/
CATEGORIES:Eventi provinciali e comunali
END:VEVENT
END:VCALENDAR