BEGIN:VCALENDAR
VERSION:2.0
PRODID:-//AVIS Regionale Emilia-Romagna - ECPv6.15.13//NONSGML v1.0//EN
CALSCALE:GREGORIAN
METHOD:PUBLISH
X-WR-CALNAME:AVIS Regionale Emilia-Romagna
X-ORIGINAL-URL:https://avisemiliaromagna.it
X-WR-CALDESC:Eventi per AVIS Regionale Emilia-Romagna
REFRESH-INTERVAL;VALUE=DURATION:PT1H
X-Robots-Tag:noindex
X-PUBLISHED-TTL:PT1H
BEGIN:VTIMEZONE
TZID:Europe/Rome
BEGIN:DAYLIGHT
TZOFFSETFROM:+0100
TZOFFSETTO:+0200
TZNAME:CEST
DTSTART:20200329T010000
END:DAYLIGHT
BEGIN:STANDARD
TZOFFSETFROM:+0200
TZOFFSETTO:+0100
TZNAME:CET
DTSTART:20201025T010000
END:STANDARD
BEGIN:DAYLIGHT
TZOFFSETFROM:+0100
TZOFFSETTO:+0200
TZNAME:CEST
DTSTART:20210328T010000
END:DAYLIGHT
BEGIN:STANDARD
TZOFFSETFROM:+0200
TZOFFSETTO:+0100
TZNAME:CET
DTSTART:20211031T010000
END:STANDARD
BEGIN:DAYLIGHT
TZOFFSETFROM:+0100
TZOFFSETTO:+0200
TZNAME:CEST
DTSTART:20220327T010000
END:DAYLIGHT
BEGIN:STANDARD
TZOFFSETFROM:+0200
TZOFFSETTO:+0100
TZNAME:CET
DTSTART:20221030T010000
END:STANDARD
END:VTIMEZONE
BEGIN:VEVENT
DTSTART;TZID=Europe/Rome:20210419T090300
DTEND;TZID=Europe/Rome:20210426T100300
DTSTAMP:20260420T051746
CREATED:20210419T100220Z
LAST-MODIFIED:20230117T162803Z
UID:22903-1618822980-1619431380@avisemiliaromagna.it
SUMMARY:prova Avis Cento
DESCRIPTION:
URL:https://avisemiliaromagna.it/evento/prova-avis-cento/
CATEGORIES:Eventi provinciali e comunali
END:VEVENT
BEGIN:VEVENT
DTSTART;TZID=Europe/Rome:20210424T150000
DTEND;TZID=Europe/Rome:20210424T150000
DTSTAMP:20260420T051746
CREATED:20201202T191339Z
LAST-MODIFIED:20230117T162803Z
UID:21405-1619276400-1619276400@avisemiliaromagna.it
SUMMARY:Assemblea 2021 San Giovanni in Persiceto – NUOVA DATA
DESCRIPTION:Visto il perdurare dell’emergenza sanitaria e le conseguenti limitazione\, l’Avis di  San Giovanni in Persiceto posticipa l’appuntamento con l’Assemblea annuale dei soci da Sabato 10 Aprile 2021 a Sabato 24 Aprile 2021. L’Assemblea si terrà in I convocazione alle ore 6:00 ed in II convocazione* alle ore 15:00 presso la tensostruttura posta nei pressi della Chiesa di Lorenzatico in via Biancolina Vecchia 3.\n \nORDINE DEL GIORNO:\n1) Presentazione\, discussione ed approvazione della relazione sull’attività svolta e del bilancio consuntivo 2020\, nonché delle linee di indirizzo per il futuro;\n2) Presentazione e ratifica del preventivo finanziario 2021;\n3) Elezione delle cariche sociali per il quadriennio 2021-2024;\n4) Nomina dei delegati all’Assemblea provinciale;\nNel corso dell’assemblea si terranno anche le Premiazioni dei Soci Benemeriti.\n*La seconda convocazione sarà valida con qualunque numero di presenti. \nSaranno d’obbligo mascherine e distanziamento sociale. 
URL:https://avisemiliaromagna.it/evento/assemblea-2021-san-giovanni-in-persiceto/
CATEGORIES:Eventi provinciali e comunali
END:VEVENT
BEGIN:VEVENT
DTSTART;TZID=Europe/Rome:20210424T160000
DTEND;TZID=Europe/Rome:20210424T160000
DTSTAMP:20260420T051746
CREATED:20201201T171251Z
LAST-MODIFIED:20230117T162802Z
UID:21382-1619280000-1619280000@avisemiliaromagna.it
SUMMARY:Assemblea 2021 Argelato – NUOVA DATA
DESCRIPTION:Visto il perdurare dell’emergenza sanitaria e le conseguenti limitazioni\, l’Avis di Argelato posticipa l’appuntamento con l’Assemblea annuale dei soci da Martedì 2 Febbraio 2021 a Sabato 24 Aprile. L’Assemblea si terrà in I convocazione alle ore 15:30 ed in II convocazione alle ore 16:00 tramite la piattaforma Zoom cliccando al seguente link https://us02web.zoom.us/j/86568063891?pwd=UWdIYnV1QVVWTUN1QlUzMldaaCttQT09\nID riunione: 865 6806 3891\nPasscode: 131883\nORDINE DEL GIORNO:\n1) Presentazione\, discussione ed approvazione della relazione sull’attività svolta e del bilancio consuntivo 2020\, nonché delle linee di indirizzo per il futuro;\n2) Presentazione e ratifica del preventivo finanziario 2021;\n3) Elezione delle cariche sociali per il quadriennio 2021-2024;\n4) Nomina dei delegati all’Assemblea provinciale;\n*La seconda convocazione sarà valida con qualunque numero di presenti.  
URL:https://avisemiliaromagna.it/evento/assemblea-2021-argelato/
CATEGORIES:Eventi provinciali e comunali
END:VEVENT
END:VCALENDAR