BEGIN:VCALENDAR
VERSION:2.0
PRODID:-//AVIS Regionale Emilia-Romagna - ECPv6.15.13//NONSGML v1.0//EN
CALSCALE:GREGORIAN
METHOD:PUBLISH
X-ORIGINAL-URL:https://avisemiliaromagna.it
X-WR-CALDESC:Eventi per AVIS Regionale Emilia-Romagna
REFRESH-INTERVAL;VALUE=DURATION:PT1H
X-Robots-Tag:noindex
X-PUBLISHED-TTL:PT1H
BEGIN:VTIMEZONE
TZID:Europe/Rome
BEGIN:DAYLIGHT
TZOFFSETFROM:+0100
TZOFFSETTO:+0200
TZNAME:CEST
DTSTART:20200329T010000
END:DAYLIGHT
BEGIN:STANDARD
TZOFFSETFROM:+0200
TZOFFSETTO:+0100
TZNAME:CET
DTSTART:20201025T010000
END:STANDARD
BEGIN:DAYLIGHT
TZOFFSETFROM:+0100
TZOFFSETTO:+0200
TZNAME:CEST
DTSTART:20210328T010000
END:DAYLIGHT
BEGIN:STANDARD
TZOFFSETFROM:+0200
TZOFFSETTO:+0100
TZNAME:CET
DTSTART:20211031T010000
END:STANDARD
BEGIN:DAYLIGHT
TZOFFSETFROM:+0100
TZOFFSETTO:+0200
TZNAME:CEST
DTSTART:20220327T010000
END:DAYLIGHT
BEGIN:STANDARD
TZOFFSETFROM:+0200
TZOFFSETTO:+0100
TZNAME:CET
DTSTART:20221030T010000
END:STANDARD
END:VTIMEZONE
BEGIN:VEVENT
DTSTART;TZID=Europe/Rome:20210417T100000
DTEND;TZID=Europe/Rome:20210417T100000
DTSTAMP:20260420T051745
CREATED:20201117T162634Z
LAST-MODIFIED:20230117T162805Z
UID:21232-1618653600-1618653600@avisemiliaromagna.it
SUMMARY:Assemblea 2021 Granarolo dell’Emilia – NUOVA DATA
DESCRIPTION:Visto il perdurare dell’emergenza sanitaria e le conseguenti limitazioni\, l’Avis di Granarolo dell’Emilia posticipa l’appuntamento con l’Assemblea annuale dei soci da Lunedì 15 Marzo 2021 a Sabato 17 Aprile 2021. L’Assemblea si terrà in I° convocazione alle ore 9.30 ed in II° convocazione* alle ore 10.00; ritrovo sotto la tensostruttura della Protezione Civile di Granarolo in via I. Bandiera. Ai partecipanti verrà offerta la colazione presso il Bar La Vela via S. Donato 149A-B\, che sarà consumabile solo da asporto. \nORDINE DEL GIORNO:\n1) Presentazione\, discussione ed approvazione della relazione sull’attività svolta e del bilancio consuntivo 2020\, nonché delle linee di indirizzo per il futuro;\n2) Presentazione e ratifica del preventivo finanziario 2021;\n3) Elezione delle cariche sociali per il quadriennio 2021-2024;\n4) Nomina dei delegati all’Assemblea provinciale;\nObbligo di mascherina.\n*La seconda convocazione sarà valida con qualunque numero di presenti.  
URL:https://avisemiliaromagna.it/evento/assemblea-2021-granarolo-dellemilia/
CATEGORIES:Eventi provinciali e comunali
END:VEVENT
BEGIN:VEVENT
DTSTART;TZID=Europe/Rome:20210417T100000
DTEND;TZID=Europe/Rome:20210417T180000
DTSTAMP:20260420T051745
CREATED:20210325T170227Z
LAST-MODIFIED:20230117T162805Z
UID:22497-1618653600-1618682400@avisemiliaromagna.it
SUMMARY:ASSEMBLEA 2021
DESCRIPTION:
URL:https://avisemiliaromagna.it/evento/assemblea-2021/
CATEGORIES:Eventi provinciali e comunali
END:VEVENT
BEGIN:VEVENT
DTSTART;TZID=Europe/Rome:20210417T150000
DTEND;TZID=Europe/Rome:20210417T150000
DTSTAMP:20260420T051745
CREATED:20201216T014709Z
LAST-MODIFIED:20230117T162805Z
UID:21599-1618671600-1618671600@avisemiliaromagna.it
SUMMARY:Assemblea 2021 Pieve di Cento – NUOVA DATA
DESCRIPTION:Visto il perdurare dell’emergenza sanitaria e le conseguenti limitazioni\, l’Avis di Pieve di Cento posticipa l’appuntamento con l’Assemblea annuale dei soci da venerdì 26 marzo 2021 a sabato 17 aprile 2021. L’Assemblea si terrà in I convocazione alle ore 14.30 ed in II convocazione* alle ore 15.00 presso il Giardino Degli Anziani in via San Carlo a Pieve di Cento.\nORDINE DEL GIORNO:\n1) Presentazione\, discussione ed approvazione della relazione sull’attività svolta e del bilancio consuntivo 2020\, nonché delle linee di indirizzo per il futuro;\n2) Presentazione e ratifica del preventivo finanziario 2021;\n3) Elezione delle cariche sociali per il quadriennio 2021-2024;\n4) Nomina dei delegati all’Assemblea provinciale;\nSaranno d’obbligo mascherina e distanziamento sociale.\n*La seconda convocazione sarà valida con qualunque numero di presenti.  
URL:https://avisemiliaromagna.it/evento/assemblea-2021-pieve-di-cento/
CATEGORIES:Eventi provinciali e comunali
END:VEVENT
END:VCALENDAR