BEGIN:VCALENDAR
VERSION:2.0
PRODID:-//AVIS Regionale Emilia-Romagna - ECPv6.15.13//NONSGML v1.0//EN
CALSCALE:GREGORIAN
METHOD:PUBLISH
X-WR-CALNAME:AVIS Regionale Emilia-Romagna
X-ORIGINAL-URL:https://avisemiliaromagna.it
X-WR-CALDESC:Eventi per AVIS Regionale Emilia-Romagna
REFRESH-INTERVAL;VALUE=DURATION:PT1H
X-Robots-Tag:noindex
X-PUBLISHED-TTL:PT1H
BEGIN:VTIMEZONE
TZID:Europe/Rome
BEGIN:DAYLIGHT
TZOFFSETFROM:+0100
TZOFFSETTO:+0200
TZNAME:CEST
DTSTART:20200329T010000
END:DAYLIGHT
BEGIN:STANDARD
TZOFFSETFROM:+0200
TZOFFSETTO:+0100
TZNAME:CET
DTSTART:20201025T010000
END:STANDARD
BEGIN:DAYLIGHT
TZOFFSETFROM:+0100
TZOFFSETTO:+0200
TZNAME:CEST
DTSTART:20210328T010000
END:DAYLIGHT
BEGIN:STANDARD
TZOFFSETFROM:+0200
TZOFFSETTO:+0100
TZNAME:CET
DTSTART:20211031T010000
END:STANDARD
BEGIN:DAYLIGHT
TZOFFSETFROM:+0100
TZOFFSETTO:+0200
TZNAME:CEST
DTSTART:20220327T010000
END:DAYLIGHT
BEGIN:STANDARD
TZOFFSETFROM:+0200
TZOFFSETTO:+0100
TZNAME:CET
DTSTART:20221030T010000
END:STANDARD
END:VTIMEZONE
BEGIN:VEVENT
DTSTART;TZID=Europe/Rome:20210415T203000
DTEND;TZID=Europe/Rome:20210415T203000
DTSTAMP:20260420T051745
CREATED:20201202T191357Z
LAST-MODIFIED:20230117T162806Z
UID:21409-1618518600-1618518600@avisemiliaromagna.it
SUMMARY:Assemblea 2021 San Pietro in Casale – NUOVA DATA
DESCRIPTION:Visto il perdurare dell’emergenza sanitaria e delle conseguenti limitazioni\, l’Avis di  San Pietro in Casale posticipa l’appuntamento con l’Assemblea annuale dei soci da domenica 28 febbraio 2021 a giovedì 15 aprile 2021. L’Assemblea si terrà in I° convocazione alle ore 20.00 e in II° convocazione* alle ore 20.30\, tramite Google Meet. Sarà possibile accedere online cliccando sul link meet.google.com/uwx-vhuq-qsf .\nORDINE DEL GIORNO:\n1) Presentazione\, discussione ed approvazione della relazione sull’attività svolta e del bilancio consuntivo 2020\, nonché delle linee di indirizzo per il futuro;\n2) Presentazione e ratifica del preventivo finanziario 2021;\n3) Elezione delle cariche sociali per il quadriennio 2021-2024;\n4) Nomina dei delegati all’Assemblea provinciale;\n*La seconda convocazione sarà valida con qualunque numero di presenti. \nL’Assemblea annuale dei soci dell’Avis rappresenta un appuntamento importante ad ogni inizio d’anno\, ma questa volta c’è un motivo in più per partecipare: l’elezione delle cariche sociali per il prossimo quadriennio\, e la nostra Avis ha bisogno anche di te per lo svolgimento della propria attività!\nSe hai un po’ di tempo\, compila e invia a  giampaolo.mistura@unipd.it il modulo di autocandidatura che trovi al link Modulo candidature Avis Provinciale Bologna. \n 
URL:https://avisemiliaromagna.it/evento/assemblea-2021-san-pietro-in-casale/
CATEGORIES:Eventi provinciali e comunali
END:VEVENT
END:VCALENDAR