BEGIN:VCALENDAR
VERSION:2.0
PRODID:-//AVIS Regionale Emilia-Romagna - ECPv6.15.13//NONSGML v1.0//EN
CALSCALE:GREGORIAN
METHOD:PUBLISH
X-WR-CALNAME:AVIS Regionale Emilia-Romagna
X-ORIGINAL-URL:https://avisemiliaromagna.it
X-WR-CALDESC:Eventi per AVIS Regionale Emilia-Romagna
REFRESH-INTERVAL;VALUE=DURATION:PT1H
X-Robots-Tag:noindex
X-PUBLISHED-TTL:PT1H
BEGIN:VTIMEZONE
TZID:Europe/Rome
BEGIN:DAYLIGHT
TZOFFSETFROM:+0100
TZOFFSETTO:+0200
TZNAME:CEST
DTSTART:20200329T010000
END:DAYLIGHT
BEGIN:STANDARD
TZOFFSETFROM:+0200
TZOFFSETTO:+0100
TZNAME:CET
DTSTART:20201025T010000
END:STANDARD
BEGIN:DAYLIGHT
TZOFFSETFROM:+0100
TZOFFSETTO:+0200
TZNAME:CEST
DTSTART:20210328T010000
END:DAYLIGHT
BEGIN:STANDARD
TZOFFSETFROM:+0200
TZOFFSETTO:+0100
TZNAME:CET
DTSTART:20211031T010000
END:STANDARD
BEGIN:DAYLIGHT
TZOFFSETFROM:+0100
TZOFFSETTO:+0200
TZNAME:CEST
DTSTART:20220327T010000
END:DAYLIGHT
BEGIN:STANDARD
TZOFFSETFROM:+0200
TZOFFSETTO:+0100
TZNAME:CET
DTSTART:20221030T010000
END:STANDARD
END:VTIMEZONE
BEGIN:VEVENT
DTSTART;TZID=Europe/Rome:20210412T203000
DTEND;TZID=Europe/Rome:20210412T203000
DTSTAMP:20260424T183148
CREATED:20201216T014151Z
LAST-MODIFIED:20230117T162807Z
UID:21589-1618259400-1618259400@avisemiliaromagna.it
SUMMARY:Assemblea 2021 Alto Reno Terme – NUOVA DATA
DESCRIPTION:Visto il perdurare dell’emergenza sanitaria e le conseguenti limitazioni\, l’Avis di  Alto Reno Terme posticipa l’appuntamento con l’Assemblea annuale dei soci da Lunedì 8 Marzo 2021 a Lunedì 12 Aprile 2021. L’Assemblea si terrà in I° convocazione alle ore 20\,00 e in II° convocazione* alle ore 20\,30\, presso la Sede Avis in via Don Minzoni\, 31 a Porretta Terme.   \nORDINE DEL GIORNO:\n1) Presentazione\, discussione ed approvazione della relazione sull’attività svolta e del bilancio consuntivo 2020\, nonché delle linee di indirizzo per il futuro;\n2) Presentazione e ratifica del preventivo finanziario 2021;\n3) Elezione delle cariche sociali per il quadriennio 2021-2024;\n4) Nomina dei delegati all’Assemblea provinciale;\nSe le norme relative al contenimento del Covid lo consentiranno\, al termine si terrà rinfresco.\nSaranno d’obbligo mascherina e distanziamento sociale.\n*La seconda convocazione sarà valida con qualunque numero di presenti.  
URL:https://avisemiliaromagna.it/evento/assemblea-2021-alto-reno-terme/
CATEGORIES:Eventi provinciali e comunali
END:VEVENT
BEGIN:VEVENT
DTSTART;TZID=Europe/Rome:20210412T203000
DTEND;TZID=Europe/Rome:20210412T203000
DTSTAMP:20260424T183148
CREATED:20201216T015026Z
LAST-MODIFIED:20230117T162807Z
UID:21605-1618259400-1618259400@avisemiliaromagna.it
SUMMARY:Assemblea 2021 Medicina – NUOVA DATA
DESCRIPTION:Visto il perdurare dell’emergenza sanitaria e delle conseguenti limitazioni\, l’Avis di  Medicina posticipa l’appuntamento con l’Assemblea annuale dei soci  da lunedì 29 marzo 2021 a lunedì 12 aprile 2021. L’Assemblea si terra in I° convocazione alle ore 20.00 e in II° convocazione* alle ore 20.30\, presso la sede Avis – Villa Pasi in via dell’Osservanza 4 a Medicina.  \nORDINE DEL GIORNO:\n1) Presentazione\, discussione ed approvazione della relazione sull’attività svolta e del bilancio consuntivo 2020\, nonché delle linee di indirizzo per il futuro;\n2) Presentazione e ratifica del preventivo finanziario 2021;\n3) Elezione delle cariche sociali per il quadriennio 2021-2024;\n4) Nomina dei delegati all’Assemblea provinciale;\n*La seconda convocazione sarà valida con qualunque numero di presenti. \nSaranno d’obbligo mascherine e distanziamento sociale. 
URL:https://avisemiliaromagna.it/evento/assemblea-2021-medicina/
CATEGORIES:Eventi provinciali e comunali
END:VEVENT
END:VCALENDAR