BEGIN:VCALENDAR
VERSION:2.0
PRODID:-//AVIS Regionale Emilia-Romagna - ECPv6.15.13//NONSGML v1.0//EN
CALSCALE:GREGORIAN
METHOD:PUBLISH
X-WR-CALNAME:AVIS Regionale Emilia-Romagna
X-ORIGINAL-URL:https://avisemiliaromagna.it
X-WR-CALDESC:Eventi per AVIS Regionale Emilia-Romagna
REFRESH-INTERVAL;VALUE=DURATION:PT1H
X-Robots-Tag:noindex
X-PUBLISHED-TTL:PT1H
BEGIN:VTIMEZONE
TZID:Europe/Rome
BEGIN:DAYLIGHT
TZOFFSETFROM:+0100
TZOFFSETTO:+0200
TZNAME:CEST
DTSTART:20200329T010000
END:DAYLIGHT
BEGIN:STANDARD
TZOFFSETFROM:+0200
TZOFFSETTO:+0100
TZNAME:CET
DTSTART:20201025T010000
END:STANDARD
BEGIN:DAYLIGHT
TZOFFSETFROM:+0100
TZOFFSETTO:+0200
TZNAME:CEST
DTSTART:20210328T010000
END:DAYLIGHT
BEGIN:STANDARD
TZOFFSETFROM:+0200
TZOFFSETTO:+0100
TZNAME:CET
DTSTART:20211031T010000
END:STANDARD
BEGIN:DAYLIGHT
TZOFFSETFROM:+0100
TZOFFSETTO:+0200
TZNAME:CEST
DTSTART:20220327T010000
END:DAYLIGHT
BEGIN:STANDARD
TZOFFSETFROM:+0200
TZOFFSETTO:+0100
TZNAME:CET
DTSTART:20221030T010000
END:STANDARD
END:VTIMEZONE
BEGIN:VEVENT
DTSTART;TZID=Europe/Rome:20210408T203000
DTEND;TZID=Europe/Rome:20210408T203000
DTSTAMP:20260420T091636
CREATED:20201202T191339Z
LAST-MODIFIED:20230117T162808Z
UID:21403-1617913800-1617913800@avisemiliaromagna.it
SUMMARY:Assemblea 2021 Calderara di Reno – NUOVA DATA
DESCRIPTION:Visto il perdurare dell’emergenza sanitaria e le conseguenti limitazioni\, l’Avis di  Calderara di Reno posticipa l’appuntamento con l’Assemblea annuale dei soci da Mercoledì 24 Febbraio 2021 a Giovedì 8 Aprile. L’Assemblea si terrà sulla piattaforma Meet in I° convocazione alle ore 20\,00 e in II° convocazione* alle ore 20\,30. \nPer partecipare all’Assemblea\, è necessario dare conferma scrivendo una mail a calderaradireno.comunale@avis.it o contattando il Presidente al numero  3483934236.\nVerrà così inviato il link per il collegamento e il materiale utile per la trattazione dell’ordine del giorno. \nORDINE DEL GIORNO:\n1) Presentazione\, discussione ed approvazione della relazione sull’attività svolta e del bilancio consuntivo 2020\, nonché delle linee di indirizzo per il futuro;\n2) Presentazione e ratifica del preventivo finanziario 2021;\n3) Elezione delle cariche sociali per il quadriennio 2021-2024;\n4) Nomina dei delegati all’Assemblea provinciale;\n*La seconda convocazione sarà valida con qualunque numero di presenti.  
URL:https://avisemiliaromagna.it/evento/assemblea-2021-calderara-di-reno/
CATEGORIES:Eventi provinciali e comunali
END:VEVENT
END:VCALENDAR