BEGIN:VCALENDAR
VERSION:2.0
PRODID:-//AVIS Regionale Emilia-Romagna - ECPv6.15.13//NONSGML v1.0//EN
CALSCALE:GREGORIAN
METHOD:PUBLISH
X-WR-CALNAME:AVIS Regionale Emilia-Romagna
X-ORIGINAL-URL:https://avisemiliaromagna.it
X-WR-CALDESC:Eventi per AVIS Regionale Emilia-Romagna
REFRESH-INTERVAL;VALUE=DURATION:PT1H
X-Robots-Tag:noindex
X-PUBLISHED-TTL:PT1H
BEGIN:VTIMEZONE
TZID:Europe/Rome
BEGIN:DAYLIGHT
TZOFFSETFROM:+0100
TZOFFSETTO:+0200
TZNAME:CEST
DTSTART:20200329T010000
END:DAYLIGHT
BEGIN:STANDARD
TZOFFSETFROM:+0200
TZOFFSETTO:+0100
TZNAME:CET
DTSTART:20201025T010000
END:STANDARD
BEGIN:DAYLIGHT
TZOFFSETFROM:+0100
TZOFFSETTO:+0200
TZNAME:CEST
DTSTART:20210328T010000
END:DAYLIGHT
BEGIN:STANDARD
TZOFFSETFROM:+0200
TZOFFSETTO:+0100
TZNAME:CET
DTSTART:20211031T010000
END:STANDARD
BEGIN:DAYLIGHT
TZOFFSETFROM:+0100
TZOFFSETTO:+0200
TZNAME:CEST
DTSTART:20220327T010000
END:DAYLIGHT
BEGIN:STANDARD
TZOFFSETFROM:+0200
TZOFFSETTO:+0100
TZNAME:CET
DTSTART:20221030T010000
END:STANDARD
END:VTIMEZONE
BEGIN:VEVENT
DTSTART;TZID=Europe/Rome:20210226T203000
DTEND;TZID=Europe/Rome:20210226T203000
DTSTAMP:20260424T221229
CREATED:20201216T015109Z
LAST-MODIFIED:20230117T162809Z
UID:21615-1614371400-1614371400@avisemiliaromagna.it
SUMMARY:Assemblea 2021 Grizzana
DESCRIPTION:L’Avis di  Grizzana Morandi invita tutti i suoi soci a partecipare all’Assemblea che si terrà venerdì 26 febbraio 2021 in I° convocazione alle ore 20.00 e in II° convocazione* alle ore 20.30 presso la Sede Avis in via Ca’ di Lagaro\, 42 – Pian di Setta\, Grizzana Morandi. \nORDINE DEL GIORNO:\n1) Presentazione\, discussione ed approvazione della relazione sull’attività svolta e del bilancio consuntivo 2020\, nonché delle linee di indirizzo per il futuro;\n2) Presentazione e ratifica del preventivo finanziario 2021;\n3) Elezione delle cariche sociali per il quadriennio 2021-2024;\n4) Nomina dei delegati all’Assemblea provinciale;\n*La seconda convocazione sarà valida con qualunque numero di presenti. \nSaranno d’obbligo mascherine e distanziamento sociale. 
URL:https://avisemiliaromagna.it/evento/assemblea-2021-grizzana/
CATEGORIES:Eventi provinciali e comunali
END:VEVENT
BEGIN:VEVENT
DTSTART;TZID=Europe/Rome:20210226T210000
DTEND;TZID=Europe/Rome:20210226T210000
DTSTAMP:20260424T221229
CREATED:20201216T015110Z
LAST-MODIFIED:20230117T162809Z
UID:21617-1614373200-1614373200@avisemiliaromagna.it
SUMMARY:Assemblea 2021 Lizzano in Belvedere
DESCRIPTION:L’Avis di Lizzano in Belvedere invita tutti i suoi soci a partecipare all’Assemblea che si terrà Venerdì 26 Febbraio 2021 in I° convocazione alle ore 20\,30 e in II° convocazione* alle ore 21\,00\, presso la Sede Avis in via della Pieve\, 2 a Lizzano in Belvedere.  \nORDINE DEL GIORNO:\n1) Presentazione\, discussione ed approvazione della relazione sull’attività svolta e del bilancio consuntivo 2020\, nonché delle linee di indirizzo per il futuro;\n2) Presentazione e ratifica del preventivo finanziario 2021;\n3) Elezione delle cariche sociali per il quadriennio 2021-2024;\n4) Nomina dei delegati all’Assemblea provinciale;\nSaranno d’obbligo mascherina e distanziamento sociale.\n*La seconda convocazione sarà valida con qualunque numero di presenti.  
URL:https://avisemiliaromagna.it/evento/assemblea-2021-lizzano-in-belvedere/
CATEGORIES:Eventi provinciali e comunali
END:VEVENT
END:VCALENDAR