BEGIN:VCALENDAR
VERSION:2.0
PRODID:-//AVIS Regionale Emilia-Romagna - ECPv6.15.13//NONSGML v1.0//EN
CALSCALE:GREGORIAN
METHOD:PUBLISH
X-ORIGINAL-URL:https://avisemiliaromagna.it
X-WR-CALDESC:Eventi per AVIS Regionale Emilia-Romagna
REFRESH-INTERVAL;VALUE=DURATION:PT1H
X-Robots-Tag:noindex
X-PUBLISHED-TTL:PT1H
BEGIN:VTIMEZONE
TZID:Europe/Rome
BEGIN:DAYLIGHT
TZOFFSETFROM:+0100
TZOFFSETTO:+0200
TZNAME:CEST
DTSTART:20200329T010000
END:DAYLIGHT
BEGIN:STANDARD
TZOFFSETFROM:+0200
TZOFFSETTO:+0100
TZNAME:CET
DTSTART:20201025T010000
END:STANDARD
BEGIN:DAYLIGHT
TZOFFSETFROM:+0100
TZOFFSETTO:+0200
TZNAME:CEST
DTSTART:20210328T010000
END:DAYLIGHT
BEGIN:STANDARD
TZOFFSETFROM:+0200
TZOFFSETTO:+0100
TZNAME:CET
DTSTART:20211031T010000
END:STANDARD
BEGIN:DAYLIGHT
TZOFFSETFROM:+0100
TZOFFSETTO:+0200
TZNAME:CEST
DTSTART:20220327T010000
END:DAYLIGHT
BEGIN:STANDARD
TZOFFSETFROM:+0200
TZOFFSETTO:+0100
TZNAME:CET
DTSTART:20221030T010000
END:STANDARD
END:VTIMEZONE
BEGIN:VEVENT
DTSTART;TZID=Europe/Rome:20210117T100000
DTEND;TZID=Europe/Rome:20210117T120000
DTSTAMP:20260425T043728
CREATED:20210112T015817Z
LAST-MODIFIED:20230117T162811Z
UID:21828-1610877600-1610884800@avisemiliaromagna.it
SUMMARY:Befanone Sala Bolognese
DESCRIPTION:L’Avis Comunale di Sala Bolognese\, come ogni anno organizza l’iniziativa del Befanone Avis rivolta ai figli dei soci. Pertanto\, i soci donatori che hanno figli nati nel periodo compreso tra il 1° gennaio 2012 e il 31 dicembre 2017\, possono partecipare iscrivendosi per ricevere il dono della Befana.\nL’appuntamento con la consegna dei pacchi-dono è per Domenica 17 gennaio 2021 dalle ore 10\,00 alle ore 12\,00 presso l’atrio della Casa della Cultura\, piazza Marconi 5 a Padulle (dietro al Municipio). \nContrariamente a quanto segnalato nella comunicazione cartacea inviata ai soci\, gli interessati dovranno provvedere entro il 6 gennaio 2021 (invece che il 31 dicembre 2020)\, telefonando al sig. Mondo Formigoni (3473362131) o inviando una mail a mondo.formigoni@libero.it .\nOnde evitare spiacevoli equivoci e per evitare assembramenti\, è necessario attenersi alle suddette indicazioni\, poiché chi non si prenoterà non potrà ricevere il pacco-dono.
URL:https://avisemiliaromagna.it/evento/befanone-sala-bolognese/
CATEGORIES:Eventi provinciali e comunali
END:VEVENT
END:VCALENDAR