BEGIN:VCALENDAR
VERSION:2.0
PRODID:-//AVIS Regionale Emilia-Romagna - ECPv6.15.13//NONSGML v1.0//EN
CALSCALE:GREGORIAN
METHOD:PUBLISH
X-ORIGINAL-URL:https://avisemiliaromagna.it
X-WR-CALDESC:Eventi per AVIS Regionale Emilia-Romagna
REFRESH-INTERVAL;VALUE=DURATION:PT1H
X-Robots-Tag:noindex
X-PUBLISHED-TTL:PT1H
BEGIN:VTIMEZONE
TZID:Europe/Rome
BEGIN:DAYLIGHT
TZOFFSETFROM:+0100
TZOFFSETTO:+0200
TZNAME:CEST
DTSTART:20190331T010000
END:DAYLIGHT
BEGIN:STANDARD
TZOFFSETFROM:+0200
TZOFFSETTO:+0100
TZNAME:CET
DTSTART:20191027T010000
END:STANDARD
BEGIN:DAYLIGHT
TZOFFSETFROM:+0100
TZOFFSETTO:+0200
TZNAME:CEST
DTSTART:20200329T010000
END:DAYLIGHT
BEGIN:STANDARD
TZOFFSETFROM:+0200
TZOFFSETTO:+0100
TZNAME:CET
DTSTART:20201025T010000
END:STANDARD
BEGIN:DAYLIGHT
TZOFFSETFROM:+0100
TZOFFSETTO:+0200
TZNAME:CEST
DTSTART:20210328T010000
END:DAYLIGHT
BEGIN:STANDARD
TZOFFSETFROM:+0200
TZOFFSETTO:+0100
TZNAME:CET
DTSTART:20211031T010000
END:STANDARD
END:VTIMEZONE
BEGIN:VEVENT
DTSTART;TZID=Europe/Rome:20201025T100000
DTEND;TZID=Europe/Rome:20201025T180000
DTSTAMP:20260425T214557
CREATED:20201013T154127Z
LAST-MODIFIED:20230117T162811Z
UID:20845-1603620000-1603648800@avisemiliaromagna.it
SUMMARY:EVENTO RIMANDATO – Premiazioni Avis Marzabotto
DESCRIPTION:Domenica 25 Ottobre 2020 dalle ore 10.00 alle ore 18.00 l’Avis Comunale di Marzabotto sarà presente con un gazebo nella Piazza davanti al Comune per consegnare le Premiazioni ai Soci benemeriti.\nI donatori premiati riceveranno comunicazione dedicata. Per maggiori informazioni è possibile contattare il Presidente Andrea Marangon al numero 3775499752. \nIn quell’occasione verrà anche allestita una mostra fotografica del Giro d’Italia in bicicletta\, l’iniziativa di Fabio e Moreno\, i due ciclisti dell’Avis Comunale di Marzabotto che\, in 25 giorni hanno percorso 3000 km per fare il giro dell’Italia sulla catena appenninica! Il loro\, partito come un viaggio da ciclo amatori\, è diventato un viaggio alla scoperta delle Avis comunali sparse in tutta Italia cercando di diffondere la passione e l’impegno in Avis. 
URL:https://avisemiliaromagna.it/evento/premiazioni-avis-marzabotto/
CATEGORIES:Eventi provinciali e comunali
END:VEVENT
END:VCALENDAR