BEGIN:VCALENDAR
VERSION:2.0
PRODID:-//AVIS Regionale Emilia-Romagna - ECPv6.15.13//NONSGML v1.0//EN
CALSCALE:GREGORIAN
METHOD:PUBLISH
X-ORIGINAL-URL:https://avisemiliaromagna.it
X-WR-CALDESC:Eventi per AVIS Regionale Emilia-Romagna
REFRESH-INTERVAL;VALUE=DURATION:PT1H
X-Robots-Tag:noindex
X-PUBLISHED-TTL:PT1H
BEGIN:VTIMEZONE
TZID:Europe/Rome
BEGIN:DAYLIGHT
TZOFFSETFROM:+0100
TZOFFSETTO:+0200
TZNAME:CEST
DTSTART:20190331T010000
END:DAYLIGHT
BEGIN:STANDARD
TZOFFSETFROM:+0200
TZOFFSETTO:+0100
TZNAME:CET
DTSTART:20191027T010000
END:STANDARD
BEGIN:DAYLIGHT
TZOFFSETFROM:+0100
TZOFFSETTO:+0200
TZNAME:CEST
DTSTART:20200329T010000
END:DAYLIGHT
BEGIN:STANDARD
TZOFFSETFROM:+0200
TZOFFSETTO:+0100
TZNAME:CET
DTSTART:20201025T010000
END:STANDARD
BEGIN:DAYLIGHT
TZOFFSETFROM:+0100
TZOFFSETTO:+0200
TZNAME:CEST
DTSTART:20210328T010000
END:DAYLIGHT
BEGIN:STANDARD
TZOFFSETFROM:+0200
TZOFFSETTO:+0100
TZNAME:CET
DTSTART:20211031T010000
END:STANDARD
END:VTIMEZONE
BEGIN:VEVENT
DTSTART;VALUE=DATE:20201014
DTEND;VALUE=DATE:20201019
DTSTAMP:20260425T192314
CREATED:20200817T112904Z
LAST-MODIFIED:20230117T162812Z
UID:20305-1602633600-1603065599@avisemiliaromagna.it
SUMMARY:Sicilia – Isole Eolie 14-18 ottobre 2020 – AVIS Bellaria-Igea M. – AVIS Verucchio
DESCRIPTION:Programma AVIS Sicilia 2020 in versione da stampare
URL:https://avisemiliaromagna.it/evento/sicilia-isole-eolie-14-18-ottobre-2020-avis-bellaria-igea-m-avis-verucchio/
CATEGORIES:Eventi provinciali e comunali
END:VEVENT
END:VCALENDAR