BEGIN:VCALENDAR
VERSION:2.0
PRODID:-//AVIS Regionale Emilia-Romagna - ECPv6.15.13//NONSGML v1.0//EN
CALSCALE:GREGORIAN
METHOD:PUBLISH
X-ORIGINAL-URL:https://avisemiliaromagna.it
X-WR-CALDESC:Eventi per AVIS Regionale Emilia-Romagna
REFRESH-INTERVAL;VALUE=DURATION:PT1H
X-Robots-Tag:noindex
X-PUBLISHED-TTL:PT1H
BEGIN:VTIMEZONE
TZID:Europe/Rome
BEGIN:DAYLIGHT
TZOFFSETFROM:+0100
TZOFFSETTO:+0200
TZNAME:CEST
DTSTART:20190331T010000
END:DAYLIGHT
BEGIN:STANDARD
TZOFFSETFROM:+0200
TZOFFSETTO:+0100
TZNAME:CET
DTSTART:20191027T010000
END:STANDARD
BEGIN:DAYLIGHT
TZOFFSETFROM:+0100
TZOFFSETTO:+0200
TZNAME:CEST
DTSTART:20200329T010000
END:DAYLIGHT
BEGIN:STANDARD
TZOFFSETFROM:+0200
TZOFFSETTO:+0100
TZNAME:CET
DTSTART:20201025T010000
END:STANDARD
BEGIN:DAYLIGHT
TZOFFSETFROM:+0100
TZOFFSETTO:+0200
TZNAME:CEST
DTSTART:20210328T010000
END:DAYLIGHT
BEGIN:STANDARD
TZOFFSETFROM:+0200
TZOFFSETTO:+0100
TZNAME:CET
DTSTART:20211031T010000
END:STANDARD
END:VTIMEZONE
BEGIN:VEVENT
DTSTART;TZID=Europe/Rome:20201011T093000
DTEND;TZID=Europe/Rome:20201011T133000
DTSTAMP:20260425T192313
CREATED:20201008T144058Z
LAST-MODIFIED:20230117T162813Z
UID:20801-1602408600-1602423000@avisemiliaromagna.it
SUMMARY:Reggiolo\, 2ª edizione di “Rosa per Tutti”
DESCRIPTION:Domenica 11 ottobre torna la camminata benefica di 6\,5 km\nVi aspettiamo numerosi domenica 11 ottobre alla seconda edizione di Rosa per Tutti\, camminata di beneficenza il cui ricavato andrà al reparto oncologico dell’ospedale di Guastalla.\nPotrai acquistare una maglietta presso i negozi del paese o direttamente in piazza martiri prima della partenza. \nRitrovo ore 10.30 in piazza Martiri a Reggiolo.A seguire gnocco fritto dell’associazione AVIS di Reggiolo \nTutti i dettagli nella locandina \n 
URL:https://avisemiliaromagna.it/evento/reggiolo-2a-edizione-di-rosa-per-tutti/
CATEGORIES:Eventi provinciali e comunali
ATTACH;FMTTYPE=image/jpeg:https://avisemiliaromagna.it/wp-content/uploads/2020/10/Reggiolo777home-fmhFDC.tmp_.jpg
END:VEVENT
BEGIN:VEVENT
DTSTART;TZID=Europe/Rome:20201011T110000
DTEND;TZID=Europe/Rome:20201011T110000
DTSTAMP:20260425T192313
CREATED:20201001T152649Z
LAST-MODIFIED:20230117T162813Z
UID:20738-1602414000-1602414000@avisemiliaromagna.it
SUMMARY:Premiazioni Avis Granarolo dell’Emilia
DESCRIPTION:Domenica 11 Ottobre 2020 alle ore 11.00 l’Avis di Granarolo dell’Emilia organizza un evento riservato ai propri soci donatori per ringraziarli del loro impegno costante alla donazione. L’iniziativa si svolgerà presso la Sala polivalente della Biblioteca comunale\, in via San Donato\, 74 a Granarolo. Per l’occasione verranno premiati i Soci che hanno maturato la benemerenza associativa\, che riceveranno comunicazione cartacea dedicata.\nSaranno  presenti le autorità cittadine e si concluderà la giornata con un “Aperi-cena” presso la Trattoria “da Zia Allari”\, a cui sono invitati anche parenti e amici dei donatori premiati.\nPer informazioni è possibile telefonare ai seguenti numeri:\n327 3131937 (sig Biagio – Presidente)\ne/o 346 3107745 ( sig. Maurizio – Segretario).\n 
URL:https://avisemiliaromagna.it/evento/premiazioni-avis-granarolo-dellemilia/
CATEGORIES:Eventi provinciali e comunali
END:VEVENT
END:VCALENDAR